Workbook

Sheet Philippines_Total_YOY
A1: Philippines Remittances - Year over Year (Official Baseline)
A2: Indicator: Personal remittances, received (current US$). 2009-2024 from World Bank WDI; 2025 uses WDI-like estimate based on BSP-reported +3.3% personal remittance growth.
A4: Country Name | B4: Country Code | C4: Indicator Name | D4: 2009 | E4: 2010 | F4: 2011 | G4: 2012 | H4: 2013 | I4: 2014 | J4: 2015 | K4: 2016 | L4: 2017 | M4: 2018 | N4: 2019 | O4: 2020 | P4: 2021 | Q4: 2022 | R4: 2023 | S4: 2024 | T4: 2025
A5: Philippines | B5: PHL | C5: Personal remittances, received (current US$) | D5: 1.9959508e+10 | E5: 2.1556634e+10 | F5: 2.3053626e+10 | G5: 2.460968e+10 | H5: 2.671684e+10 | I5: 2.8690798e+10 | J5: 2.9799396e+10 | K5: 3.1141973e+10 | L5: 3.280977e+10 | M5: 3.3808968e+10 | N5: 3.5167472e+10 | O5: 3.4882845e+10 | P5: 3.6685313e+10 | Q5: 3.8048724e+10 | R5: 3.909689e+10 | S5: 4.0279406e+10 | T5: 4.1608626e+10
A6: YoY Growth % | C6: Annual growth vs prior year | E6: =E5/D5-1 | F6: =F5/E5-1 | G6: =G5/F5-1 | H6: =H5/G5-1 | I6: =I5/H5-1 | J6: =J5/I5-1 | K6: =K5/J5-1 | L6: =L5/K5-1 | ... T6: =T5/S5-1
A7: Source Basis | C7: Data source by year | D7: World Bank WDI | E7: World Bank WDI | F7: World Bank WDI | G7: World Bank WDI | H7: World Bank WDI | I7: World Bank WDI | J7: World Bank WDI | K7: World Bank WDI | L7: World Bank WDI | M7: World Bank WDI | N7: World Bank WDI | O7: World Bank WDI | P7: World Bank WDI | Q7: World Bank WDI | R7: World Bank WDI | S7: World Bank WDI | T7: WDI-like estimate using BSP +3.3% personal remittance growth
A9: 2025 Philippines official anchors | D9: BSP 2025 personal remittances | E9: 39619000000 | F9: BSP 2025 cash remittances | G9: 35633784000 | H9: Model 2025 WDI-like value | I9: 4.1608626e+10 | J9: Note: source-country shares are from BSP cash remittances Table 11 and are applied as allocation proxy to personal-remittance TAM.
A12: Source Register
A13: Type | B13: Source / Evidence | C13: Link / Reference | D13: Usage | E13: Confidence | F13: Limitation / Treatment
A14: Official Philippines totals | B14: World Bank WDI - Personal remittances, received (current US$), indicator BX.TRF.PWKR.CD.DT | C14: https://api.worldbank.org/v2/country/PHL/indicator/BX.TRF.PWKR.CD.DT?format=json&per_page=100&date=2009:2025 | D14: Primary annual USD baseline for 2009-2024 | E14: High | F14: World Bank WDI 2025 value is not populated at build date.
A15: 2025 official growth anchor | B15: BSP / public full-year 2025 remittance release reporting personal remittances of USD 39.619bn and +3.3% annual growth | C15: https://www.bworldonline.com/top-stories/2026/02/16/730762/ofw-remittances-soar-to-all-time-high-35-63-billion-in-2025/ | D15: Used to estimate 2025 WDI-like value by applying BSP growth to 2024 WDI | E15: Medium-High | F15: BSP personal remittance level and WDI level differ; model uses growth-rate bridge.
A16: Country split anchor | B16: BSP Table 11 - Overseas Filipino Cash Remittances by Country | C16: https://www.bsp.gov.ph/statistics/external/Table%2011.pdf | D16: Primary country-flow allocation for 2023-2025 source-country shares | E16: High | F16: Country shares are cash-remittance basis, applied as proxy to personal-remittance TAM.
A17: Country-flow allocation method | B17: Workbook tabs Corridor_Evidence and Reconciled_Country_Flows | C17: Internal workbook tabs | D17: Allocates annual totals across source countries and reconciles each year to Philippines_Total_YOY | E17: Model-derived | F17: Country-level values are estimates on personal-remittance basis unless directly disclosed.

Sheet Country_Flows_2020_2025
A1: Philippines Remittance Inflows by Source Country - 2020 to 2025
A2: Disclosure-weighted allocation model reconciled to Philippines_Total_YOY annual totals using BSP Table 11 country cash-remittance shares as official allocation proxy.
A4: Source Country | B4: ISO3 | C4: Confidence Tier | D4: Allocation Share 2025 | E4: 2020 (US$) | F4: 2021 (US$) | G4: 2022 (US$) | H4: 2023 (US$) | I4: 2024 (US$) | J4: 2025 (US$) | K4: Method / Evidence Note
A5: Annual Total Control | B5: PHL | C5: Control | D5: =SUM(D7:D35) | E5: =Philippines_Total_YOY!O5 | F5: =Philippines_Total_YOY!P5 | G5: =Philippines_Total_YOY!Q5 | H5: =Philippines_Total_YOY!R5 | I5: =Philippines_Total_YOY!S5 | J5: =Philippines_Total_YOY!T5 | K5: Control row: official/provisional annual Philippines total from Philippines_Total_YOY.
A7: United States of America | B7: USA | C7: A | D7: =Reconciled_Country_Flows!M5 | E7: =Reconciled_Country_Flows!D5 | F7: =Reconciled_Country_Flows!F5 | G7: =Reconciled_Country_Flows!H5 | H7: =Reconciled_Country_Flows!J5 | I7: =Reconciled_Country_Flows!L5 | J7: =Reconciled_Country_Flows!N5 | K7: Largest BSP-reported source; note US correspondent bank routing caveat
A8: Singapore | B8: SGP | C8: A | D8: =Reconciled_Country_Flows!M6 | E8: =Reconciled_Country_Flows!D6 | F8: =Reconciled_Country_Flows!F6 | G8: =Reconciled_Country_Flows!H6 | H8: =Reconciled_Country_Flows!J6 | I8: =Reconciled_Country_Flows!L6 | J8: =Reconciled_Country_Flows!N6 | K8: Second-largest source in 2025; high digital/correspondent relevance
A9: Saudi Arabia | B9: SAU | C9: A | D9: =Reconciled_Country_Flows!M7 | E9: =Reconciled_Country_Flows!D7 | F9: =Reconciled_Country_Flows!F7 | G9: =Reconciled_Country_Flows!H7 | H9: =Reconciled_Country_Flows!J7 | I9: =Reconciled_Country_Flows!L7 | J9: =Reconciled_Country_Flows!N7 | K9: Core OFW labour corridor
A10: Japan | B10: JPN | C10: A | D10: =Reconciled_Country_Flows!M8 | E10: =Reconciled_Country_Flows!D8 | F10: =Reconciled_Country_Flows!F8 | G10: =Reconciled_Country_Flows!H8 | H10: =Reconciled_Country_Flows!J8 | I10: =Reconciled_Country_Flows!L8 | J10: =Reconciled_Country_Flows!N8 | K10: Major Asian source corridor
A11: United Kingdom | B11: GBR | C11: A | D11: =Reconciled_Country_Flows!M9 | E11: =Reconciled_Country_Flows!D9 | F11: =Reconciled_Country_Flows!F9 | G11: =Reconciled_Country_Flows!H9 | H11: =Reconciled_Country_Flows!J9 | I11: =Reconciled_Country_Flows!L9 | J11: =Reconciled_Country_Flows!N9 | K11: Major European source; professional/seafarer route relevance
A12: United Arab Emirates | B12: ARE | C12: A | D12: =Reconciled_Country_Flows!M10 | E12: =Reconciled_Country_Flows!D10 | F12: =Reconciled_Country_Flows!F10 | G12: =Reconciled_Country_Flows!H10 | H12: =Reconciled_Country_Flows!J10 | I12: =Reconciled_Country_Flows!L10 | J12: =Reconciled_Country_Flows!N10 | K12: Major GCC corridor
A13: Canada | B13: CAN | C13: A | D13: =Reconciled_Country_Flows!M11 | E13: =Reconciled_Country_Flows!D11 | F13: =Reconciled_Country_Flows!F11 | G13: =Reconciled_Country_Flows!H11 | H13: =Reconciled_Country_Flows!J11 | I13: =Reconciled_Country_Flows!L11 | J13: =Reconciled_Country_Flows!N11 | K13: Large North American diaspora corridor
A14: Qatar | B14: QAT | C14: A | D14: =Reconciled_Country_Flows!M12 | E14: =Reconciled_Country_Flows!D12 | F14: =Reconciled_Country_Flows!F12 | G14: =Reconciled_Country_Flows!H12 | H14: =Reconciled_Country_Flows!J12 | I14: =Reconciled_Country_Flows!L12 | J14: =Reconciled_Country_Flows!N12 | K14: Core GCC corridor
A15: Taiwan, Republic of China | B15: TWN | C15: B | D15: =Reconciled_Country_Flows!M13 | E15: =Reconciled_Country_Flows!D13 | F15: =Reconciled_Country_Flows!F13 | G15: =Reconciled_Country_Flows!H13 | H15: =Reconciled_Country_Flows!J13 | I15: =Reconciled_Country_Flows!L13 | J15: =Reconciled_Country_Flows!N13 | K15: Manufacturing/workforce and family-support corridor
A16: Hong Kong, SAR China | B16: HKG | C16: B | D16: =Reconciled_Country_Flows!M14 | E16: =Reconciled_Country_Flows!D14 | F16: =Reconciled_Country_Flows!F14 | G16: =Reconciled_Country_Flows!H14 | H16: =Reconciled_Country_Flows!J14 | I16: =Reconciled_Country_Flows!L14 | J16: =Reconciled_Country_Flows!N14 | K16: Domestic worker / services corridor
A17: Korea (South) | B17: KOR | C17: B | D17: =Reconciled_Country_Flows!M15 | E17: =Reconciled_Country_Flows!D15 | F17: =Reconciled_Country_Flows!F15 | G17: =Reconciled_Country_Flows!H15 | H17: =Reconciled_Country_Flows!J15 | I17: =Reconciled_Country_Flows!L15 | J17: =Reconciled_Country_Flows!N15 | K17: Advanced Asia corridor
A18: Malaysia | B18: MYS | C18: B | D18: =Reconciled_Country_Flows!M16 | E18: =Reconciled_Country_Flows!D16 | F18: =Reconciled_Country_Flows!F16 | G18: =Reconciled_Country_Flows!H16 | H18: =Reconciled_Country_Flows!J16 | I18: =Reconciled_Country_Flows!L16 | J18: =Reconciled_Country_Flows!N16 | K18: ASEAN labour/services corridor
... A35: Other Countries | B35: OTH | C35: C | D35: =Reconciled_Country_Flows!M33 | E35: =Reconciled_Country_Flows!D33 | F35: =Reconciled_Country_Flows!F33 | G35: =Reconciled_Country_Flows!H33 | H35: =Reconciled_Country_Flows!J33 | I35: =Reconciled_Country_Flows!L33 | J35: =Reconciled_Country_Flows!N33 | K35: Residual after named disclosed countries; includes small Europe, Asia, Africa and unspecified routing

Sheet Sources_Method
A1: Philippines Remittance Model - Sources & Method
A2: Evidence register and methodology notes for Philippines remittance total, country-flow allocation, and future projection/model tabs.
A4: Category | B4: Source | C4: Link / Reference | D4: Usage in Workbook | E4: Confidence | F4: Key Limitation / Treatment
A5: Official Philippines totals | B5: World Bank WDI - Personal remittances, received (current US$), indicator BX.TRF.PWKR.CD.DT | C5: https://api.worldbank.org/v2/country/PHL/indicator/BX.TRF.PWKR.CD.DT?format=json&per_page=100&date=2009:2025 | D5: Primary annual USD baseline for Philippines_Total_YOY from 2009-2024. | E5: High | F5: World Bank Philippines 2025 value is not yet populated; 2025 is handled separately.
A6: 2025 personal-remittance growth anchor | B6: BSP 2025 full-year remittance releases / public reporting | C6: https://www.bworldonline.com/top-stories/2026/02/16/730762/ofw-remittances-soar-to-all-time-high-35-63-billion-in-2025/ | D6: Applies BSP-reported +3.3% personal-remittance growth to 2024 WDI to estimate WDI-like 2025 total. | E6: Medium-High | F6: BSP and WDI absolute levels differ; growth-rate bridge is disclosed.
A7: Country split anchor | B7: BSP Table 11 - Overseas Filipino Cash Remittances by Country | C7: https://www.bsp.gov.ph/statistics/external/Table%2011.pdf | D7: Anchors source-country shares for 2023, 2024 and 2025. | E7: High | F7: BSP Table 11 is cash-remittance basis, not personal-remittance basis.
A8: Country-flow allocation method | B8: Workbook tabs Country_Flows_2020_2025, Corridor_Evidence and Reconciled_Country_Flows | C8: Internal workbook tabs | D8: Allocates annual totals across source countries and reconciles each year to Philippines_Total_YOY. | E8: Model-derived | F8: Country-level values are estimates unless directly disclosed; confidence tiers identify precision level.
A9: Projection method | B9: Workbook tabs Proj_Assumptions_26_31 and Total_Projection_26_31 | C9: Internal workbook tabs | D9: Builds low/base/high projected totals from the 2025 provisional baseline. | E9: Model-derived | F9: Not a BSP/World Bank forecast; investor scenario planning only.

Sheet Country_Scenarios_2020_2025
A1: Philippines Country Flow Scenarios - 2020 to 2025
A2: Downside/base/upside scenario bands around estimated country-flow allocations. Base case links to Country_Flows_2020_2025; bands vary by confidence tier.
A4: Source Country | B4: ISO3 | C4: Confidence Tier | D4: Band % | E4: Scenario | F4: 2020 (US$) | G4: 2021 (US$) | H4: 2022 (US$) | I4: 2023 (US$) | J4: 2024 (US$) | K4: 2025 (US$) | L4: Method / Interpretation
A5: United States of America | B5: USA | C5: A | D5: 0.1 | E5: Downside | F5: =Country_Flows_2020_2025!E7*0.9 | G5: =Country_Flows_2020_2025!F7*0.9 | H5: =Country_Flows_2020_2025!G7*0.9 | I5: =Country_Flows_2020_2025!H7*0.9 | J5: =Country_Flows_2020_2025!I7*0.9 | K5: =Country_Flows_2020_2025!J7*0.9 | L5: Lower allocation / corridor underperformance. Largest BSP-reported source; note US correspondent bank routing caveat
A6: United States of America | B6: USA | C6: A | D6: 0.1 | E6: Base | F6: =Country_Flows_2020_2025!E7*1 | G6: =Country_Flows_2020_2025!F7*1 | H6: =Country_Flows_2020_2025!G7*1 | I6: =Country_Flows_2020_2025!H7*1 | J6: =Country_Flows_2020_2025!I7*1 | K6: =Country_Flows_2020_2025!J7*1 | L6: Base allocation from Country_Flows_2020_2025. Largest BSP-reported source; note US correspondent bank routing caveat
A7: United States of America | B7: USA | C7: A | D7: 0.1 | E7: Upside | F7: =Country_Flows_2020_2025!E7*1.1 | G7: =Country_Flows_2020_2025!F7*1.1 | H7: =Country_Flows_2020_2025!G7*1.1 | I7: =Country_Flows_2020_2025!H7*1.1 | J7: =Country_Flows_2020_2025!I7*1.1 | K7: =Country_Flows_2020_2025!J7*1.1 | L7: Higher allocation / stronger corridor monetisation. Largest BSP-reported source; note US correspondent bank routing caveat
A8: Singapore | B8: SGP | C8: A | D8: 0.1 | E8: Downside | F8: =Country_Flows_2020_2025!E8*0.9 | G8: =Country_Flows_2020_2025!F8*0.9 | H8: =Country_Flows_2020_2025!G8*0.9 | I8: =Country_Flows_2020_2025!H8*0.9 | J8: =Country_Flows_2020_2025!I8*0.9 | K8: =Country_Flows_2020_2025!J8*0.9 | L8: Lower allocation / corridor underperformance. Second-largest source in 2025; high digital/correspondent relevance
A9: Singapore | B9: SGP | C9: A | D9: 0.1 | E9: Base | F9: =Country_Flows_2020_2025!E8*1 | G9: =Country_Flows_2020_2025!F8*1 | H9: =Country_Flows_2020_2025!G8*1 | I9: =Country_Flows_2020_2025!H8*1 | J9: =Country_Flows_2020_2025!I8*1 | K9: =Country_Flows_2020_2025!J8*1 | L9: Base allocation from Country_Flows_2020_2025. Second-largest source in 2025; high digital/correspondent relevance
A10: Singapore | B10: SGP | C10: A | D10: 0.1 | E10: Upside | F10: =Country_Flows_2020_2025!E8*1.1 | G10: =Country_Flows_2020_2025!F8*1.1 | H10: =Country_Flows_2020_2025!G8*1.1 | I10: =Country_Flows_2020_2025!H8*1.1 | J10: =Country_Flows_2020_2025!I8*1.1 | K10: =Country_Flows_2020_2025!J8*1.1 | L10: Higher allocation / stronger corridor monetisation. Second-largest source in 2025; high digital/correspondent relevance
A11: Saudi Arabia | B11: SAU | C11: A | D11: 0.1 | E11: Downside | F11: =Country_Flows_2020_2025!E9*0.9 | G11: =Country_Flows_2020_2025!F9*0.9 | H11: =Country_Flows_2020_2025!G9*0.9 | I11: =Country_Flows_2020_2025!H9*0.9 | J11: =Country_Flows_2020_2025!I9*0.9 | K11: =Country_Flows_2020_2025!J9*0.9 | L11: Lower allocation / corridor underperformance. Core OFW labour corridor
A12: Saudi Arabia | B12: SAU | C12: A | D12: 0.1 | E12: Base | F12: =Country_Flows_2020_2025!E9*1 | G12: =Country_Flows_2020_2025!F9*1 | H12: =Country_Flows_2020_2025!G9*1 | I12: =Country_Flows_2020_2025!H9*1 | J12: =Country_Flows_2020_2025!I9*1 | K12: =Country_Flows_2020_2025!J9*1 | L12: Base allocation from Country_Flows_2020_2025. Core OFW labour corridor
A13: Saudi Arabia | B13: SAU | C13: A | D13: 0.1 | E13: Upside | F13: =Country_Flows_2020_2025!E9*1.1 | G13: =Country_Flows_2020_2025!F9*1.1 | H13: =Country_Flows_2020_2025!G9*1.1 | I13: =Country_Flows_2020_2025!H9*1.1 | J13: =Country_Flows_2020_2025!I9*1.1 | K13: =Country_Flows_2020_2025!J9*1.1 | L13: Higher allocation / stronger corridor monetisation. Core OFW labour corridor
A14: Japan | B14: JPN | C14: A | D14: 0.1 | E14: Downside | F14: =Country_Flows_2020_2025!E10*0.9 | G14: =Country_Flows_2020_2025!F10*0.9 | H14: =Country_Flows_2020_2025!G10*0.9 | I14: =Country_Flows_2020_2025!H10*0.9 | J14: =Country_Flows_2020_2025!I10*0.9 | K14: =Country_Flows_2020_2025!J10*0.9 | L14: Lower allocation / corridor underperformance. Major Asian source corridor
A15: Japan | B15: JPN | C15: A | D15: 0.1 | E15: Base | F15: =Country_Flows_2020_2025!E10*1 | G15: =Country_Flows_2020_2025!F10*1 | H15: =Country_Flows_2020_2025!G10*1 | I15: =Country_Flows_2020_2025!H10*1 | J15: =Country_Flows_2020_2025!I10*1 | K15: =Country_Flows_2020_2025!J10*1 | L15: Base allocation from Country_Flows_2020_2025. Major Asian source corridor
A16: Japan | B16: JPN | C16: A | D16: 0.1 | E16: Upside | F16: =Country_Flows_2020_2025!E10*1.1 | G16: =Country_Flows_2020_2025!F10*1.1 | H16: =Country_Flows_2020_2025!G10*1.1 | I16: =Country_Flows_2020_2025!H10*1.1 | J16: =Country_Flows_2020_2025!I10*1.1 | K16: =Country_Flows_2020_2025!J10*1.1 | L16: Higher allocation / stronger corridor monetisation. Major Asian source corridor
A17: United Kingdom | B17: GBR | C17: A | D17: 0.1 | E17: Downside | F17: =Country_Flows_2020_2025!E11*0.9 | G17: =Country_Flows_2020_2025!F11*0.9 | H17: =Country_Flows_2020_2025!G11*0.9 | I17: =Country_Flows_2020_2025!H11*0.9 | J17: =Country_Flows_2020_2025!I11*0.9 | K17: =Country_Flows_2020_2025!J11*0.9 | L17: Lower allocation / corridor underperformance. Major European source; professional/seafarer route relevance
A18: United Kingdom | B18: GBR | C18: A | D18: 0.1 | E18: Base | F18: =Country_Flows_2020_2025!E11*1 | G18: =Country_Flows_2020_2025!F11*1 | H18: =Country_Flows_2020_2025!G11*1 | I18: =Country_Flows_2020_2025!H11*1 | J18: =Country_Flows_2020_2025!I11*1 | K18: =Country_Flows_2020_2025!J11*1 | L18: Base allocation from Country_Flows_2020_2025. Major European source; professional/seafarer route relevance
A19: United Kingdom | B19: GBR | C19: A | D19: 0.1 | E19: Upside | F19: =Country_Flows_2020_2025!E11*1.1 | G19: =Country_Flows_2020_2025!F11*1.1 | H19: =Country_Flows_2020_2025!G11*1.1 | I19: =Country_Flows_2020_2025!H11*1.1 | J19: =Country_Flows_2020_2025!I11*1.1 | K19: =Country_Flows_2020_2025!J11*1.1 | L19: Higher allocation / stronger corridor monetisation. Major European source; professional/seafarer route relevance
A20: United Arab Emirates | B20: ARE | C20: A | D20: 0.1 | E20: Downside | F20: =Country_Flows_2020_2025!E12*0.9 | G20: =Country_Flows_2020_2025!F12*0.9 | H20: =Country_Flows_2020_2025!G12*0.9 | I20: =Country_Flows_2020_2025!H12*0.9 | J20: =Country_Flows_2020_2025!I12*0.9 | K20: =Country_Flows_2020_2025!J12*0.9 | L20: Lower allocation / corridor underperformance. Major GCC corridor
A21: United Arab Emirates | B21: ARE | C21: A | D21: 0.1 | E21: Base | F21: =Country_Flows_2020_2025!E12*1 | G21: =Country_Flows_2020_2025!F12*1 | H21: =Country_Flows_2020_2025!G12*1 | I21: =Country_Flows_2020_2025!H12*1 | J21: =Country_Flows_2020_2025!I12*1 | K21: =Country_Flows_2020_2025!J12*1 | L21: Base allocation from Country_Flows_2020_2025. Major GCC corridor
A22: United Arab Emirates | B22: ARE | C22: A | D22: 0.1 | E22: Upside | F22: =Country_Flows_2020_2025!E12*1.1 | G22: =Country_Flows_2020_2025!F12*1.1 | H22: =Country_Flows_2020_2025!G12*1.1 | I22: =Country_Flows_2020_2025!H12*1.1 | J22: =Country_Flows_2020_2025!I12*1.1 | K22: =Country_Flows_2020_2025!J12*1.1 | L22: Higher allocation / stronger corridor monetisation. Major GCC corridor
A23: Canada | B23: CAN | C23: A | D23: 0.1 | E23: Downside | F23: =Country_Flows_2020_2025!E13*0.9 | G23: =Country_Flows_2020_2025!F13*0.9 | H23: =Country_Flows_2020_2025!G13*0.9 | I23: =Country_Flows_2020_2025!H13*0.9 | J23: =Country_Flows_2020_2025!I13*0.9 | K23: =Country_Flows_2020_2025!J13*0.9 | L23: Lower allocation / corridor underperformance. Large North American diaspora corridor
A24: Canada | B24: CAN | C24: A | D24: 0.1 | E24: Base | F24: =Country_Flows_2020_2025!E13*1 | G24: =Country_Flows_2020_2025!F13*1 | H24: =Country_Flows_2020_2025!G13*1 | I24: =Country_Flows_2020_2025!H13*1 | J24: =Country_Flows_2020_2025!I13*1 | K24: =Country_Flows_2020_2025!J13*1 | L24: Base allocation from Country_Flows_2020_2025. Large North American diaspora corridor
A25: Canada | B25: CAN | C25: A | D25: 0.1 | E25: Upside | F25: =Country_Flows_2020_2025!E13*1.1 | G25: =Country_Flows_2020_2025!F13*1.1 | H25: =Country_Flows_2020_2025!G13*1.1 | I25: =Country_Flows_2020_2025!H13*1.1 | J25: =Country_Flows_2020_2025!I13*1.1 | K25: =Country_Flows_2020_2025!J13*1.1 | L25: Higher allocation / stronger corridor monetisation. Large North American diaspora corridor
A26: Qatar | B26: QAT | C26: A | D26: 0.1 | E26: Downside | F26: =Country_Flows_2020_2025!E14*0.9 | G26: =Country_Flows_2020_2025!F14*0.9 | H26: =Country_Flows_2020_2025!G14*0.9 | I26: =Country_Flows_2020_2025!H14*0.9 | J26: =Country_Flows_2020_2025!I14*0.9 | K26: =Country_Flows_2020_2025!J14*0.9 | L26: Lower allocation / corridor underperformance. Core GCC corridor
A27: Qatar | B27: QAT | C27: A | D27: 0.1 | E27: Base | F27: =Country_Flows_2020_2025!E14*1 | G27: =Country_Flows_2020_2025!F14*1 | H27: =Country_Flows_2020_2025!G14*1 | I27: =Country_Flows_2020_2025!H14*1 | J27: =Country_Flows_2020_2025!I14*1 | K27: =Country_Flows_2020_2025!J14*1 | L27: Base allocation from Country_Flows_2020_2025. Core GCC corridor
A28: Qatar | B28: QAT | C28: A | D28: 0.1 | E28: Upside | F28: =Country_Flows_2020_2025!E14*1.1 | G28: =Country_Flows_2020_2025!F14*1.1 | H28: =Country_Flows_2020_2025!G14*1.1 | I28: =Country_Flows_2020_2025!H14*1.1 | J28: =Country_Flows_2020_2025!I14*1.1 | K28: =Country_Flows_2020_2025!J14*1.1 | L28: Higher allocation / stronger corridor monetisation. Core GCC corridor
A29: Taiwan, Republic of China | B29: TWN | C29: B | D29: 0.18 | E29: Downside | F29: =Country_Flows_2020_2025!E15*0.8200000000000001 | G29: =Country_Flows_2020_2025!F15*0.8200000000000001 | H29: =Country_Flows_2020_2025!G15*0.8200000000000001 | I29: =Country_Flows_2020_2025!H15*0.8200000000000001 | J29: =Country_Flows_2020_2025!I15*0.8200000000000001 | K29: =Country_Flows_2020_2025!J15*0.8200000000000001 | L29: Lower allocation / corridor underperformance. Manufacturing/workforce and family-support corridor
A30: Taiwan, Republic of China | B30: TWN | C30: B | D30: 0.18 | E30: Base | F30: =Country_Flows_2020_2025!E15*1 | G30: =Country_Flows_2020_2025!F15*1 | H30: =Country_Flows_2020_2025!G15*1 | I30: =Country_Flows_2020_2025!H15*1 | J30: =Country_Flows_2020_2025!I15*1 | K30: =Country_Flows_2020_2025!J15*1 | L30: Base allocation from Country_Flows_2020_2025. Manufacturing/workforce and family-support corridor
A31: Taiwan, Republic of China | B31: TWN | C31: B | D31: 0.18 | E31: Upside | F31: =Country_Flows_2020_2025!E15*1.18 | G31: =Country_Flows_2020_2025!F15*1.18 | H31: =Country_Flows_2020_2025!G15*1.18 | I31: =Country_Flows_2020_2025!H15*1.18 | J31: =Country_Flows_2020_2025!I15*1.18 | K31: =Country_Flows_2020_2025!J15*1.18 | L31: Higher allocation / stronger corridor monetisation. Manufacturing/workforce and family-support corridor
A32: Hong Kong, SAR China | B32: HKG | C32: B | D32: 0.18 | E32: Downside | F32: =Country_Flows_2020_2025!E16*0.8200000000000001 | G32: =Country_Flows_2020_2025!F16*0.8200000000000001 | H32: =Country_Flows_2020_2025!G16*0.8200000000000001 | I32: =Country_Flows_2020_2025!H16*0.8200000000000001 | J32: =Country_Flows_2020_2025!I16*0.8200000000000001 | K32: =Country_Flows_2020_2025!J16*0.8200000000000001 | L32: Lower allocation / corridor underperformance. Domestic worker / services corridor
A33: Hong Kong, SAR China | B33: HKG | C33: B | D33: 0.18 | E33: Base | F33: =Country_Flows_2020_2025!E16*1 | G33: =Country_Flows_2020_2025!F16*1 | H33: =Country_Flows_2020_2025!G16*1 | I33: =Country_Flows_2020_2025!H16*1 | J33: =Country_Flows_2020_2025!I16*1 | K33: =Country_Flows_2020_2025!J16*1 | L33: Base allocation from Country_Flows_2020_2025. Domestic worker / services corridor
A34: Hong Kong, SAR China | B34: HKG | C34: B | D34: 0.18 | E34: Upside | F34: =Country_Flows_2020_2025!E16*1.18 | G34: =Country_Flows_2020_2025!F16*1.18 | H34: =Country_Flows_2020_2025!G16*1.18 | I34: =Country_Flows_2020_2025!H16*1.18 | J34: =Country_Flows_2020_2025!I16*1.18 | K34: =Country_Flows_2020_2025!J16*1.18 | L34: Higher allocation / stronger corridor monetisation. Domestic worker / services corridor
A35: Korea (South) | B35: KOR | C35: B | D35: 0.18 | E35: Downside | F35: =Country_Flows_2020_2025!E17*0.8200000000000001 | G35: =Country_Flows_2020_2025!F17*0.8200000000000001 | H35: =Country_Flows_2020_2025!G17*0.8200000000000001 | I35: =Country_Flows_2020_2025!H17*0.8200000000000001 | J35: =Country_Flows_2020_2025!I17*0.8200000000000001 | K35: =Country_Flows_2020_2025!J17*0.8200000000000001 | L35: Lower allocation / corridor underperformance. Advanced Asia corridor
A36: Korea (South) | B36: KOR | C36: B | D36: 0.18 | E36: Base | F36: =Country_Flows_2020_2025!E17*1 | G36: =Country_Flows_2020_2025!F17*1 | H36: =Country_Flows_2020_2025!G17*1 | I36: =Country_Flows_2020_2025!H17*1 | J36: =Country_Flows_2020_2025!I17*1 | K36: =Country_Flows_2020_2025!J17*1 | L36: Base allocation from Country_Flows_2020_2025. Advanced Asia corridor
A37: Korea (South) | B37: KOR | C37: B | D37: 0.18 | E37: Upside | F37: =Country_Flows_2020_2025!E17*1.18 | G37: =Country_Flows_2020_2025!F17*1.18 | H37: =Country_Flows_2020_2025!G17*1.18 | I37: =Country_Flows_2020_2025!H17*1.18 | J37: =Country_Flows_2020_2025!I17*1.18 | K37: =Country_Flows_2020_2025!J17*1.18 | L37: Higher allocation / stronger corridor monetisation. Advanced Asia corridor
A38: Malaysia | B38: MYS | C38: B | D38: 0.18 | E38: Downside | F38: =Country_Flows_2020_2025!E18*0.8200000000000001 | G38: =Country_Flows_2020_2025!F18*0.8200000000000001 | H38: =Country_Flows_2020_2025!G18*0.8200000000000001 | I38: =Country_Flows_2020_2025!H18*0.8200000000000001 | J38: =Country_Flows_2020_2025!I18*0.8200000000000001 | K38: =Country_Flows_2020_2025!J18*0.8200000000000001 | L38: Lower allocation / corridor underperformance. ASEAN labour/services corridor
A39: Malaysia | B39: MYS | C39: B | D39: 0.18 | E39: Base | F39: =Country_Flows_2020_2025!E18*1 | G39: =Country_Flows_2020_2025!F18*1 | H39: =Country_Flows_2020_2025!G18*1 | I39: =Country_Flows_2020_2025!H18*1 | J39: =Country_Flows_2020_2025!I18*1 | K39: =Country_Flows_2020_2025!J18*1 | L39: Base allocation from Country_Flows_2020_2025. ASEAN labour/services corridor
A40: Malaysia | B40: MYS | C40: B | D40: 0.18 | E40: Upside | F40: =Country_Flows_2020_2025!E18*1.18 | G40: =Country_Flows_2020_2025!F18*1.18 | H40: =Country_Flows_2020_2025!G18*1.18 | I40: =Country_Flows_2020_2025!H18*1.18 | J40: =Country_Flows_2020_2025!I18*1.18 | K40: =Country_Flows_2020_2025!J18*1.18 | L40: Higher allocation / stronger corridor monetisation. ASEAN labour/services corridor
A41: Germany | B41: DEU | C41: B | D41: 0.18 | E41: Downside | F41: =Country_Flows_2020_2025!E19*0.8200000000000001 | G41: =Country_Flows_2020_2025!F19*0.8200000000000001 | H41: =Country_Flows_2020_2025!G19*0.8200000000000001 | I41: =Country_Flows_2020_2025!H19*0.8200000000000001 | J41: =Country_Flows_2020_2025!I19*0.8200000000000001 | K41: =Country_Flows_2020_2025!J19*0.8200000000000001 | L41: Lower allocation / corridor underperformance. European professional/labour corridor
...

Sheet Scenario_Summary
A1: Philippines Scenario Summary - 2020 to 2025
A2: Aggregated downside/base/upside view linked to Country_Scenarios_2020_2025. Use this tab as the executive scenario bridge before projections.
A4: Scenario | B4: Band Logic | C4: 2020 (US$) | D4: 2021 (US$) | E4: 2022 (US$) | F4: 2023 (US$) | G4: 2024 (US$) | H4: 2025 (US$) | I4: 2020-2025 CAGR | J4: 2025 Share vs Base | K4: Investor Interpretation
A5: Downside | B5: Tier-adjusted lower corridor allocation: A -10%, B -18%, C -30% | C5: =Country_Scenarios_2020_2025!F92 | D5: =Country_Scenarios_2020_2025!G92 | E5: =Country_Scenarios_2020_2025!H92 | F5: =Country_Scenarios_2020_2025!I92 | G5: =Country_Scenarios_2020_2025!J92 | H5: =Country_Scenarios_2020_2025!K92 | I5: =IF(C5>0,(H5/C5)^(1/5)-1,0) | J5: =H5/H$6 | K5: Lower corridor realization / weaker monetisation case
A6: Base | B6: Country_Flows_2020_2025 allocation reconciled to Philippines annual totals | C6: =Country_Scenarios_2020_2025!F93 | D6: =Country_Scenarios_2020_2025!G93 | E6: =Country_Scenarios_2020_2025!H93 | F6: =Country_Scenarios_2020_2025!I93 | G6: =Country_Scenarios_2020_2025!J93 | H6: =Country_Scenarios_2020_2025!K93 | I6: =IF(C6>0,(H6/C6)^(1/5)-1,0) | J6: =H6/H$6 | K6: Current planning baseline; best for next projection tab
A7: Upside | B7: Tier-adjusted higher corridor allocation: A +10%, B +18%, C +30% | C7: =Country_Scenarios_2020_2025!F94 | D7: =Country_Scenarios_2020_2025!G94 | E7: =Country_Scenarios_2020_2025!H94 | F7: =Country_Scenarios_2020_2025!I94 | G7: =Country_Scenarios_2020_2025!J94 | H7: =Country_Scenarios_2020_2025!K94 | I7: =IF(C7>0,(H7/C7)^(1/5)-1,0) | J7: =H7/H$6 | K7: Stronger corridor capture / higher monetisation case
A10: Interpretation note: The base case reconciles to Philippines annual official/provisional totals. Downside/upside scenarios show allocation and commercial uncertainty bands, not official totals.

Sheet Corridor_Evidence
A1: Philippines Corridor Evidence Score - 2020 to 2025
A2: Evidence-weighted corridor scoring engine. BSP Table 11 2023-2025 country cash-remittance values are converted to shares and reconciled to annual personal-remittance totals.
A4: Source Country | B4: ISO3 | C4: Region Group | D4: Data Status | E4: Primary Reference | F4: Disclosure Notes | G4: Base Evidence Score (0-1000) | H4: 2020 Adj | I4: 2021 Adj | J4: 2022 Adj | K4: 2023 Adj | L4: 2024 Adj | M4: 2025 Adj | N4: 2020 Weighted | O4: 2021 Weighted | P4: 2022 Weighted | Q4: 2023 Weighted | R4: 2024 Weighted | S4: 2025 Weighted
A5: United States of America | B5: USA | C5: Americas Core | D5: Disclosed anchor | E5: BSP Table 11 | F5: Largest BSP-reported source; note US correspondent bank routing caveat | G5: 0.39699601 | H5: 1.0517769 | I5: 1.0414653 | J5: 1.0311538 | K5: 1.0311538 | L5: 1.0234031 | M5: 1 | N5: =G5*H5 | O5: =G5*I5 | P5: =G5*J5 | Q5: =G5*K5 | R5: =G5*L5 | S5: =G5*M5
A6: Singapore | B6: SGP | C6: ASEAN / Asia Core | D6: Disclosed anchor | E6: BSP Table 11 | F6: Second-largest source in 2025; high digital/correspondent relevance | G6: 0.072508774 | H6: 0.93440185 | I6: 0.95386856 | J6: 0.96846859 | K6: 0.97333526 | L6: 0.99217986 | M6: 1 | N6: =G6*H6 | O6: =G6*I6 | P6: =G6*J6 | Q6: =G6*K6 | R6: =G6*L6 | S6: =G6*M6
A7: Saudi Arabia | B7: SAU | C7: Middle East Core | D7: Disclosed anchor | E7: BSP Table 11 | F7: Core OFW labour corridor | G7: 0.065748953 | H7: 0.87007032 | I7: 0.89813711 | J7: 0.9215261 | K7: 0.93555949 | L7: 0.97856854 | M7: 1 | N7: =G7*H7 | O7: =G7*I7 | P7: =G7*J7 | Q7: =G7*K7 | R7: =G7*L7 | S7: =G7*M7
A8: Japan | B8: JPN | C8: Advanced Asia | D8: Disclosed anchor | E8: BSP Table 11 | F8: Major Asian source corridor | G8: 0.050114296 | H8: 0.9637497 | I8: 0.98382782 | J8: 0.9988864 | K8: 1.0039059 | L8: 0.98735768 | M8: 1 | N8: =G8*H8 | O8: =G8*I8 | P8: =G8*J8 | Q8: =G8*K8 | R8: =G8*L8 | S8: =G8*M8
A9: United Kingdom | B9: GBR | C9: Europe Core | D9: Disclosed anchor | E9: BSP Table 11 | F9: Major European source; professional/seafarer route relevance | G9: 0.046227675 | H9: 0.98088288 | I9: 1.0013179 | J9: 1.0166442 | K9: 1.021753 | L9: 1.0172671 | M9: 1 | N9: =G9*H9 | O9: =G9*I9 | P9: =G9*J9 | Q9: =G9*K9 | R9: =G9*L9 | S9: =G9*M9
A10: United Arab Emirates | B10: ARE | C10: Middle East Core | D10: Disclosed anchor | E10: BSP Table 11 | F10: Major GCC corridor | G10: 0.045949176 | H10: 0.86093134 | I10: 0.88870332 | J10: 0.91184664 | K10: 0.92573262 | L10: 0.95988707 | M10: 1 | N10: =G10*H10 | O10: =G10*I10 | P10: =G10*J10 | Q10: =G10*K10 | R10: =G10*L10 | S10: =G10*M10
A11: Canada | B11: CAN | C11: Americas Core | D11: Disclosed anchor | E11: BSP Table 11 | F11: Large North American diaspora corridor | G11: 0.035017668 | H11: 1.0508622 | I11: 1.0405597 | J11: 1.0302571 | K11: 1.0302571 | L11: 1.0189775 | M11: 1 | N11: =G11*H11 | O11: =G11*I11 | P11: =G11*J11 | Q11: =G11*K11 | R11: =G11*L11 | S11: =G11*M11
A12: Qatar | B12: QAT | C12: Middle East Core | D12: Disclosed anchor | E12: BSP Table 11 | F12: Core GCC corridor | G12: 0.029137349 | H12: 0.8885891 | I12: 0.91725327 | J12: 0.94114007 | K12: 0.95547215 | L12: 0.9721714 | M12: 1 | N12: =G12*H12 | O12: =G12*I12 | P12: =G12*J12 | Q12: =G12*K12 | R12: =G12*L12 | S12: =G12*M12
A13: Taiwan, Republic of China | B13: TWN | C13: Advanced Asia | D13: Disclosed anchor | E13: BSP Table 11 | F13: Manufacturing/workforce and family-support corridor | G13: 0.027948337 | H13: 0.92811459 | I13: 0.94745032 | J13: 0.96195211 | K13: 0.96678604 | L13: 0.98364827 | M13: 1 | N13: =G13*H13 | O13: =G13*I13 | P13: =G13*J13 | Q13: =G13*K13 | R13: =G13*L13 | S13: =G13*M13
A14: Hong Kong, SAR China | B14: HKG | C14: Advanced Asia | D14: Disclosed anchor | E14: BSP Table 11 | F14: Domestic worker / services corridor | G14: 0.024711044 | H14: 0.88658 | I14: 0.90505042 | J14: 0.91890323 | K14: 0.92352083 | L14: 0.94073135 | M14: 1 | N14: =G14*H14 | O14: =G14*I14 | P14: =G14*J14 | Q14: =G14*K14 | R14: =G14*L14 | S14: =G14*M14
A15: Korea (South) | B15: KOR | C15: Advanced Asia | D15: Disclosed anchor | E15: BSP Table 11 | F15: Advanced Asia corridor | G15: 0.024420814 | H15: 0.97980534 | I15: 1.000218 | J15: 1.0155274 | K15: 1.0206306 | L15: 1.0135471 | M15: 1 | N15: =G15*H15 | O15: =G15*I15 | P15: =G15*J15 | Q15: =G15*K15 | R15: =G15*L15 | S15: =G15*M15
A16: Malaysia | B16: MYS | C16: ASEAN / Asia Adjacent | D16: Disclosed anchor | E16: BSP Table 11 | F16: ASEAN labour/services corridor | G16: 0.018946991 | H16: 0.98427811 | I16: 1.0047839 | J16: 1.0201632 | K16: 1.0252897 | L16: 1.0117067 | M16: 1 | N16: =G16*H16 | O16: =G16*I16 | P16: =G16*J16 | Q16: =G16*K16 | R16: =G16*L16 | S16: =G16*M16
... A33: Other Countries | B33: OTH | C33: Residual Long Tail | D33: Residual | E33: BSP Table 11 / model residual | F33: Residual after named disclosed countries; includes small Europe, Asia, Africa and unspecified routing | G33: 0.031146846 | H33: 0.88752918 | I33: 0.90601937 | J33: 0.91988702 | K33: 0.92450956 | L33: 0.90508817 | M33: 1 | N33: =G33*H33 | O33: =G33*I33 | P33: =G33*J33 | Q33: =G33*K33 | R33: =G33*L33 | S33: =G33*M33
A34: Total Evidence Weight | B34: ALL | F34: Annual weighted score denominator | G34: =SUM(G5:G33) | N34: =SUM(N5:N33) | O34: =SUM(O5:O33) | P34: =SUM(P5:P33) | Q34: =SUM(Q5:Q33) | R34: =SUM(R5:R33) | S34: =SUM(S5:S33)

Sheet Reconciled_Country_Flows
A1: Philippines Reconciled Country Flows - 2020 to 2025
A2: Transforms Corridor_Evidence weighted scores into source-country shares and values reconciled to Philippines_Total_YOY annual totals.
A4: Source Country | B4: ISO3 | C4: 2020 Share | D4: 2020 Value (US$) | E4: 2021 Share | F4: 2021 Value (US$) | G4: 2022 Share | H4: 2022 Value (US$) | I4: 2023 Share | J4: 2023 Value (US$) | K4: 2024 Share | L4: 2024 Value (US$) | M4: 2025 Share | N4: 2025 Value (US$) | O4: Confidence Tier | P4: Evidence Basis | Q4: Region Group | R4: Investor Use | S4: Limitation
A5: United States of America | B5: USA | C5: =Corridor_Evidence!N5/Corridor_Evidence!N$34 | D5: =C5*Philippines_Total_YOY!O$5 | E5: =Corridor_Evidence!O5/Corridor_Evidence!O$34 | F5: =E5*Philippines_Total_YOY!P$5 | G5: =Corridor_Evidence!P5/Corridor_Evidence!P$34 | H5: =G5*Philippines_Total_YOY!Q$5 | I5: =Corridor_Evidence!Q5/Corridor_Evidence!Q$34 | J5: =I5*Philippines_Total_YOY!R$5 | K5: =Corridor_Evidence!R5/Corridor_Evidence!R$34 | L5: =K5*Philippines_Total_YOY!S$5 | M5: =Corridor_Evidence!S5/Corridor_Evidence!S$34 | N5: =M5*Philippines_Total_YOY!T$5 | O5: A | P5: BSP Table 11 | Q5: Americas Core | R5: Corridor sizing / investor targeting | S5: BSP values are cash-remittance basis; model values are reconciled to personal-remittance total.
A6: Singapore | B6: SGP | C6: =Corridor_Evidence!N6/Corridor_Evidence!N$34 | D6: =C6*Philippines_Total_YOY!O$5 | E6: =Corridor_Evidence!O6/Corridor_Evidence!O$34 | F6: =E6*Philippines_Total_YOY!P$5 | G6: =Corridor_Evidence!P6/Corridor_Evidence!P$34 | H6: =G6*Philippines_Total_YOY!Q$5 | I6: =Corridor_Evidence!Q6/Corridor_Evidence!Q$34 | J6: =I6*Philippines_Total_YOY!R$5 | K6: =Corridor_Evidence!R6/Corridor_Evidence!R$34 | L6: =K6*Philippines_Total_YOY!S$5 | M6: =Corridor_Evidence!S6/Corridor_Evidence!S$34 | N6: =M6*Philippines_Total_YOY!T$5 | O6: A | P6: BSP Table 11 | Q6: ASEAN / Asia Core | R6: Corridor sizing / investor targeting | S6: BSP values are cash-remittance basis; model values are reconciled to personal-remittance total.
A7: Saudi Arabia | B7: SAU | C7: =Corridor_Evidence!N7/Corridor_Evidence!N$34 | D7: =C7*Philippines_Total_YOY!O$5 | E7: =Corridor_Evidence!O7/Corridor_Evidence!O$34 | F7: =E7*Philippines_Total_YOY!P$5 | G7: =Corridor_Evidence!P7/Corridor_Evidence!P$34 | H7: =G7*Philippines_Total_YOY!Q$5 | I7: =Corridor_Evidence!Q7/Corridor_Evidence!Q$34 | J7: =I7*Philippines_Total_YOY!R$5 | K7: =Corridor_Evidence!R7/Corridor_Evidence!R$34 | L7: =K7*Philippines_Total_YOY!S$5 | M7: =Corridor_Evidence!S7/Corridor_Evidence!S$34 | N7: =M7*Philippines_Total_YOY!T$5 | O7: A | P7: BSP Table 11 | Q7: Middle East Core | R7: Corridor sizing / investor targeting | S7: BSP values are cash-remittance basis; model values are reconciled to personal-remittance total.
A8: Japan | B8: JPN | C8: =Corridor_Evidence!N8/Corridor_Evidence!N$34 | D8: =C8*Philippines_Total_YOY!O$5 | E8: =Corridor_Evidence!O8/Corridor_Evidence!O$34 | F8: =E8*Philippines_Total_YOY!P$5 | G8: =Corridor_Evidence!P8/Corridor_Evidence!P$34 | H8: =G8*Philippines_Total_YOY!Q$5 | I8: =Corridor_Evidence!Q8/Corridor_Evidence!Q$34 | J8: =I8*Philippines_Total_YOY!R$5 | K8: =Corridor_Evidence!R8/Corridor_Evidence!R$34 | L8: =K8*Philippines_Total_YOY!S$5 | M8: =Corridor_Evidence!S8/Corridor_Evidence!S$34 | N8: =M8*Philippines_Total_YOY!T$5 | O8: A | P8: BSP Table 11 | Q8: Advanced Asia | R8: Corridor sizing / investor targeting | S8: BSP values are cash-remittance basis; model values are reconciled to personal-remittance total.
A9: United Kingdom | B9: GBR | C9: =Corridor_Evidence!N9/Corridor_Evidence!N$34 | D9: =C9*Philippines_Total_YOY!O$5 | E9: =Corridor_Evidence!O9/Corridor_Evidence!O$34 | F9: =E9*Philippines_Total_YOY!P$5 | G9: =Corridor_Evidence!P9/Corridor_Evidence!P$34 | H9: =G9*Philippines_Total_YOY!Q$5 | I9: =Corridor_Evidence!Q9/Corridor_Evidence!Q$34 | J9: =I9*Philippines_Total_YOY!R$5 | K9: =Corridor_Evidence!R9/Corridor_Evidence!R$34 | L9: =K9*Philippines_Total_YOY!S$5 | M9: =Corridor_Evidence!S9/Corridor_Evidence!S$34 | N9: =M9*Philippines_Total_YOY!T$5 | O9: A | P9: BSP Table 11 | Q9: Europe Core | R9: Corridor sizing / investor targeting | S9: BSP values are cash-remittance basis; model values are reconciled to personal-remittance total.
A10: United Arab Emirates | B10: ARE | C10: =Corridor_Evidence!N10/Corridor_Evidence!N$34 | D10: =C10*Philippines_Total_YOY!O$5 | E10: =Corridor_Evidence!O10/Corridor_Evidence!O$34 | F10: =E10*Philippines_Total_YOY!P$5 | G10: =Corridor_Evidence!P10/Corridor_Evidence!P$34 | H10: =G10*Philippines_Total_YOY!Q$5 | I10: =Corridor_Evidence!Q10/Corridor_Evidence!Q$34 | J10: =I10*Philippines_Total_YOY!R$5 | K10: =Corridor_Evidence!R10/Corridor_Evidence!R$34 | L10: =K10*Philippines_Total_YOY!S$5 | M10: =Corridor_Evidence!S10/Corridor_Evidence!S$34 | N10: =M10*Philippines_Total_YOY!T$5 | O10: A | P10: BSP Table 11 | Q10: Middle East Core | R10: Corridor sizing / investor targeting | S10: BSP values are cash-remittance basis; model values are reconciled to personal-remittance total.
A11: Canada | B11: CAN | C11: =Corridor_Evidence!N11/Corridor_Evidence!N$34 | D11: =C11*Philippines_Total_YOY!O$5 | E11: =Corridor_Evidence!O11/Corridor_Evidence!O$34 | F11: =E11*Philippines_Total_YOY!P$5 | G11: =Corridor_Evidence!P11/Corridor_Evidence!P$34 | H11: =G11*Philippines_Total_YOY!Q$5 | I11: =Corridor_Evidence!Q11/Corridor_Evidence!Q$34 | J11: =I11*Philippines_Total_YOY!R$5 | K11: =Corridor_Evidence!R11/Corridor_Evidence!R$34 | L11: =K11*Philippines_Total_YOY!S$5 | M11: =Corridor_Evidence!S11/Corridor_Evidence!S$34 | N11: =M11*Philippines_Total_YOY!T$5 | O11: A | P11: BSP Table 11 | Q11: Americas Core | R11: Corridor sizing / investor targeting | S11: BSP values are cash-remittance basis; model values are reconciled to personal-remittance total.
A12: Qatar | B12: QAT | C12: =Corridor_Evidence!N12/Corridor_Evidence!N$34 | D12: =C12*Philippines_Total_YOY!O$5 | E12: =Corridor_Evidence!O12/Corridor_Evidence!O$34 | F12: =E12*Philippines_Total_YOY!P$5 | G12: =Corridor_Evidence!P12/Corridor_Evidence!P$34 | H12: =G12*Philippines_Total_YOY!Q$5 | I12: =Corridor_Evidence!Q12/Corridor_Evidence!Q$34 | J12: =I12*Philippines_Total_YOY!R$5 | K12: =Corridor_Evidence!R12/Corridor_Evidence!R$34 | L12: =K12*Philippines_Total_YOY!S$5 | M12: =Corridor_Evidence!S12/Corridor_Evidence!S$34 | N12: =M12*Philippines_Total_YOY!T$5 | O12: A | P12: BSP Table 11 | Q12: Middle East Core | R12: Corridor sizing / investor targeting | S12: BSP values are cash-remittance basis; model values are reconciled to personal-remittance total.
A13: Taiwan, Republic of China | B13: TWN | C13: =Corridor_Evidence!N13/Corridor_Evidence!N$34 | D13: =C13*Philippines_Total_YOY!O$5 | E13: =Corridor_Evidence!O13/Corridor_Evidence!O$34 | F13: =E13*Philippines_Total_YOY!P$5 | G13: =Corridor_Evidence!P13/Corridor_Evidence!P$34 | H13: =G13*Philippines_Total_YOY!Q$5 | I13: =Corridor_Evidence!Q13/Corridor_Evidence!Q$34 | J13: =I13*Philippines_Total_YOY!R$5 | K13: =Corridor_Evidence!R13/Corridor_Evidence!R$34 | L13: =K13*Philippines_Total_YOY!S$5 | M13: =Corridor_Evidence!S13/Corridor_Evidence!S$34 | N13: =M13*Philippines_Total_YOY!T$5 | O13: B | P13: BSP Table 11 | Q13: Advanced Asia | R13: Corridor sizing / investor targeting | S13: BSP values are cash-remittance basis; model values are reconciled to personal-remittance total.
A14: Hong Kong, SAR China | B14: HKG | C14: =Corridor_Evidence!N14/Corridor_Evidence!N$34 | D14: =C14*Philippines_Total_YOY!O$5 | E14: =Corridor_Evidence!O14/Corridor_Evidence!O$34 | F14: =E14*Philippines_Total_YOY!P$5 | G14: =Corridor_Evidence!P14/Corridor_Evidence!P$34 | H14: =G14*Philippines_Total_YOY!Q$5 | I14: =Corridor_Evidence!Q14/Corridor_Evidence!Q$34 | J14: =I14*Philippines_Total_YOY!R$5 | K14: =Corridor_Evidence!R14/Corridor_Evidence!R$34 | L14: =K14*Philippines_Total_YOY!S$5 | M14: =Corridor_Evidence!S14/Corridor_Evidence!S$34 | N14: =M14*Philippines_Total_YOY!T$5 | O14: B | P14: BSP Table 11 | Q14: Advanced Asia | R14: Corridor sizing / investor targeting | S14: BSP values are cash-remittance basis; model values are reconciled to personal-remittance total.
A15: Korea (South) | B15: KOR | C15: =Corridor_Evidence!N15/Corridor_Evidence!N$34 | D15: =C15*Philippines_Total_YOY!O$5 | E15: =Corridor_Evidence!O15/Corridor_Evidence!O$34 | F15: =E15*Philippines_Total_YOY!P$5 | G15: =Corridor_Evidence!P15/Corridor_Evidence!P$34 | H15: =G15*Philippines_Total_YOY!Q$5 | I15: =Corridor_Evidence!Q15/Corridor_Evidence!Q$34 | J15: =I15*Philippines_Total_YOY!R$5 | K15: =Corridor_Evidence!R15/Corridor_Evidence!R$34 | L15: =K15*Philippines_Total_YOY!S$5 | M15: =Corridor_Evidence!S15/Corridor_Evidence!S$34 | N15: =M15*Philippines_Total_YOY!T$5 | O15: B | P15: BSP Table 11 | Q15: Advanced Asia | R15: Corridor sizing / investor targeting | S15: BSP values are cash-remittance basis; model values are reconciled to personal-remittance total.
A16: Malaysia | B16: MYS | C16: =Corridor_Evidence!N16/Corridor_Evidence!N$34 | D16: =C16*Philippines_Total_YOY!O$5 | E16: =Corridor_Evidence!O16/Corridor_Evidence!O$34 | F16: =E16*Philippines_Total_YOY!P$5 | G16: =Corridor_Evidence!P16/Corridor_Evidence!P$34 | H16: =G16*Philippines_Total_YOY!Q$5 | I16: =Corridor_Evidence!Q16/Corridor_Evidence!Q$34 | J16: =I16*Philippines_Total_YOY!R$5 | K16: =Corridor_Evidence!R16/Corridor_Evidence!R$34 | L16: =K16*Philippines_Total_YOY!S$5 | M16: =Corridor_Evidence!S16/Corridor_Evidence!S$34 | N16: =M16*Philippines_Total_YOY!T$5 | O16: B | P16: BSP Table 11 | Q16: ASEAN / Asia Adjacent | R16: Corridor sizing / investor targeting | S16: BSP values are cash-remittance basis; model values are reconciled to personal-remittance total.
... A33: Other Countries | B33: OTH | C33: =Corridor_Evidence!N33/Corridor_Evidence!N$34 | D33: =C33*Philippines_Total_YOY!O$5 | E33: =Corridor_Evidence!O33/Corridor_Evidence!O$34 | F33: =E33*Philippines_Total_YOY!P$5 | G33: =Corridor_Evidence!P33/Corridor_Evidence!P$34 | H33: =G33*Philippines_Total_YOY!Q$5 | I33: =Corridor_Evidence!Q33/Corridor_Evidence!Q$34 | J33: =I33*Philippines_Total_YOY!R$5 | K33: =Corridor_Evidence!R33/Corridor_Evidence!R$34 | L33: =K33*Philippines_Total_YOY!S$5 | M33: =Corridor_Evidence!S33/Corridor_Evidence!S$34 | N33: =M33*Philippines_Total_YOY!T$5 | O33: C | P33: BSP Table 11 / model residual | Q33: Residual Long Tail | R33: Corridor sizing / investor targeting | S33: BSP values are cash-remittance basis; model values are reconciled to personal-remittance total.
A34: Total | B34: ALL | C34: =SUM(C5:C33) | D34: =SUM(D5:D33) | E34: =SUM(E5:E33) | F34: =SUM(F5:F33) | G34: =SUM(G5:G33) | H34: =SUM(H5:H33) | I34: =SUM(I5:I33) | J34: =SUM(J5:J33) | ... N34: =SUM(N5:N33)

Sheet Disclosure_Tracker
A1: Philippines Disclosure Tracker
A2: Tracks disclosure quality by source country and identifies which allocations are directly disclosed, partially supported, or model-estimated.
A4: Source Country | B4: ISO3 | C4: Has Public Source-Country Disclosure? | D4: Latest Year Found | E4: Data Granularity | F4: Directly Usable for Philippines Mapping? | G4: Confidence Tier | H4: Reference Basis | I4: Action / Upgrade Needed
A5: United States of America | B5: USA | C5: Yes / BSP disclosed anchor | D5: 2025p | E5: Country cash remittance value by source country | F5: Directly usable as cash-share proxy for personal-remittance allocation | G5: A | H5: BSP Table 11 | I5: Update when BSP Table 11 is refreshed; reconcile to WDI once 2025 WDI is published.
A6: Singapore | B6: SGP | C6: Yes / BSP disclosed anchor | D6: 2025p | E6: Country cash remittance value by source country | F6: Directly usable as cash-share proxy for personal-remittance allocation | G6: A | H6: BSP Table 11 | I6: Update when BSP Table 11 is refreshed; reconcile to WDI once 2025 WDI is published.
A7: Saudi Arabia | B7: SAU | C7: Yes / BSP disclosed anchor | D7: 2025p | E7: Country cash remittance value by source country | F7: Directly usable as cash-share proxy for personal-remittance allocation | G7: A | H7: BSP Table 11 | I7: Update when BSP Table 11 is refreshed; reconcile to WDI once 2025 WDI is published.
A8: Japan | B8: JPN | C8: Yes / BSP disclosed anchor | D8: 2025p | E8: Country cash remittance value by source country | F8: Directly usable as cash-share proxy for personal-remittance allocation | G8: A | H8: BSP Table 11 | I8: Update when BSP Table 11 is refreshed; reconcile to WDI once 2025 WDI is published.
A9: United Kingdom | B9: GBR | C9: Yes / BSP disclosed anchor | D9: 2025p | E9: Country cash remittance value by source country | F9: Directly usable as cash-share proxy for personal-remittance allocation | G9: A | H9: BSP Table 11 | I9: Update when BSP Table 11 is refreshed; reconcile to WDI once 2025 WDI is published.
A10: United Arab Emirates | B10: ARE | C10: Yes / BSP disclosed anchor | D10: 2025p | E10: Country cash remittance value by source country | F10: Directly usable as cash-share proxy for personal-remittance allocation | G10: A | H10: BSP Table 11 | I10: Update when BSP Table 11 is refreshed; reconcile to WDI once 2025 WDI is published.
A11: Canada | B11: CAN | C11: Yes / BSP disclosed anchor | D11: 2025p | E11: Country cash remittance value by source country | F11: Directly usable as cash-share proxy for personal-remittance allocation | G11: A | H11: BSP Table 11 | I11: Update when BSP Table 11 is refreshed; reconcile to WDI once 2025 WDI is published.
A12: Qatar | B12: QAT | C12: Yes / BSP disclosed anchor | D12: 2025p | E12: Country cash remittance value by source country | F12: Directly usable as cash-share proxy for personal-remittance allocation | G12: A | H12: BSP Table 11 | I12: Update when BSP Table 11 is refreshed; reconcile to WDI once 2025 WDI is published.
A13: Taiwan, Republic of China | B13: TWN | C13: Yes / BSP disclosed anchor | D13: 2025p | E13: Country cash remittance value by source country | F13: Directly usable as cash-share proxy for personal-remittance allocation | G13: B | H13: BSP Table 11 | I13: Update when BSP Table 11 is refreshed; reconcile to WDI once 2025 WDI is published.
A14: Hong Kong, SAR China | B14: HKG | C14: Yes / BSP disclosed anchor | D14: 2025p | E14: Country cash remittance value by source country | F14: Directly usable as cash-share proxy for personal-remittance allocation | G14: B | H14: BSP Table 11 | I14: Update when BSP Table 11 is refreshed; reconcile to WDI once 2025 WDI is published.
A15: Korea (South) | B15: KOR | C15: Yes / BSP disclosed anchor | D15: 2025p | E15: Country cash remittance value by source country | F15: Directly usable as cash-share proxy for personal-remittance allocation | G15: B | H15: BSP Table 11 | I15: Update when BSP Table 11 is refreshed; reconcile to WDI once 2025 WDI is published.
... A33: Other Countries | B33: OTH | C33: Residual / not country-specific | D33: 2025p | E33: Country cash remittance value by source country | F33: Residual/proxy only | G33: C | H33: BSP Table 11 / model residual | I33: Update when BSP Table 11 is refreshed; reconcile to WDI once 2025 WDI is published.

Sheet YOY_Growth_Justification
A1: Philippines YoY Growth Justification
A2: Explains the observed 2020-2025 Philippines remittance growth pattern and how it should be interpreted in future projections.
A4: Topic | B4: Explicit Justification | C4: How It Affects YoY / Projection Logic | D4: Evidence Strength | E4: Citation / Evidence | F4: Model Treatment
A5: Resilient OFW remittance base | B5: The Philippines has a structurally large overseas worker and seafarer base, producing stable remittance inflows even during external shocks. | C5: Supports relatively steady mid-single-digit growth rather than startup-like volatility. | D5: High | E5: World Bank WDI series; BSP full-year remittance releases | F5: Use stable base growth assumptions with limited downside volatility.
A6: 2020 pandemic dip and recovery | B6: World Bank WDI shows a 2020 decline followed by steady recovery in 2021-2024. | C6: Explains why the model should not extrapolate a one-off rebound too aggressively. | D6: High | E6: World Bank WDI Philippines personal remittance series | F6: Moderate forward growth after 2025.
A7: 2025 record cash and personal remittances | B7: BSP/public reporting shows 2025 cash remittances of USD 35.63bn and personal remittances of USD 39.62bn, both up about 3.3%. | C7: Supports 2025 as a new high in BSP basis, but requires disclosed bridge to WDI basis. | D7: High for BSP figures; Medium for WDI-like bridge | E7: BSP Table 11; BusinessWorld/BSP release on 2025 remittances | F7: Use +3.3% growth bridge to create provisional WDI-like 2025 total.
A8: US and correspondent-bank concentration | B8: BSP data shows the United States as the largest source, but BSP notes remittance centers often route through US correspondent banks. | C8: US share may overstate ultimate origin; allocation should carry disclosure caveat. | D8: High | E8: BSP Table 11 and BSP data caveat in public reporting | F8: Flag USA/correspondent concentration in Disclosure_Tracker.
A9: Asia, GCC and maritime corridors matter | B9: Singapore, Saudi Arabia, Japan, UAE, Qatar, Kuwait and seafarer/maritime centers appear as material disclosed source corridors. | C9: Supports corridor segmentation beyond the US, especially ASEAN/GCC/maritime routes. | D9: High | E9: BSP Table 11 | F9: Use region groups and confidence tiers in Corridor_Evidence.
A10: Basis mismatch: cash vs personal remittances | B10: BSP source-country data is cash remittance basis; WDI/total baseline is personal remittance basis. | C10: Requires explicit limitation and reconciliation; country flows are allocation estimates. | D10: High | E10: BSP Table 11; World Bank WDI | F10: Use BSP shares as proxy applied to personal-remittance TAM; disclose limitation.

Sheet Proj_Assumptions_26_31
A1: Philippines Projection Assumptions - 2026 to 2031
A2: Low/base/high growth assumptions using 2025 provisional Philippines remittance anchor. Growth is moderated after resilient 2024/2025 record levels.
A4: Input | B4: Value | C4: Unit | D4: Notes | E4: Source / Linkage
A5: Anchor Year (Provisional) | B5: 2025 | C5: Year | D5: 2025 is WDI-like estimate until World Bank publishes Philippines current-US$ value. | E5: Philippines_Total_YOY
A6: Anchor Total | B6: =Philippines_Total_YOY!T5 | C6: USD | D6: Derived from 2024 WDI multiplied by BSP 2025 personal-remittance growth of +3.3%. | E6: Philippines_Total_YOY!T5
A7: Base Growth 2026 | B7: 0.034 | C7: % | D7: Stable OFW/seafarer remittance base and continued global demand. | E7: YOY_Growth_Justification
A8: Base Growth 2027 | B8: 0.033 | C8: % | D8: Steady corridor growth with mature remittance base. | E8: YOY_Growth_Justification
A9: Base Growth 2028 | B9: 0.032 | C9: % | D9: Moderated mature-market growth. | E9: YOY_Growth_Justification
A10: Base Growth 2029 | B10: 0.031 | C10: % | D10: Long-run remittance growth moderation. | E10: YOY_Growth_Justification
A11: Base Growth 2030 | B11: 0.03 | C11: % | D11: Stable mature corridor growth. | E11: YOY_Growth_Justification
A12: Base Growth 2031 | B12: 0.029 | C12: % | D12: Terminal pre-valuation steady-growth assumption. | E12: YOY_Growth_Justification
A13: Low Growth 2026 | B13: 0.018 | C13: % | D13: Downside: destination-market slowdown or exchange/cost friction. | E13: Risk case
A14: Low Growth 2027 | B14: 0.018 | C14: % | D14: Downside continuation. | E14: Risk case
A15: Low Growth 2028 | B15: 0.017 | C15: % | D15: Downside continuation. | E15: Risk case
A16: Low Growth 2029 | B16: 0.017 | C16: % | D16: Downside continuation. | E16: Risk case
A17: Low Growth 2030 | B17: 0.016 | C17: % | D17: Downside continuation. | E17: Risk case
A18: Low Growth 2031 | B18: 0.016 | C18: % | D18: Downside continuation. | E18: Risk case
... A24: High Growth 2031 | B24: 0.037 | C24: % | D24: Upside long-run growth. | E24: Upside case

Sheet Total_Projection_26_31
A1: Philippines Total Remittance Projection - 2026 to 2031
A2: Low/base/high projected Philippines remittance totals, linked to Proj_Assumptions_26_31.
A4: Scenario | B4: 2025 Anchor (USD) | C4: 2026 (USD) | D4: 2027 (USD) | E4: 2028 (USD) | F4: 2029 (USD) | G4: 2030 (USD) | H4: 2031 (USD) | I4: 2025-2031 CAGR
A5: Low | B5: =Proj_Assumptions_26_31!B6 | C5: =B5*(1+Proj_Assumptions_26_31!B13) | D5: =C5*(1+Proj_Assumptions_26_31!B14) | E5: =D5*(1+Proj_Assumptions_26_31!B15) | F5: =E5*(1+Proj_Assumptions_26_31!B16) | G5: =F5*(1+Proj_Assumptions_26_31!B17) | H5: =G5*(1+Proj_Assumptions_26_31!B18) | I5: =IF(B5>0,(H5/B5)^(1/6)-1,0)
A6: Base | B6: =Proj_Assumptions_26_31!B6 | C6: =B6*(1+Proj_Assumptions_26_31!B7) | D6: =C6*(1+Proj_Assumptions_26_31!B8) | E6: =D6*(1+Proj_Assumptions_26_31!B9) | F6: =E6*(1+Proj_Assumptions_26_31!B10) | G6: =F6*(1+Proj_Assumptions_26_31!B11) | H6: =G6*(1+Proj_Assumptions_26_31!B12) | I6: =IF(B6>0,(H6/B6)^(1/6)-1,0)
A7: High | B7: =Proj_Assumptions_26_31!B6 | C7: =B7*(1+Proj_Assumptions_26_31!B19) | D7: =C7*(1+Proj_Assumptions_26_31!B20) | E7: =D7*(1+Proj_Assumptions_26_31!B21) | F7: =E7*(1+Proj_Assumptions_26_31!B22) | G7: =F7*(1+Proj_Assumptions_26_31!B23) | H7: =G7*(1+Proj_Assumptions_26_31!B24) | I7: =IF(B7>0,(H7/B7)^(1/6)-1,0)
A9: YoY Growth (%) by Scenario
A10: Scenario | B10: 2026 | C10: 2027 | D10: 2028 | E10: 2029 | F10: 2030 | G10: 2031
A11: Low | B11: =C5/B5-1 | C11: =D5/C5-1 | D11: =E5/D5-1 | E11: =F5/E5-1 | F11: =G5/F5-1 | G11: =H5/G5-1
A12: Base | B12: =C6/B6-1 | C12: =D6/C6-1 | D12: =E6/D6-1 | E12: =F6/E6-1 | F12: =G6/F6-1 | G12: =H6/G6-1
A13: High | B13: =C7/B7-1 | C13: =D7/C7-1 | D13: =E7/D7-1 | E13: =F7/E7-1 | F13: =G7/F7-1 | G13: =H7/G7-1

Sheet Country_Projection_26_31
A1: Philippines Country Projection - 2026 to 2031
A2: Country-level low/base/high projections using 2025 reconciled source-country shares and total projection scenarios.
A4: Source Country | B4: ISO3 | C4: 2025 Share (Reconciled) | D4: 2026 Base (USD) | E4: 2027 Base (USD) | F4: 2028 Base (USD) | G4: 2029 Base (USD) | H4: 2030 Base (USD) | I4: 2031 Base (USD) | J4: 2026 Low (USD) | K4: 2027 Low (USD) | L4: 2028 Low (USD) | M4: 2029 Low (USD) | N4: 2030 Low (USD) | O4: 2031 Low (USD) | P4: 2026 High (USD) | Q4: 2027 High (USD) | R4: 2028 High (USD) | S4: 2029 High (USD) | T4: 2030 High (USD) | U4: 2031 High (USD)
A5: =Reconciled_Country_Flows!A5 | B5: =Reconciled_Country_Flows!B5 | C5: =Reconciled_Country_Flows!M5 | D5: =$C5*Total_Projection_26_31!C$6 | E5: =$C5*Total_Projection_26_31!D$6 | F5: =$C5*Total_Projection_26_31!E$6 | G5: =$C5*Total_Projection_26_31!F$6 | H5: =$C5*Total_Projection_26_31!G$6 | I5: =$C5*Total_Projection_26_31!H$6 | J5: =$C5*Total_Projection_26_31!C$5 | K5: =$C5*Total_Projection_26_31!D$5 | L5: =$C5*Total_Projection_26_31!E$5 | M5: =$C5*Total_Projection_26_31!F$5 | N5: =$C5*Total_Projection_26_31!G$5 | O5: =$C5*Total_Projection_26_31!H$5 | P5: =$C5*Total_Projection_26_31!C$7 | Q5: =$C5*Total_Projection_26_31!D$7 | R5: =$C5*Total_Projection_26_31!E$7 | S5: =$C5*Total_Projection_26_31!F$7 | T5: =$C5*Total_Projection_26_31!G$7 | U5: =$C5*Total_Projection_26_31!H$7
A6: =Reconciled_Country_Flows!A6 | B6: =Reconciled_Country_Flows!B6 | C6: =Reconciled_Country_Flows!M6 | D6: =$C6*Total_Projection_26_31!C$6 | E6: =$C6*Total_Projection_26_31!D$6 | F6: =$C6*Total_Projection_26_31!E$6 | G6: =$C6*Total_Projection_26_31!F$6 | H6: =$C6*Total_Projection_26_31!G$6 | I6: =$C6*Total_Projection_26_31!H$6 | J6: =$C6*Total_Projection_26_31!C$5 | K6: =$C6*Total_Projection_26_31!D$5 | L6: =$C6*Total_Projection_26_31!E$5 | M6: =$C6*Total_Projection_26_31!F$5 | N6: =$C6*Total_Projection_26_31!G$5 | O6: =$C6*Total_Projection_26_31!H$5 | P6: =$C6*Total_Projection_26_31!C$7 | Q6: =$C6*Total_Projection_26_31!D$7 | R6: =$C6*Total_Projection_26_31!E$7 | S6: =$C6*Total_Projection_26_31!F$7 | T6: =$C6*Total_Projection_26_31!G$7 | U6: =$C6*Total_Projection_26_31!H$7
A7: =Reconciled_Country_Flows!A7 | B7: =Reconciled_Country_Flows!B7 | C7: =Reconciled_Country_Flows!M7 | D7: =$C7*Total_Projection_26_31!C$6 | E7: =$C7*Total_Projection_26_31!D$6 | F7: =$C7*Total_Projection_26_31!E$6 | G7: =$C7*Total_Projection_26_31!F$6 | H7: =$C7*Total_Projection_26_31!G$6 | I7: =$C7*Total_Projection_26_31!H$6 | J7: =$C7*Total_Projection_26_31!C$5 | K7: =$C7*Total_Projection_26_31!D$5 | L7: =$C7*Total_Projection_26_31!E$5 | M7: =$C7*Total_Projection_26_31!F$5 | N7: =$C7*Total_Projection_26_31!G$5 | O7: =$C7*Total_Projection_26_31!H$5 | P7: =$C7*Total_Projection_26_31!C$7 | Q7: =$C7*Total_Projection_26_31!D$7 | R7: =$C7*Total_Projection_26_31!E$7 | S7: =$C7*Total_Projection_26_31!F$7 | T7: =$C7*Total_Projection_26_31!G$7 | U7: =$C7*Total_Projection_26_31!H$7
A8: =Reconciled_Country_Flows!A8 | B8: =Reconciled_Country_Flows!B8 | C8: =Reconciled_Country_Flows!M8 | D8: =$C8*Total_Projection_26_31!C$6 | E8: =$C8*Total_Projection_26_31!D$6 | F8: =$C8*Total_Projection_26_31!E$6 | G8: =$C8*Total_Projection_26_31!F$6 | H8: =$C8*Total_Projection_26_31!G$6 | I8: =$C8*Total_Projection_26_31!H$6 | J8: =$C8*Total_Projection_26_31!C$5 | K8: =$C8*Total_Projection_26_31!D$5 | L8: =$C8*Total_Projection_26_31!E$5 | M8: =$C8*Total_Projection_26_31!F$5 | N8: =$C8*Total_Projection_26_31!G$5 | O8: =$C8*Total_Projection_26_31!H$5 | P8: =$C8*Total_Projection_26_31!C$7 | Q8: =$C8*Total_Projection_26_31!D$7 | R8: =$C8*Total_Projection_26_31!E$7 | S8: =$C8*Total_Projection_26_31!F$7 | T8: =$C8*Total_Projection_26_31!G$7 | U8: =$C8*Total_Projection_26_31!H$7
