Workbook

Sheet Egypt_Total_YOY
A1: Egypt Remittances - Year over Year (Official Baseline)
A2: Indicator: Personal remittances, received (current US$) | 2025 aligned to official CBE annual total (USD 41.5bn).
A4: Country Name | B4: Country Code | C4: Indicator Name | D4: 2009 | E4: 2010 | F4: 2011 | G4: 2012 | H4: 2013 | I4: 2014 | J4: 2015 | K4: 2016 | L4: 2017 | M4: 2018 | N4: 2019 | O4: 2020 | P4: 2021 | Q4: 2022 | R4: 2023 | S4: 2024 | T4: 2025
A5: Egypt, Arab Rep. | B5: EGY | C5: Personal remittances, received (current US$) | D5: 7149600000 | E5: 12453100000 | F5: 14324300000 | G5: 19236400000 | H5: 17833100000 | I5: 19570400000 | J5: 18325400000 | K5: 18590400000 | L5: 24737400000 | M5: 25515700000 | N5: 26781400000 | O5: 29602900000 | P5: 31487000000 | Q5: 28332800000 | R5: 19532100000 | S5: 29559100000 | T5: 41500000000
E6: =E5/D5-1 -> 0.74178975 | F6: =F5/E5-1 -> 0.15025977 | G6: =G5/F5-1 -> 0.34292077 | H6: =H5/G5-1 -> -0.07295024 | I6: =I5/H5-1 -> 0.097419966 | J6: =J5/I5-1 -> -0.063616482 | K6: =K5/J5-1 -> 0.014460803 | L6: =L5/K5-1 -> 0.33065453 | ... T6: =T5/S5-1 -> 0.40396697
A8: Reference:
A9: - World Bank indicator BX.TRF.PWKR.CD.DT (Egypt).
A10: - CBE official 2025 release: USD 41.5 billion remittances from Egyptians working abroad.

Sheet Country_Flows_2020_2025
A1: Source Country | B1: ISO3 | C1: Allocation Share | D1: 2020 (US$) | E1: 2021 (US$) | F1: 2022 (US$) | G1: 2023 (US$) | H1: 2024 (US$) | I1: 2025 (US$, Official CBE)
A2: Saudi Arabia | B2: SAU | C2: =Reconciled_Country_Flows!C2 -> 0.13157895 | D2: =Reconciled_Country_Flows!D2 -> 3.8951184e+09 | E2: =Reconciled_Country_Flows!F2 -> 4.1430263e+09 | F2: =Reconciled_Country_Flows!H2 -> 3.728e+09 | G2: =Reconciled_Country_Flows!J2 -> 2.5700132e+09 | H2: =Reconciled_Country_Flows!L2 -> 3.8893553e+09 | I2: =Reconciled_Country_Flows!N2 -> 5.4605263e+09
A3: United Arab Emirates | B3: ARE | C3: =Reconciled_Country_Flows!C3 -> 0.12188366 | D3: =Reconciled_Country_Flows!D3 -> 3.6081097e+09 | E3: =Reconciled_Country_Flows!F3 -> 3.8377507e+09 | F3: =Reconciled_Country_Flows!H3 -> 3.4533053e+09 | G3: =Reconciled_Country_Flows!J3 -> 2.3806438e+09 | H3: =Reconciled_Country_Flows!L3 -> 3.6027712e+09 | I3: =Reconciled_Country_Flows!N3 -> 5.0581717e+09
A4: Kuwait | B4: KWT | C4: =Reconciled_Country_Flows!C4 -> 0.099722992 | D4: =Reconciled_Country_Flows!D4 -> 2.9520898e+09 | E4: =Reconciled_Country_Flows!F4 -> 3.1399778e+09 | F4: =Reconciled_Country_Flows!H4 -> 2.8254316e+09 | G4: =Reconciled_Country_Flows!J4 -> 1.9477994e+09 | H4: =Reconciled_Country_Flows!L4 -> 2.9477219e+09 | I4: =Reconciled_Country_Flows!N4 -> 4.1385042e+09
A5: Qatar | B5: QAT | C5: =Reconciled_Country_Flows!C5 -> 0.08033241 | D5: =Reconciled_Country_Flows!D5 -> 2.3780723e+09 | E5: =Reconciled_Country_Flows!F5 -> 2.5294266e+09 | F5: =Reconciled_Country_Flows!H5 -> 2.2760421e+09 | G5: =Reconciled_Country_Flows!J5 -> 1.5690607e+09 | H5: =Reconciled_Country_Flows!L5 -> 2.3745537e+09 | I5: =Reconciled_Country_Flows!N5 -> 3.333795e+09
A6: Oman | B6: OMN | C6: =Reconciled_Country_Flows!C6 -> 0.063711911 | D6: =Reconciled_Country_Flows!D6 -> 1.8860573e+09 | E6: =Reconciled_Country_Flows!F6 -> 2.006097e+09 | F6: =Reconciled_Country_Flows!H6 -> 1.8051368e+09 | G6: =Reconciled_Country_Flows!J6 -> 1.2444274e+09 | H6: =Reconciled_Country_Flows!L6 -> 1.8832668e+09 | I6: =Reconciled_Country_Flows!N6 -> 2.6440443e+09
A7: Bahrain | B7: BHR | C7: =Reconciled_Country_Flows!C7 -> 0.04432133 | D7: =Reconciled_Country_Flows!D7 -> 1.3120399e+09 | E7: =Reconciled_Country_Flows!F7 -> 1.3955457e+09 | F7: =Reconciled_Country_Flows!H7 -> 1.2557474e+09 | G7: =Reconciled_Country_Flows!J7 -> 8.6568864e+08 | H7: =Reconciled_Country_Flows!L7 -> 1.3100986e+09 | I7: =Reconciled_Country_Flows!N7 -> 1.8393352e+09
A8: Jordan | B8: JOR | C8: =Reconciled_Country_Flows!C8 -> 0.052631579 | D8: =Reconciled_Country_Flows!D8 -> 1.5580474e+09 | E8: =Reconciled_Country_Flows!F8 -> 1.6572105e+09 | F8: =Reconciled_Country_Flows!H8 -> 1.4912e+09 | G8: =Reconciled_Country_Flows!J8 -> 1.0280053e+09 | H8: =Reconciled_Country_Flows!L8 -> 1.5557421e+09 | I8: =Reconciled_Country_Flows!N8 -> 2.1842105e+09
A9: United States | B9: USA | C9: =Reconciled_Country_Flows!C9 -> 0.060941828 | D9: =Reconciled_Country_Flows!D9 -> 1.8040548e+09 | E9: =Reconciled_Country_Flows!F9 -> 1.9188753e+09 | F9: =Reconciled_Country_Flows!H9 -> 1.7266526e+09 | G9: =Reconciled_Country_Flows!J9 -> 1.1903219e+09 | H9: =Reconciled_Country_Flows!L9 -> 1.8013856e+09 | I9: =Reconciled_Country_Flows!N9 -> 2.5290859e+09
A10: Italy | B10: ITA | C10: =Reconciled_Country_Flows!C10 -> 0.033240997 | D10: =Reconciled_Country_Flows!D10 -> 9.8402992e+08 | E10: =Reconciled_Country_Flows!F10 -> 1.0466593e+09 | F10: =Reconciled_Country_Flows!H10 -> 9.4181053e+08 | G10: =Reconciled_Country_Flows!J10 -> 6.4926648e+08 | H10: =Reconciled_Country_Flows!L10 -> 9.8257396e+08 | I10: =Reconciled_Country_Flows!N10 -> 1.3795014e+09
A11: United Kingdom | B11: GBR | C11: =Reconciled_Country_Flows!C11 -> 0.03601108 | D11: =Reconciled_Country_Flows!D11 -> 1.0660324e+09 | E11: =Reconciled_Country_Flows!F11 -> 1.1338809e+09 | F11: =Reconciled_Country_Flows!H11 -> 1.0202947e+09 | G11: =Reconciled_Country_Flows!J11 -> 7.0337202e+08 | H11: =Reconciled_Country_Flows!L11 -> 1.0644551e+09 | I11: =Reconciled_Country_Flows!N11 -> 1.4944598e+09
A12: Germany | B12: DEU | C12: =Reconciled_Country_Flows!C12 -> 0.026315789 | D12: =Reconciled_Country_Flows!D12 -> 7.7902368e+08 | E12: =Reconciled_Country_Flows!F12 -> 8.2860526e+08 | F12: =Reconciled_Country_Flows!H12 -> 7.456e+08 | G12: =Reconciled_Country_Flows!J12 -> 5.1400263e+08 | H12: =Reconciled_Country_Flows!L12 -> 7.7787105e+08 | I12: =Reconciled_Country_Flows!N12 -> 1.0921053e+09
A13: France | B13: FRA | C13: =Reconciled_Country_Flows!C13 -> 0.020775623 | D13: =Reconciled_Country_Flows!D13 -> 6.150187e+08 | E13: =Reconciled_Country_Flows!F13 -> 6.5416205e+08 | F13: =Reconciled_Country_Flows!H13 -> 5.8863158e+08 | G13: =Reconciled_Country_Flows!J13 -> 4.0579155e+08 | H13: =Reconciled_Country_Flows!L13 -> 6.1410873e+08 | I13: =Reconciled_Country_Flows!N13 -> 8.6218837e+08
... A55: Other Countries (Residual) | B55: OTHR | C55: =Reconciled_Country_Flows!C55 -> 0.024930748 | D55: =Reconciled_Country_Flows!D55 -> 7.3802244e+08 | E55: =Reconciled_Country_Flows!F55 -> 7.8499446e+08 | F55: =Reconciled_Country_Flows!H55 -> 7.0635789e+08 | G55: =Reconciled_Country_Flows!J55 -> 4.8694986e+08 | H55: =Reconciled_Country_Flows!L55 -> 7.3693047e+08 | I55: =Reconciled_Country_Flows!N55 -> 1.034626e+09
A56: TOTAL | B56: - | C56: =SUM(C2:C55) -> 1 | D56: =SUM(D2:D55) -> 29602900000 | E56: =SUM(E2:E55) -> 3.1487e+10 | F56: =SUM(F2:F55) -> 2.83328e+10 | G56: =SUM(G2:G55) -> 1.95321e+10 | H56: =SUM(H2:H55) -> 2.95591e+10 | I56: =SUM(I2:I55) -> 4.15e+10
A58: Notes:
A59: 1) This sheet now mirrors the expanded country list from Reconciled_Country_Flows.
A60: 2) Values are disclosure-weighted and reconciled to Egypt official annual totals.
A61: 3) 2025 now aligned to official CBE annual total until final official annual publication.
A62: 4) Edit corridor evidence scores in Corridor_Evidence to update all downstream values.

Sheet Sources_Method
A1: Category | B1: Source | C1: Link / Reference | D1: Usage
A2: Official Egypt totals | B2: World Bank indicator (Personal remittances, received) | C2: https://data.worldbank.org/indicator/BX.TRF.PWKR.CD.DT?locations=EG | D2: Official annual total inflow baseline
A3: Official Egypt totals | B3: Central Bank of Egypt publications | C3: https://www.cbe.org.eg/en/news-publications | D3: Cross-check annual and YTD remittance updates
A4: Bilateral structure | B4: World Bank / KNOMAD bilateral remittance matrix | C4: https://datacatalog.worldbank.org/search/dataset/0066146/knomad | D4: Indicative source-country structure
A5: Bilateral visualization | B5: Migration Policy Institute Data Hub | C5: https://www.migrationpolicy.org/programs/data-hub/charts/bilateral-remittance-flows | D5: Directional validation of source-country ranking
A6: Supporting proxy | B6: UN DESA migrant stock | C6: https://www.un.org/development/desa/pd/content/international-migrant-stock | D6: Proxy for corridor weighting where bilateral values are missing
A8: Enhancement | B8: Disclosure-weighted corridor mapping | C8: Workbook sheets: Corridor_Evidence, Reconciled_Country_Flows, Disclosure_Tracker | D8: Introduces transparent scoring + reconciliation to Egypt official totals
A9: Upgrade note | B9: Disclosure tracker updated with concrete official source links | C9: See Disclosure_Tracker reference block | D9: Use official sender-country totals as evidence inputs; retain reconciliation to Egypt official totals
A10: Growth justification | B10: CBE 2025 official annual remittances release | C10: https://www.cbe.org.eg/en/news-publications/news/2026/02/23/11/17/remittances-from-egyptians-working-abroad-record-usd-41,-d-,5-billion-during-2025 | D10: Anchors 2025 total at USD 41.5bn
A11: Growth justification | B11: IMF Egypt Article IV / EFF report | C11: https://www.imf.org/-/media/files/publications/cr/2024/english/1egyea2024002-print-pdf.pdf | D11: Policy and FX-market normalization context for formal channel rebound
A12: Growth justification | B12: World Bank/KNOMAD remittance blog | C12: https://blogs.worldbank.org/en/peoplemove/in-2024--remittance-flows-to-low--and-middle-income-countries-ar | D12: Regional narrative supporting rebound timing and trend
A13: Growth justification | B13: World Bank remittance indicator (Egypt) | C13: https://data.worldbank.org/indicator/BX.TRF.PWKR.CD.DT?locations=EG | D13: Historical baseline and YoY validation

Sheet Country_Scenarios_2020_2025
A1: Source Country | B1: ISO3 | C1: Share | D1: 2020 Base | E1: 2020 Low | F1: 2020 High | G1: 2020 Conf. Band % | H1: 2021 Base | I1: 2021 Low | J1: 2021 High | K1: 2021 Conf. Band % | L1: 2022 Base | M1: 2022 Low | N1: 2022 High | O1: 2022 Conf. Band % | P1: 2023 Base | Q1: 2023 Low | R1: 2023 High | S1: 2023 Conf. Band % | T1: 2024 Base | U1: 2024 Low | V1: 2024 High | W1: 2024 Conf. Band % | X1: 2025 Base | Y1: 2025 Low | Z1: 2025 High | AA1: 2025 Conf. Band % | AB1: Confidence Tier
A2: Saudi Arabia | B2: SAU | C2: 0.34 | D2: 10064986000 | E2: 9058487400 | F2: 11071484600 | G2: 0.1 | H2: 10705580000 | I2: 9635022000 | J2: 11776138000 | K2: 0.1 | L2: 9633152000 | M2: 8669836800 | N2: 10596467200 | O2: 0.1 | P2: 6.640914e+09 | Q2: 5.9768226e+09 | R2: 7.3050054e+09 | S2: 0.1 | T2: 10050094000 | U2: 9045084600 | V2: 11055103400 | W2: 0.1 | X2: 12988000000 | Y2: 11689200000 | Z2: 14286800000 | AA2: 0.1 | AB2: A (Higher confidence)
A3: United Arab Emirates | B3: ARE | C3: 0.22 | D3: 6512638000 | E3: 5861374200 | F3: 7.1639018e+09 | G3: 0.1 | H3: 6927140000 | I3: 6234426000 | J3: 7.619854e+09 | K3: 0.1 | L3: 6233216000 | M3: 5609894400 | N3: 6.8565376e+09 | O3: 0.1 | P3: 4297062000 | Q3: 3867355800 | R3: 4726768200 | S3: 0.1 | T3: 6503002000 | U3: 5852701800 | V3: 7.1533022e+09 | W3: 0.1 | X3: 8404000000 | Y3: 7563600000 | Z3: 9244400000 | AA3: 0.1 | AB3: A (Higher confidence)
A4: Kuwait | B4: KWT | C4: 0.09 | D4: 2664261000 | E4: 2397834900 | F4: 2930687100 | G4: 0.1 | H4: 2833830000 | I4: 2550447000 | J4: 3117213000 | K4: 0.1 | L4: 2549952000 | M4: 2294956800 | N4: 2804947200 | O4: 0.1 | P4: 1757889000 | Q4: 1582100100 | R4: 1933677900 | S4: 0.1 | T4: 2660319000 | U4: 2394287100 | V4: 2926350900 | W4: 0.1 | X4: 3438000000 | Y4: 3094200000 | Z4: 3781800000 | AA4: 0.1 | AB4: A (Higher confidence)
A5: United States | B5: USA | C5: 0.07 | D5: 2072203000 | E5: 1699206460 | F5: 2445199540 | G5: 0.18 | H5: 2204090000 | I5: 1807353800 | J5: 2600826200 | K5: 0.18 | L5: 1983296000 | M5: 1626302720 | N5: 2340289280 | O5: 0.18 | P5: 1367247000 | Q5: 1121142540 | R5: 1613351460 | S5: 0.18 | T5: 2069137000 | U5: 1696692340 | V5: 2441581660 | W5: 0.18 | X5: 2674000000 | Y5: 2192680000 | Z5: 3155320000 | AA5: 0.18 | AB5: B (Medium confidence)
A6: Jordan | B6: JOR | C6: 0.05 | D6: 1480145000 | E6: 1213718900 | F6: 1746571100 | G6: 0.18 | H6: 1574350000 | I6: 1290967000 | J6: 1857733000 | K6: 0.18 | L6: 1416640000 | M6: 1161644800 | N6: 1671635200 | O6: 0.18 | P6: 976605000 | Q6: 8.008161e+08 | R6: 1152393900 | S6: 0.18 | T6: 1477955000 | U6: 1211923100 | V6: 1743986900 | W6: 0.18 | X6: 1910000000 | Y6: 1566200000 | Z6: 2253800000 | AA6: 0.18 | AB6: B (Medium confidence)
A7: Qatar | B7: QAT | C7: 0.04 | D7: 1184116000 | E7: 1065704400 | F7: 1302527600 | G7: 0.1 | H7: 1259480000 | I7: 1133532000 | J7: 1385428000 | K7: 0.1 | L7: 1133312000 | M7: 1019980800 | N7: 1246643200 | O7: 0.1 | P7: 781284000 | Q7: 703155600 | R7: 8.594124e+08 | S7: 0.1 | T7: 1182364000 | U7: 1064127600 | V7: 1300600400 | W7: 0.1 | X7: 1528000000 | Y7: 1375200000 | Z7: 1680800000 | AA7: 0.1 | AB7: A (Higher confidence)
A8: Oman | B8: OMN | C8: 0.03 | D8: 888087000 | E8: 799278300 | F8: 9.768957e+08 | G8: 0.1 | H8: 944610000 | I8: 850149000 | J8: 1039071000 | K8: 0.1 | L8: 849984000 | M8: 764985600 | N8: 9.349824e+08 | O8: 0.1 | P8: 585963000 | Q8: 527366700 | R8: 644559300 | S8: 0.1 | T8: 886773000 | U8: 798095700 | V8: 9.754503e+08 | W8: 0.1 | X8: 1146000000 | Y8: 1031400000 | Z8: 1260600000 | AA8: 0.1 | AB8: A (Higher confidence)
A9: Bahrain | B9: BHR | C9: 0.02 | D9: 592058000 | E9: 532852200 | F9: 651263800 | G9: 0.1 | H9: 629740000 | I9: 566766000 | J9: 692714000 | K9: 0.1 | L9: 566656000 | M9: 509990400 | N9: 623321600 | O9: 0.1 | P9: 390642000 | Q9: 351577800 | R9: 4.297062e+08 | S9: 0.1 | T9: 591182000 | U9: 532063800 | V9: 650300200 | W9: 0.1 | X9: 764000000 | Y9: 687600000 | Z9: 8.404e+08 | AA9: 0.1 | AB9: A (Higher confidence)
A10: Italy | B10: ITA | C10: 0.02 | D10: 592058000 | E10: 4.8548756e+08 | F10: 698628440 | G10: 0.18 | H10: 629740000 | I10: 5.163868e+08 | J10: 743093200 | K10: 0.18 | L10: 566656000 | M10: 4.6465792e+08 | N10: 668654080 | O10: 0.18 | P10: 390642000 | Q10: 320326440 | R10: 460957560 | S10: 0.18 | T10: 591182000 | U10: 4.8476924e+08 | V10: 697594760 | W10: 0.18 | X10: 764000000 | Y10: 626480000 | Z10: 901520000 | AA10: 0.18 | AB10: B (Medium confidence)
A11: United Kingdom | B11: GBR | C11: 0.02 | D11: 592058000 | E11: 4.8548756e+08 | F11: 698628440 | G11: 0.18 | H11: 629740000 | I11: 5.163868e+08 | J11: 743093200 | K11: 0.18 | L11: 566656000 | M11: 4.6465792e+08 | N11: 668654080 | O11: 0.18 | P11: 390642000 | Q11: 320326440 | R11: 460957560 | S11: 0.18 | T11: 591182000 | U11: 4.8476924e+08 | V11: 697594760 | W11: 0.18 | X11: 764000000 | Y11: 626480000 | Z11: 901520000 | AA11: 0.18 | AB11: B (Medium confidence)
A12: Germany | B12: DEU | C12: 0.015 | D12: 444043500 | E12: 364115670 | F12: 523971330 | G12: 0.18 | H12: 472305000 | I12: 387290100 | J12: 557319900 | K12: 0.18 | L12: 424992000 | M12: 348493440 | N12: 501490560 | O12: 0.18 | P12: 292981500 | Q12: 240244830 | R12: 345718170 | S12: 0.18 | T12: 443386500 | U12: 363576930 | V12: 523196070 | W12: 0.18 | X12: 573000000 | Y12: 4.6986e+08 | Z12: 676140000 | AA12: 0.18 | AB12: B (Medium confidence)
A13: France | B13: FRA | C13: 0.01 | D13: 296029000 | E13: 242743780 | F13: 349314220 | G13: 0.18 | H13: 314870000 | I13: 258193400 | J13: 371546600 | K13: 0.18 | L13: 283328000 | M13: 232328960 | N13: 334327040 | O13: 0.18 | P13: 195321000 | Q13: 160163220 | R13: 230478780 | S13: 0.18 | T13: 295591000 | U13: 242384620 | V13: 348797380 | W13: 0.18 | X13: 382000000 | Y13: 313240000 | Z13: 450760000 | AA13: 0.18 | AB13: B (Medium confidence)
... A16: Others | B16: OTH | C16: 0.145 | D16: 4292420500 | E16: 3219315375 | F16: 5365525625 | G16: 0.25 | H16: 4565615000 | I16: 3424211250 | J16: 5707018750 | K16: 0.25 | L16: 4108256000 | M16: 3081192000 | N16: 5135320000 | O16: 0.25 | P16: 2832154500 | Q16: 2124115875 | R16: 3540193125 | S16: 0.25 | T16: 4286069500 | U16: 3214552125 | V16: 5357586875 | W16: 0.25 | X16: 5539000000 | Y16: 4154250000 | Z16: 6923750000 | AA16: 0.25 | AB16: C (Lower confidence)
A17: TOTAL | B17: - | C17: 1 | D17: =SUM(D2:D16) -> 32119146500 | E17: =SUM(E2:E16) -> 27789722375 | F17: =SUM(F2:F16) -> 36448570625 | G17: - | H17: =SUM(H2:H16) -> 34163395000 | I17: =SUM(I2:I16) -> 29558421250 | J17: =SUM(J2:J16) -> 38768368750 | K17: - | L17: =SUM(L2:L16) -> 30741088000 | M17: =SUM(M2:M16) -> 26597416000 | N17: =SUM(N2:N16) -> 34884760000 | O17: - | P17: =SUM(P2:P16) -> 21192328500 | Q17: =SUM(Q2:Q16) -> 18335758875 | R17: =SUM(R2:R16) -> 2.4048898e+10 | S17: - | T17: =SUM(T2:T16) -> 32071623500 | U17: =SUM(U2:U16) -> 27748605125 | V17: =SUM(V2:V16) -> 36394641875 | W17: - | X17: =SUM(X2:X16) -> 41447000000 | Y17: =SUM(Y2:Y16) -> 35860250000 | Z17: =SUM(Z2:Z16) -> 47033750000 | AA17: - | AB17: -
A19: Scenario Notes:
A20: 1) Base values are from Country_Flows_2020_2025.
A21: 2) Low/High are sensitivity bands around Base (not official bilateral disclosure).
A22: 3) Confidence bands by tier: A=+/-10%, B=+/-18%, C=+/-25%.
A23: 4) Use these ranges for investor planning, stress testing, and corridor prioritization.

Sheet Scenario_Summary
A1: Year | B1: Base Total (US$) | C1: Low Total (US$) | D1: High Total (US$) | E1: Range Width (US$) | F1: Range Width % of Base | G1: Source
A2: 2020 | B2: =Reconciled_Country_Flows!D56 -> 29602900000 | C2: =B2*0.85 -> 25162465000 | D2: =B2*1.15 -> 3.4043335e+10 | E2: =D2-C2 -> 8.88087e+09 | F2: =E2/B2 -> 0.3 | G2: Disclosure-weighted reconciliation
A3: 2021 | B3: =Reconciled_Country_Flows!F56 -> 3.1487e+10 | C3: =B3*0.85 -> 2.676395e+10 | D3: =B3*1.15 -> 36210050000 | E3: =D3-C3 -> 9.4461e+09 | F3: =E3/B3 -> 0.3 | G3: Disclosure-weighted reconciliation
A4: 2022 | B4: =Reconciled_Country_Flows!H56 -> 2.83328e+10 | C4: =B4*0.85 -> 2.408288e+10 | D4: =B4*1.15 -> 3.258272e+10 | E4: =D4-C4 -> 8499840000 | F4: =E4/B4 -> 0.3 | G4: Disclosure-weighted reconciliation
A5: 2023 | B5: =Reconciled_Country_Flows!J56 -> 1.95321e+10 | C5: =B5*0.85 -> 1.6602285e+10 | D5: =B5*1.15 -> 2.2461915e+10 | E5: =D5-C5 -> 5.85963e+09 | F5: =E5/B5 -> 0.3 | G5: Disclosure-weighted reconciliation
A6: 2024 | B6: =Reconciled_Country_Flows!L56 -> 2.95591e+10 | C6: =B6*0.85 -> 2.5125235e+10 | D6: =B6*1.15 -> 3.3992965e+10 | E6: =D6-C6 -> 8.86773e+09 | F6: =E6/B6 -> 0.3 | G6: Disclosure-weighted reconciliation
A7: 2025 | B7: =Reconciled_Country_Flows!N56 -> 4.15e+10 | C7: =Reconciled_Country_Flows!Q56 -> 3.5472729e+10 | D7: =Reconciled_Country_Flows!S56 -> 4.7527271e+10 | E7: =D7-C7 -> 1.2054543e+10 | F7: =E7/B7 -> 0.29047091 | G7: Disclosure-weighted reconciliation

Sheet Corridor_Evidence
A1: Source Country | B1: ISO3 | C1: Region Group | D1: Data Status | E1: Primary Reference | F1: Disclosure Notes | G1: Base Evidence Score (0-100) | H1: 2020 Adj | I1: 2021 Adj | J1: 2022 Adj | K1: 2023 Adj | L1: 2024 Adj | M1: 2025 Adj | N1: 2020 Weighted | O1: 2021 Weighted | P1: 2022 Weighted | Q1: 2023 Weighted | R1: 2024 Weighted | S1: 2025 Weighted
A2: Saudi Arabia | B2: SAU | C2: GCC Core | D2: Partial | E2: Populate with sender-country central bank/statistics publication | F2: Expanded long-tail coverage; update score with disclosed evidence when available | G2: 95 | H2: 1 | I2: 1.05 | J2: 0.97 | K2: 0.86 | L2: 1.1 | M2: 1.16 | N2: =G2*H2 -> 95 | O2: =G2*I2 -> 99.75 | P2: =G2*J2 -> 92.15 | Q2: =G2*K2 -> 81.7 | R2: =G2*L2 -> 104.5 | S2: =G2*M2 -> 110.2
A3: United Arab Emirates | B3: ARE | C3: GCC Core | D3: Partial | E3: Populate with sender-country central bank/statistics publication | F3: Expanded long-tail coverage; update score with disclosed evidence when available | G3: 88 | H3: 1 | I3: 1.05 | J3: 0.97 | K3: 0.86 | L3: 1.1 | M3: 1.16 | N3: =G3*H3 -> 88 | O3: =G3*I3 -> 92.4 | P3: =G3*J3 -> 85.36 | Q3: =G3*K3 -> 75.68 | R3: =G3*L3 -> 96.8 | S3: =G3*M3 -> 102.08
A4: Kuwait | B4: KWT | C4: GCC Core | D4: Partial | E4: Populate with sender-country central bank/statistics publication | F4: Expanded long-tail coverage; update score with disclosed evidence when available | G4: 72 | H4: 1 | I4: 1.05 | J4: 0.97 | K4: 0.86 | L4: 1.1 | M4: 1.16 | N4: =G4*H4 -> 72 | O4: =G4*I4 -> 75.6 | P4: =G4*J4 -> 69.84 | Q4: =G4*K4 -> 61.92 | R4: =G4*L4 -> 79.2 | S4: =G4*M4 -> 83.52
A5: Qatar | B5: QAT | C5: GCC Core | D5: Partial | E5: Populate with sender-country central bank/statistics publication | F5: Expanded long-tail coverage; update score with disclosed evidence when available | G5: 58 | H5: 1 | I5: 1.05 | J5: 0.97 | K5: 0.86 | L5: 1.1 | M5: 1.16 | N5: =G5*H5 -> 58 | O5: =G5*I5 -> 60.9 | P5: =G5*J5 -> 56.26 | Q5: =G5*K5 -> 49.88 | R5: =G5*L5 -> 63.8 | S5: =G5*M5 -> 67.28
A6: Oman | B6: OMN | C6: GCC Core | D6: Partial | E6: Populate with sender-country central bank/statistics publication | F6: Expanded long-tail coverage; update score with disclosed evidence when available | G6: 46 | H6: 1 | I6: 1.05 | J6: 0.97 | K6: 0.86 | L6: 1.1 | M6: 1.16 | N6: =G6*H6 -> 46 | O6: =G6*I6 -> 48.3 | P6: =G6*J6 -> 44.62 | Q6: =G6*K6 -> 39.56 | R6: =G6*L6 -> 50.6 | S6: =G6*M6 -> 53.36
A7: Bahrain | B7: BHR | C7: GCC Core | D7: Partial | E7: Populate with sender-country central bank/statistics publication | F7: Expanded long-tail coverage; update score with disclosed evidence when available | G7: 32 | H7: 1 | I7: 1.05 | J7: 0.97 | K7: 0.86 | L7: 1.1 | M7: 1.16 | N7: =G7*H7 -> 32 | O7: =G7*I7 -> 33.6 | P7: =G7*J7 -> 31.04 | Q7: =G7*K7 -> 27.52 | R7: =G7*L7 -> 35.2 | S7: =G7*M7 -> 37.12
A8: Jordan | B8: JOR | C8: MENA Adjacent | D8: Limited | E8: Populate with sender-country central bank/statistics publication | F8: Expanded long-tail coverage; update score with disclosed evidence when available | G8: 38 | H8: 1 | I8: 1.05 | J8: 0.97 | K8: 0.86 | L8: 1.1 | M8: 1.16 | N8: =G8*H8 -> 38 | O8: =G8*I8 -> 39.9 | P8: =G8*J8 -> 36.86 | Q8: =G8*K8 -> 32.68 | R8: =G8*L8 -> 41.8 | S8: =G8*M8 -> 44.08
A9: United States | B9: USA | C9: OECD | D9: Limited | E9: Populate with sender-country central bank/statistics publication | F9: Expanded long-tail coverage; update score with disclosed evidence when available | G9: 44 | H9: 1 | I9: 1.05 | J9: 0.97 | K9: 0.86 | L9: 1.1 | M9: 1.16 | N9: =G9*H9 -> 44 | O9: =G9*I9 -> 46.2 | P9: =G9*J9 -> 42.68 | Q9: =G9*K9 -> 37.84 | R9: =G9*L9 -> 48.4 | S9: =G9*M9 -> 51.04
A10: Italy | B10: ITA | C10: OECD | D10: Limited | E10: Populate with sender-country central bank/statistics publication | F10: Expanded long-tail coverage; update score with disclosed evidence when available | G10: 24 | H10: 1 | I10: 1.05 | J10: 0.97 | K10: 0.86 | L10: 1.1 | M10: 1.16 | N10: =G10*H10 -> 24 | O10: =G10*I10 -> 25.2 | P10: =G10*J10 -> 23.28 | Q10: =G10*K10 -> 20.64 | R10: =G10*L10 -> 26.4 | S10: =G10*M10 -> 27.84
A11: United Kingdom | B11: GBR | C11: OECD | D11: Limited | E11: Populate with sender-country central bank/statistics publication | F11: Expanded long-tail coverage; update score with disclosed evidence when available | G11: 26 | H11: 1 | I11: 1.05 | J11: 0.97 | K11: 0.86 | L11: 1.1 | M11: 1.16 | N11: =G11*H11 -> 26 | O11: =G11*I11 -> 27.3 | P11: =G11*J11 -> 25.22 | Q11: =G11*K11 -> 22.36 | R11: =G11*L11 -> 28.6 | S11: =G11*M11 -> 30.16
A12: Germany | B12: DEU | C12: OECD | D12: Limited | E12: Populate with sender-country central bank/statistics publication | F12: Expanded long-tail coverage; update score with disclosed evidence when available | G12: 19 | H12: 1 | I12: 1.05 | J12: 0.97 | K12: 0.86 | L12: 1.1 | M12: 1.16 | N12: =G12*H12 -> 19 | O12: =G12*I12 -> 19.95 | P12: =G12*J12 -> 18.43 | Q12: =G12*K12 -> 16.34 | R12: =G12*L12 -> 20.9 | S12: =G12*M12 -> 22.04
A13: France | B13: FRA | C13: OECD | D13: Limited | E13: Populate with sender-country central bank/statistics publication | F13: Expanded long-tail coverage; update score with disclosed evidence when available | G13: 15 | H13: 1 | I13: 1.05 | J13: 0.97 | K13: 0.86 | L13: 1.1 | M13: 1.16 | N13: =G13*H13 -> 15 | O13: =G13*I13 -> 15.75 | P13: =G13*J13 -> 14.55 | Q13: =G13*K13 -> 12.9 | R13: =G13*L13 -> 16.5 | S13: =G13*M13 -> 17.4
... A55: Other Countries (Residual) | B55: OTHR | C55: Residual | D55: Residual Model | E55: Populate with sender-country central bank/statistics publication | F55: Expanded long-tail coverage; update score with disclosed evidence when available | G55: 18 | H55: 1 | I55: 1.05 | J55: 0.97 | K55: 0.86 | L55: 1.1 | M55: 1.16 | N55: =G55*H55 -> 18 | O55: =G55*I55 -> 18.9 | P55: =G55*J55 -> 17.46 | Q55: =G55*K55 -> 15.48 | R55: =G55*L55 -> 19.8 | S55: =G55*M55 -> 20.88
A56: TOTAL WEIGHT | N56: =SUM(N2:N55) -> 722 | O56: =SUM(O2:O55) -> 758.1 | P56: =SUM(P2:P55) -> 700.34 | Q56: =SUM(Q2:Q55) -> 620.92 | R56: =SUM(R2:R55) -> 794.2 | S56: =SUM(S2:S55) -> 837.52

Sheet Reconciled_Country_Flows
A1: Source Country | B1: ISO3 | C1: 2020 Share | D1: 2020 Value (US$) | E1: 2021 Share | F1: 2021 Value (US$) | G1: 2022 Share | H1: 2022 Value (US$) | I1: 2023 Share | J1: 2023 Value (US$) | K1: 2024 Share | L1: 2024 Value (US$) | M1: 2025 Share | N1: 2025 Value (US$) | O1: Confidence Tier | P1: Band % | Q1: 2025 Low | R1: 2025 Base | S1: 2025 High
A2: Saudi Arabia | B2: SAU | C2: =Corridor_Evidence!N2/Corridor_Evidence!N56 -> 0.13157895 | D2: =C2*Egypt_Total_YOY!O5 -> 3.8951184e+09 | E2: =Corridor_Evidence!O2/Corridor_Evidence!O56 -> 0.13157895 | F2: =E2*Egypt_Total_YOY!P5 -> 4.1430263e+09 | G2: =Corridor_Evidence!P2/Corridor_Evidence!P56 -> 0.13157895 | H2: =G2*Egypt_Total_YOY!Q5 -> 3.728e+09 | I2: =Corridor_Evidence!Q2/Corridor_Evidence!Q56 -> 0.13157895 | J2: =I2*Egypt_Total_YOY!R5 -> 2.5700132e+09 | K2: =Corridor_Evidence!R2/Corridor_Evidence!R56 -> 0.13157895 | L2: =K2*Egypt_Total_YOY!S5 -> 3.8893553e+09 | M2: =Corridor_Evidence!S2/Corridor_Evidence!S56 -> 0.13157895 | N2: =M2*Egypt_Total_YOY!T5 -> 5.4605263e+09 | O2: A | P2: 0.1 | Q2: =N2*(1-P2) -> 4.9144737e+09 | R2: =N2 -> 5.4605263e+09 | S2: =N2*(1+P2) -> 6.0065789e+09
A3: United Arab Emirates | B3: ARE | C3: =Corridor_Evidence!N3/Corridor_Evidence!N56 -> 0.12188366 | D3: =C3*Egypt_Total_YOY!O5 -> 3.6081097e+09 | E3: =Corridor_Evidence!O3/Corridor_Evidence!O56 -> 0.12188366 | F3: =E3*Egypt_Total_YOY!P5 -> 3.8377507e+09 | G3: =Corridor_Evidence!P3/Corridor_Evidence!P56 -> 0.12188366 | H3: =G3*Egypt_Total_YOY!Q5 -> 3.4533053e+09 | I3: =Corridor_Evidence!Q3/Corridor_Evidence!Q56 -> 0.12188366 | J3: =I3*Egypt_Total_YOY!R5 -> 2.3806438e+09 | K3: =Corridor_Evidence!R3/Corridor_Evidence!R56 -> 0.12188366 | L3: =K3*Egypt_Total_YOY!S5 -> 3.6027712e+09 | M3: =Corridor_Evidence!S3/Corridor_Evidence!S56 -> 0.12188366 | N3: =M3*Egypt_Total_YOY!T5 -> 5.0581717e+09 | O3: A | P3: 0.1 | Q3: =N3*(1-P3) -> 4.5523546e+09 | R3: =N3 -> 5.0581717e+09 | S3: =N3*(1+P3) -> 5.5639889e+09
A4: Kuwait | B4: KWT | C4: =Corridor_Evidence!N4/Corridor_Evidence!N56 -> 0.099722992 | D4: =C4*Egypt_Total_YOY!O5 -> 2.9520898e+09 | E4: =Corridor_Evidence!O4/Corridor_Evidence!O56 -> 0.099722992 | F4: =E4*Egypt_Total_YOY!P5 -> 3.1399778e+09 | G4: =Corridor_Evidence!P4/Corridor_Evidence!P56 -> 0.099722992 | H4: =G4*Egypt_Total_YOY!Q5 -> 2.8254316e+09 | I4: =Corridor_Evidence!Q4/Corridor_Evidence!Q56 -> 0.099722992 | J4: =I4*Egypt_Total_YOY!R5 -> 1.9477994e+09 | K4: =Corridor_Evidence!R4/Corridor_Evidence!R56 -> 0.099722992 | L4: =K4*Egypt_Total_YOY!S5 -> 2.9477219e+09 | M4: =Corridor_Evidence!S4/Corridor_Evidence!S56 -> 0.099722992 | N4: =M4*Egypt_Total_YOY!T5 -> 4.1385042e+09 | O4: A | P4: 0.1 | Q4: =N4*(1-P4) -> 3.7246537e+09 | R4: =N4 -> 4.1385042e+09 | S4: =N4*(1+P4) -> 4.5523546e+09
A5: Qatar | B5: QAT | C5: =Corridor_Evidence!N5/Corridor_Evidence!N56 -> 0.08033241 | D5: =C5*Egypt_Total_YOY!O5 -> 2.3780723e+09 | E5: =Corridor_Evidence!O5/Corridor_Evidence!O56 -> 0.08033241 | F5: =E5*Egypt_Total_YOY!P5 -> 2.5294266e+09 | G5: =Corridor_Evidence!P5/Corridor_Evidence!P56 -> 0.08033241 | H5: =G5*Egypt_Total_YOY!Q5 -> 2.2760421e+09 | I5: =Corridor_Evidence!Q5/Corridor_Evidence!Q56 -> 0.08033241 | J5: =I5*Egypt_Total_YOY!R5 -> 1.5690607e+09 | K5: =Corridor_Evidence!R5/Corridor_Evidence!R56 -> 0.08033241 | L5: =K5*Egypt_Total_YOY!S5 -> 2.3745537e+09 | M5: =Corridor_Evidence!S5/Corridor_Evidence!S56 -> 0.08033241 | N5: =M5*Egypt_Total_YOY!T5 -> 3.333795e+09 | O5: A | P5: 0.1 | Q5: =N5*(1-P5) -> 3.0004155e+09 | R5: =N5 -> 3.333795e+09 | S5: =N5*(1+P5) -> 3.6671745e+09
A6: Oman | B6: OMN | C6: =Corridor_Evidence!N6/Corridor_Evidence!N56 -> 0.063711911 | D6: =C6*Egypt_Total_YOY!O5 -> 1.8860573e+09 | E6: =Corridor_Evidence!O6/Corridor_Evidence!O56 -> 0.063711911 | F6: =E6*Egypt_Total_YOY!P5 -> 2.006097e+09 | G6: =Corridor_Evidence!P6/Corridor_Evidence!P56 -> 0.063711911 | H6: =G6*Egypt_Total_YOY!Q5 -> 1.8051368e+09 | I6: =Corridor_Evidence!Q6/Corridor_Evidence!Q56 -> 0.063711911 | J6: =I6*Egypt_Total_YOY!R5 -> 1.2444274e+09 | K6: =Corridor_Evidence!R6/Corridor_Evidence!R56 -> 0.063711911 | L6: =K6*Egypt_Total_YOY!S5 -> 1.8832668e+09 | M6: =Corridor_Evidence!S6/Corridor_Evidence!S56 -> 0.063711911 | N6: =M6*Egypt_Total_YOY!T5 -> 2.6440443e+09 | O6: A | P6: 0.1 | Q6: =N6*(1-P6) -> 2.3796399e+09 | R6: =N6 -> 2.6440443e+09 | S6: =N6*(1+P6) -> 2.9084488e+09
A7: Bahrain | B7: BHR | C7: =Corridor_Evidence!N7/Corridor_Evidence!N56 -> 0.04432133 | D7: =C7*Egypt_Total_YOY!O5 -> 1.3120399e+09 | E7: =Corridor_Evidence!O7/Corridor_Evidence!O56 -> 0.04432133 | F7: =E7*Egypt_Total_YOY!P5 -> 1.3955457e+09 | G7: =Corridor_Evidence!P7/Corridor_Evidence!P56 -> 0.04432133 | H7: =G7*Egypt_Total_YOY!Q5 -> 1.2557474e+09 | I7: =Corridor_Evidence!Q7/Corridor_Evidence!Q56 -> 0.04432133 | J7: =I7*Egypt_Total_YOY!R5 -> 8.6568864e+08 | K7: =Corridor_Evidence!R7/Corridor_Evidence!R56 -> 0.04432133 | L7: =K7*Egypt_Total_YOY!S5 -> 1.3100986e+09 | M7: =Corridor_Evidence!S7/Corridor_Evidence!S56 -> 0.04432133 | N7: =M7*Egypt_Total_YOY!T5 -> 1.8393352e+09 | O7: A | P7: 0.1 | Q7: =N7*(1-P7) -> 1.6554017e+09 | R7: =N7 -> 1.8393352e+09 | S7: =N7*(1+P7) -> 2.0232687e+09
A8: Jordan | B8: JOR | C8: =Corridor_Evidence!N8/Corridor_Evidence!N56 -> 0.052631579 | D8: =C8*Egypt_Total_YOY!O5 -> 1.5580474e+09 | E8: =Corridor_Evidence!O8/Corridor_Evidence!O56 -> 0.052631579 | F8: =E8*Egypt_Total_YOY!P5 -> 1.6572105e+09 | G8: =Corridor_Evidence!P8/Corridor_Evidence!P56 -> 0.052631579 | H8: =G8*Egypt_Total_YOY!Q5 -> 1.4912e+09 | I8: =Corridor_Evidence!Q8/Corridor_Evidence!Q56 -> 0.052631579 | J8: =I8*Egypt_Total_YOY!R5 -> 1.0280053e+09 | K8: =Corridor_Evidence!R8/Corridor_Evidence!R56 -> 0.052631579 | L8: =K8*Egypt_Total_YOY!S5 -> 1.5557421e+09 | M8: =Corridor_Evidence!S8/Corridor_Evidence!S56 -> 0.052631579 | N8: =M8*Egypt_Total_YOY!T5 -> 2.1842105e+09 | O8: B | P8: 0.18 | Q8: =N8*(1-P8) -> 1.7910526e+09 | R8: =N8 -> 2.1842105e+09 | S8: =N8*(1+P8) -> 2.5773684e+09
A9: United States | B9: USA | C9: =Corridor_Evidence!N9/Corridor_Evidence!N56 -> 0.060941828 | D9: =C9*Egypt_Total_YOY!O5 -> 1.8040548e+09 | E9: =Corridor_Evidence!O9/Corridor_Evidence!O56 -> 0.060941828 | F9: =E9*Egypt_Total_YOY!P5 -> 1.9188753e+09 | G9: =Corridor_Evidence!P9/Corridor_Evidence!P56 -> 0.060941828 | H9: =G9*Egypt_Total_YOY!Q5 -> 1.7266526e+09 | I9: =Corridor_Evidence!Q9/Corridor_Evidence!Q56 -> 0.060941828 | J9: =I9*Egypt_Total_YOY!R5 -> 1.1903219e+09 | K9: =Corridor_Evidence!R9/Corridor_Evidence!R56 -> 0.060941828 | L9: =K9*Egypt_Total_YOY!S5 -> 1.8013856e+09 | M9: =Corridor_Evidence!S9/Corridor_Evidence!S56 -> 0.060941828 | N9: =M9*Egypt_Total_YOY!T5 -> 2.5290859e+09 | O9: B | P9: 0.18 | Q9: =N9*(1-P9) -> 2.0738504e+09 | R9: =N9 -> 2.5290859e+09 | S9: =N9*(1+P9) -> 2.9843213e+09
A10: Italy | B10: ITA | C10: =Corridor_Evidence!N10/Corridor_Evidence!N56 -> 0.033240997 | D10: =C10*Egypt_Total_YOY!O5 -> 9.8402992e+08 | E10: =Corridor_Evidence!O10/Corridor_Evidence!O56 -> 0.033240997 | F10: =E10*Egypt_Total_YOY!P5 -> 1.0466593e+09 | G10: =Corridor_Evidence!P10/Corridor_Evidence!P56 -> 0.033240997 | H10: =G10*Egypt_Total_YOY!Q5 -> 9.4181053e+08 | I10: =Corridor_Evidence!Q10/Corridor_Evidence!Q56 -> 0.033240997 | J10: =I10*Egypt_Total_YOY!R5 -> 6.4926648e+08 | K10: =Corridor_Evidence!R10/Corridor_Evidence!R56 -> 0.033240997 | L10: =K10*Egypt_Total_YOY!S5 -> 9.8257396e+08 | M10: =Corridor_Evidence!S10/Corridor_Evidence!S56 -> 0.033240997 | N10: =M10*Egypt_Total_YOY!T5 -> 1.3795014e+09 | O10: B | P10: 0.18 | Q10: =N10*(1-P10) -> 1.1311911e+09 | R10: =N10 -> 1.3795014e+09 | S10: =N10*(1+P10) -> 1.6278116e+09
A11: United Kingdom | B11: GBR | C11: =Corridor_Evidence!N11/Corridor_Evidence!N56 -> 0.03601108 | D11: =C11*Egypt_Total_YOY!O5 -> 1.0660324e+09 | E11: =Corridor_Evidence!O11/Corridor_Evidence!O56 -> 0.03601108 | F11: =E11*Egypt_Total_YOY!P5 -> 1.1338809e+09 | G11: =Corridor_Evidence!P11/Corridor_Evidence!P56 -> 0.03601108 | H11: =G11*Egypt_Total_YOY!Q5 -> 1.0202947e+09 | I11: =Corridor_Evidence!Q11/Corridor_Evidence!Q56 -> 0.03601108 | J11: =I11*Egypt_Total_YOY!R5 -> 7.0337202e+08 | K11: =Corridor_Evidence!R11/Corridor_Evidence!R56 -> 0.03601108 | L11: =K11*Egypt_Total_YOY!S5 -> 1.0644551e+09 | M11: =Corridor_Evidence!S11/Corridor_Evidence!S56 -> 0.03601108 | N11: =M11*Egypt_Total_YOY!T5 -> 1.4944598e+09 | O11: B | P11: 0.18 | Q11: =N11*(1-P11) -> 1.2254571e+09 | R11: =N11 -> 1.4944598e+09 | S11: =N11*(1+P11) -> 1.7634626e+09
A12: Germany | B12: DEU | C12: =Corridor_Evidence!N12/Corridor_Evidence!N56 -> 0.026315789 | D12: =C12*Egypt_Total_YOY!O5 -> 7.7902368e+08 | E12: =Corridor_Evidence!O12/Corridor_Evidence!O56 -> 0.026315789 | F12: =E12*Egypt_Total_YOY!P5 -> 8.2860526e+08 | G12: =Corridor_Evidence!P12/Corridor_Evidence!P56 -> 0.026315789 | H12: =G12*Egypt_Total_YOY!Q5 -> 7.456e+08 | I12: =Corridor_Evidence!Q12/Corridor_Evidence!Q56 -> 0.026315789 | J12: =I12*Egypt_Total_YOY!R5 -> 5.1400263e+08 | K12: =Corridor_Evidence!R12/Corridor_Evidence!R56 -> 0.026315789 | L12: =K12*Egypt_Total_YOY!S5 -> 7.7787105e+08 | M12: =Corridor_Evidence!S12/Corridor_Evidence!S56 -> 0.026315789 | N12: =M12*Egypt_Total_YOY!T5 -> 1.0921053e+09 | O12: B | P12: 0.18 | Q12: =N12*(1-P12) -> 8.9552632e+08 | R12: =N12 -> 1.0921053e+09 | S12: =N12*(1+P12) -> 1.2886842e+09
A13: France | B13: FRA | C13: =Corridor_Evidence!N13/Corridor_Evidence!N56 -> 0.020775623 | D13: =C13*Egypt_Total_YOY!O5 -> 6.150187e+08 | E13: =Corridor_Evidence!O13/Corridor_Evidence!O56 -> 0.020775623 | F13: =E13*Egypt_Total_YOY!P5 -> 6.5416205e+08 | G13: =Corridor_Evidence!P13/Corridor_Evidence!P56 -> 0.020775623 | H13: =G13*Egypt_Total_YOY!Q5 -> 5.8863158e+08 | I13: =Corridor_Evidence!Q13/Corridor_Evidence!Q56 -> 0.020775623 | J13: =I13*Egypt_Total_YOY!R5 -> 4.0579155e+08 | K13: =Corridor_Evidence!R13/Corridor_Evidence!R56 -> 0.020775623 | L13: =K13*Egypt_Total_YOY!S5 -> 6.1410873e+08 | M13: =Corridor_Evidence!S13/Corridor_Evidence!S56 -> 0.020775623 | N13: =M13*Egypt_Total_YOY!T5 -> 8.6218837e+08 | O13: B | P13: 0.18 | Q13: =N13*(1-P13) -> 7.0699446e+08 | R13: =N13 -> 8.6218837e+08 | S13: =N13*(1+P13) -> 1.0173823e+09
A14: Canada | B14: CAN | C14: =Corridor_Evidence!N14/Corridor_Evidence!N56 -> 0.019390582 | D14: =C14*Egypt_Total_YOY!O5 -> 5.7401745e+08 | E14: =Corridor_Evidence!O14/Corridor_Evidence!O56 -> 0.019390582 | F14: =E14*Egypt_Total_YOY!P5 -> 6.1055125e+08 | G14: =Corridor_Evidence!P14/Corridor_Evidence!P56 -> 0.019390582 | H14: =G14*Egypt_Total_YOY!Q5 -> 5.4938947e+08 | I14: =Corridor_Evidence!Q14/Corridor_Evidence!Q56 -> 0.019390582 | J14: =I14*Egypt_Total_YOY!R5 -> 3.7873878e+08 | K14: =Corridor_Evidence!R14/Corridor_Evidence!R56 -> 0.019390582 | L14: =K14*Egypt_Total_YOY!S5 -> 5.7316814e+08 | M14: =Corridor_Evidence!S14/Corridor_Evidence!S56 -> 0.019390582 | N14: =M14*Egypt_Total_YOY!T5 -> 8.0470914e+08 | O14: B | P14: 0.18 | Q14: =N14*(1-P14) -> 6.598615e+08 | R14: =N14 -> 8.0470914e+08 | S14: =N14*(1+P14) -> 9.4955679e+08
A15: Greece | B15: GRC | C15: =Corridor_Evidence!N15/Corridor_Evidence!N56 -> 0.013850416 | D15: =C15*Egypt_Total_YOY!O5 -> 4.1001247e+08 | E15: =Corridor_Evidence!O15/Corridor_Evidence!O56 -> 0.013850416 | F15: =E15*Egypt_Total_YOY!P5 -> 4.3610803e+08 | G15: =Corridor_Evidence!P15/Corridor_Evidence!P56 -> 0.013850416 | H15: =G15*Egypt_Total_YOY!Q5 -> 3.9242105e+08 | I15: =Corridor_Evidence!Q15/Corridor_Evidence!Q56 -> 0.013850416 | J15: =I15*Egypt_Total_YOY!R5 -> 2.705277e+08 | K15: =Corridor_Evidence!R15/Corridor_Evidence!R56 -> 0.013850416 | L15: =K15*Egypt_Total_YOY!S5 -> 4.0940582e+08 | M15: =Corridor_Evidence!S15/Corridor_Evidence!S56 -> 0.013850416 | N15: =M15*Egypt_Total_YOY!T5 -> 5.7479224e+08 | O15: B | P15: 0.18 | Q15: =N15*(1-P15) -> 4.7132964e+08 | R15: =N15 -> 5.7479224e+08 | S15: =N15*(1+P15) -> 6.7825485e+08
A16: Spain | B16: ESP | C16: =Corridor_Evidence!N16/Corridor_Evidence!N56 -> 0.011080332 | D16: =C16*Egypt_Total_YOY!O5 -> 3.2800997e+08 | E16: =Corridor_Evidence!O16/Corridor_Evidence!O56 -> 0.011080332 | F16: =E16*Egypt_Total_YOY!P5 -> 3.4888643e+08 | G16: =Corridor_Evidence!P16/Corridor_Evidence!P56 -> 0.011080332 | H16: =G16*Egypt_Total_YOY!Q5 -> 3.1393684e+08 | I16: =Corridor_Evidence!Q16/Corridor_Evidence!Q56 -> 0.011080332 | J16: =I16*Egypt_Total_YOY!R5 -> 2.1642216e+08 | K16: =Corridor_Evidence!R16/Corridor_Evidence!R56 -> 0.011080332 | L16: =K16*Egypt_Total_YOY!S5 -> 3.2752465e+08 | M16: =Corridor_Evidence!S16/Corridor_Evidence!S56 -> 0.011080332 | N16: =M16*Egypt_Total_YOY!T5 -> 4.598338e+08 | O16: C | P16: 0.22 | Q16: =N16*(1-P16) -> 3.5867036e+08 | R16: =N16 -> 4.598338e+08 | S16: =N16*(1+P16) -> 5.6099723e+08
A17: Netherlands | B17: NLD | C17: =Corridor_Evidence!N17/Corridor_Evidence!N56 -> 0.0096952909 | D17: =C17*Egypt_Total_YOY!O5 -> 2.8700873e+08 | E17: =Corridor_Evidence!O17/Corridor_Evidence!O56 -> 0.0096952909 | F17: =E17*Egypt_Total_YOY!P5 -> 3.0527562e+08 | G17: =Corridor_Evidence!P17/Corridor_Evidence!P56 -> 0.0096952909 | H17: =G17*Egypt_Total_YOY!Q5 -> 2.7469474e+08 | I17: =Corridor_Evidence!Q17/Corridor_Evidence!Q56 -> 0.0096952909 | J17: =I17*Egypt_Total_YOY!R5 -> 1.8936939e+08 | K17: =Corridor_Evidence!R17/Corridor_Evidence!R56 -> 0.0096952909 | L17: =K17*Egypt_Total_YOY!S5 -> 2.8658407e+08 | M17: =Corridor_Evidence!S17/Corridor_Evidence!S56 -> 0.0096952909 | N17: =M17*Egypt_Total_YOY!T5 -> 4.0235457e+08 | O17: C | P17: 0.22 | Q17: =N17*(1-P17) -> 3.1383657e+08 | R17: =N17 -> 4.0235457e+08 | S17: =N17*(1+P17) -> 4.9087258e+08
A18: Belgium | B18: BEL | C18: =Corridor_Evidence!N18/Corridor_Evidence!N56 -> 0.0083102493 | D18: =C18*Egypt_Total_YOY!O5 -> 2.4600748e+08 | E18: =Corridor_Evidence!O18/Corridor_Evidence!O56 -> 0.0083102493 | F18: =E18*Egypt_Total_YOY!P5 -> 2.6166482e+08 | G18: =Corridor_Evidence!P18/Corridor_Evidence!P56 -> 0.0083102493 | H18: =G18*Egypt_Total_YOY!Q5 -> 2.3545263e+08 | I18: =Corridor_Evidence!Q18/Corridor_Evidence!Q56 -> 0.0083102493 | J18: =I18*Egypt_Total_YOY!R5 -> 1.6231662e+08 | K18: =Corridor_Evidence!R18/Corridor_Evidence!R56 -> 0.0083102493 | L18: =K18*Egypt_Total_YOY!S5 -> 2.4564349e+08 | M18: =Corridor_Evidence!S18/Corridor_Evidence!S56 -> 0.0083102493 | N18: =M18*Egypt_Total_YOY!T5 -> 3.4487535e+08 | O18: C | P18: 0.22 | Q18: =N18*(1-P18) -> 2.6900277e+08 | R18: =N18 -> 3.4487535e+08 | S18: =N18*(1+P18) -> 4.2074792e+08
A19: Switzerland | B19: CHE | C19: =Corridor_Evidence!N19/Corridor_Evidence!N56 -> 0.0096952909 | D19: =C19*Egypt_Total_YOY!O5 -> 2.8700873e+08 | E19: =Corridor_Evidence!O19/Corridor_Evidence!O56 -> 0.0096952909 | F19: =E19*Egypt_Total_YOY!P5 -> 3.0527562e+08 | G19: =Corridor_Evidence!P19/Corridor_Evidence!P56 -> 0.0096952909 | H19: =G19*Egypt_Total_YOY!Q5 -> 2.7469474e+08 | I19: =Corridor_Evidence!Q19/Corridor_Evidence!Q56 -> 0.0096952909 | J19: =I19*Egypt_Total_YOY!R5 -> 1.8936939e+08 | K19: =Corridor_Evidence!R19/Corridor_Evidence!R56 -> 0.0096952909 | L19: =K19*Egypt_Total_YOY!S5 -> 2.8658407e+08 | M19: =Corridor_Evidence!S19/Corridor_Evidence!S56 -> 0.0096952909 | N19: =M19*Egypt_Total_YOY!T5 -> 4.0235457e+08 | O19: C | P19: 0.22 | Q19: =N19*(1-P19) -> 3.1383657e+08 | R19: =N19 -> 4.0235457e+08 | S19: =N19*(1+P19) -> 4.9087258e+08
A20: Austria | B20: AUT | C20: =Corridor_Evidence!N20/Corridor_Evidence!N56 -> 0.0069252078 | D20: =C20*Egypt_Total_YOY!O5 -> 2.0500623e+08 | E20: =Corridor_Evidence!O20/Corridor_Evidence!O56 -> 0.0069252078 | F20: =E20*Egypt_Total_YOY!P5 -> 2.1805402e+08 | G20: =Corridor_Evidence!P20/Corridor_Evidence!P56 -> 0.0069252078 | H20: =G20*Egypt_Total_YOY!Q5 -> 1.9621053e+08 | I20: =Corridor_Evidence!Q20/Corridor_Evidence!Q56 -> 0.0069252078 | J20: =I20*Egypt_Total_YOY!R5 -> 1.3526385e+08 | K20: =Corridor_Evidence!R20/Corridor_Evidence!R56 -> 0.0069252078 | L20: =K20*Egypt_Total_YOY!S5 -> 2.0470291e+08 | M20: =Corridor_Evidence!S20/Corridor_Evidence!S56 -> 0.0069252078 | N20: =M20*Egypt_Total_YOY!T5 -> 2.8739612e+08 | O20: C | P20: 0.22 | Q20: =N20*(1-P20) -> 2.2416898e+08 | R20: =N20 -> 2.8739612e+08 | S20: =N20*(1+P20) -> 3.5062327e+08
A21: Sweden | B21: SWE | C21: =Corridor_Evidence!N21/Corridor_Evidence!N56 -> 0.0055401662 | D21: =C21*Egypt_Total_YOY!O5 -> 1.6400499e+08 | E21: =Corridor_Evidence!O21/Corridor_Evidence!O56 -> 0.0055401662 | F21: =E21*Egypt_Total_YOY!P5 -> 1.7444321e+08 | G21: =Corridor_Evidence!P21/Corridor_Evidence!P56 -> 0.0055401662 | H21: =G21*Egypt_Total_YOY!Q5 -> 1.5696842e+08 | I21: =Corridor_Evidence!Q21/Corridor_Evidence!Q56 -> 0.0055401662 | J21: =I21*Egypt_Total_YOY!R5 -> 1.0821108e+08 | K21: =Corridor_Evidence!R21/Corridor_Evidence!R56 -> 0.0055401662 | L21: =K21*Egypt_Total_YOY!S5 -> 1.6376233e+08 | M21: =Corridor_Evidence!S21/Corridor_Evidence!S56 -> 0.0055401662 | N21: =M21*Egypt_Total_YOY!T5 -> 2.299169e+08 | O21: C | P21: 0.22 | Q21: =N21*(1-P21) -> 1.7933518e+08 | R21: =N21 -> 2.299169e+08 | S21: =N21*(1+P21) -> 2.8049861e+08
A22: Norway | B22: NOR | C22: =Corridor_Evidence!N22/Corridor_Evidence!N56 -> 0.0041551247 | D22: =C22*Egypt_Total_YOY!O5 -> 1.2300374e+08 | E22: =Corridor_Evidence!O22/Corridor_Evidence!O56 -> 0.0041551247 | F22: =E22*Egypt_Total_YOY!P5 -> 1.3083241e+08 | G22: =Corridor_Evidence!P22/Corridor_Evidence!P56 -> 0.0041551247 | H22: =G22*Egypt_Total_YOY!Q5 -> 1.1772632e+08 | I22: =Corridor_Evidence!Q22/Corridor_Evidence!Q56 -> 0.0041551247 | J22: =I22*Egypt_Total_YOY!R5 -> 81158310 | K22: =Corridor_Evidence!R22/Corridor_Evidence!R56 -> 0.0041551247 | L22: =K22*Egypt_Total_YOY!S5 -> 1.2282175e+08 | M22: =Corridor_Evidence!S22/Corridor_Evidence!S56 -> 0.0041551247 | N22: =M22*Egypt_Total_YOY!T5 -> 1.7243767e+08 | O22: C | P22: 0.22 | Q22: =N22*(1-P22) -> 1.3450139e+08 | R22: =N22 -> 1.7243767e+08 | S22: =N22*(1+P22) -> 2.1037396e+08
A23: Denmark | B23: DNK | C23: =Corridor_Evidence!N23/Corridor_Evidence!N56 -> 0.0041551247 | D23: =C23*Egypt_Total_YOY!O5 -> 1.2300374e+08 | E23: =Corridor_Evidence!O23/Corridor_Evidence!O56 -> 0.0041551247 | F23: =E23*Egypt_Total_YOY!P5 -> 1.3083241e+08 | G23: =Corridor_Evidence!P23/Corridor_Evidence!P56 -> 0.0041551247 | H23: =G23*Egypt_Total_YOY!Q5 -> 1.1772632e+08 | I23: =Corridor_Evidence!Q23/Corridor_Evidence!Q56 -> 0.0041551247 | J23: =I23*Egypt_Total_YOY!R5 -> 81158310 | K23: =Corridor_Evidence!R23/Corridor_Evidence!R56 -> 0.0041551247 | L23: =K23*Egypt_Total_YOY!S5 -> 1.2282175e+08 | M23: =Corridor_Evidence!S23/Corridor_Evidence!S56 -> 0.0041551247 | N23: =M23*Egypt_Total_YOY!T5 -> 1.7243767e+08 | O23: C | P23: 0.22 | Q23: =N23*(1-P23) -> 1.3450139e+08 | R23: =N23 -> 1.7243767e+08 | S23: =N23*(1+P23) -> 2.1037396e+08
A24: Ireland | B24: IRL | C24: =Corridor_Evidence!N24/Corridor_Evidence!N56 -> 0.0041551247 | D24: =C24*Egypt_Total_YOY!O5 -> 1.2300374e+08 | E24: =Corridor_Evidence!O24/Corridor_Evidence!O56 -> 0.0041551247 | F24: =E24*Egypt_Total_YOY!P5 -> 1.3083241e+08 | G24: =Corridor_Evidence!P24/Corridor_Evidence!P56 -> 0.0041551247 | H24: =G24*Egypt_Total_YOY!Q5 -> 1.1772632e+08 | I24: =Corridor_Evidence!Q24/Corridor_Evidence!Q56 -> 0.0041551247 | J24: =I24*Egypt_Total_YOY!R5 -> 81158310 | K24: =Corridor_Evidence!R24/Corridor_Evidence!R56 -> 0.0041551247 | L24: =K24*Egypt_Total_YOY!S5 -> 1.2282175e+08 | M24: =Corridor_Evidence!S24/Corridor_Evidence!S56 -> 0.0041551247 | N24: =M24*Egypt_Total_YOY!T5 -> 1.7243767e+08 | O24: C | P24: 0.22 | Q24: =N24*(1-P24) -> 1.3450139e+08 | R24: =N24 -> 1.7243767e+08 | S24: =N24*(1+P24) -> 2.1037396e+08
A25: Portugal | B25: PRT | C25: =Corridor_Evidence!N25/Corridor_Evidence!N56 -> 0.0055401662 | D25: =C25*Egypt_Total_YOY!O5 -> 1.6400499e+08 | E25: =Corridor_Evidence!O25/Corridor_Evidence!O56 -> 0.0055401662 | F25: =E25*Egypt_Total_YOY!P5 -> 1.7444321e+08 | G25: =Corridor_Evidence!P25/Corridor_Evidence!P56 -> 0.0055401662 | H25: =G25*Egypt_Total_YOY!Q5 -> 1.5696842e+08 | I25: =Corridor_Evidence!Q25/Corridor_Evidence!Q56 -> 0.0055401662 | J25: =I25*Egypt_Total_YOY!R5 -> 1.0821108e+08 | K25: =Corridor_Evidence!R25/Corridor_Evidence!R56 -> 0.0055401662 | L25: =K25*Egypt_Total_YOY!S5 -> 1.6376233e+08 | M25: =Corridor_Evidence!S25/Corridor_Evidence!S56 -> 0.0055401662 | N25: =M25*Egypt_Total_YOY!T5 -> 2.299169e+08 | O25: C | P25: 0.22 | Q25: =N25*(1-P25) -> 1.7933518e+08 | R25: =N25 -> 2.299169e+08 | S25: =N25*(1+P25) -> 2.8049861e+08
A26: Australia | B26: AUS | C26: =Corridor_Evidence!N26/Corridor_Evidence!N56 -> 0.0069252078 | D26: =C26*Egypt_Total_YOY!O5 -> 2.0500623e+08 | E26: =Corridor_Evidence!O26/Corridor_Evidence!O56 -> 0.0069252078 | F26: =E26*Egypt_Total_YOY!P5 -> 2.1805402e+08 | G26: =Corridor_Evidence!P26/Corridor_Evidence!P56 -> 0.0069252078 | H26: =G26*Egypt_Total_YOY!Q5 -> 1.9621053e+08 | I26: =Corridor_Evidence!Q26/Corridor_Evidence!Q56 -> 0.0069252078 | J26: =I26*Egypt_Total_YOY!R5 -> 1.3526385e+08 | K26: =Corridor_Evidence!R26/Corridor_Evidence!R56 -> 0.0069252078 | L26: =K26*Egypt_Total_YOY!S5 -> 2.0470291e+08 | M26: =Corridor_Evidence!S26/Corridor_Evidence!S56 -> 0.0069252078 | N26: =M26*Egypt_Total_YOY!T5 -> 2.8739612e+08 | O26: C | P26: 0.22 | Q26: =N26*(1-P26) -> 2.2416898e+08 | R26: =N26 -> 2.8739612e+08 | S26: =N26*(1+P26) -> 3.5062327e+08
A27: New Zealand | B27: NZL | C27: =Corridor_Evidence!N27/Corridor_Evidence!N56 -> 0.0027700831 | D27: =C27*Egypt_Total_YOY!O5 -> 82002493 | E27: =Corridor_Evidence!O27/Corridor_Evidence!O56 -> 0.0027700831 | F27: =E27*Egypt_Total_YOY!P5 -> 87221607 | G27: =Corridor_Evidence!P27/Corridor_Evidence!P56 -> 0.0027700831 | H27: =G27*Egypt_Total_YOY!Q5 -> 78484211 | I27: =Corridor_Evidence!Q27/Corridor_Evidence!Q56 -> 0.0027700831 | J27: =I27*Egypt_Total_YOY!R5 -> 54105540 | K27: =Corridor_Evidence!R27/Corridor_Evidence!R56 -> 0.0027700831 | L27: =K27*Egypt_Total_YOY!S5 -> 81881163 | M27: =Corridor_Evidence!S27/Corridor_Evidence!S56 -> 0.0027700831 | N27: =M27*Egypt_Total_YOY!T5 -> 1.1495845e+08 | O27: C | P27: 0.22 | Q27: =N27*(1-P27) -> 89667590 | R27: =N27 -> 1.1495845e+08 | S27: =N27*(1+P27) -> 1.4024931e+08
A28: Japan | B28: JPN | C28: =Corridor_Evidence!N28/Corridor_Evidence!N56 -> 0.0055401662 | D28: =C28*Egypt_Total_YOY!O5 -> 1.6400499e+08 | E28: =Corridor_Evidence!O28/Corridor_Evidence!O56 -> 0.0055401662 | F28: =E28*Egypt_Total_YOY!P5 -> 1.7444321e+08 | G28: =Corridor_Evidence!P28/Corridor_Evidence!P56 -> 0.0055401662 | H28: =G28*Egypt_Total_YOY!Q5 -> 1.5696842e+08 | I28: =Corridor_Evidence!Q28/Corridor_Evidence!Q56 -> 0.0055401662 | J28: =I28*Egypt_Total_YOY!R5 -> 1.0821108e+08 | K28: =Corridor_Evidence!R28/Corridor_Evidence!R56 -> 0.0055401662 | L28: =K28*Egypt_Total_YOY!S5 -> 1.6376233e+08 | M28: =Corridor_Evidence!S28/Corridor_Evidence!S56 -> 0.0055401662 | N28: =M28*Egypt_Total_YOY!T5 -> 2.299169e+08 | O28: C | P28: 0.22 | Q28: =N28*(1-P28) -> 1.7933518e+08 | R28: =N28 -> 2.299169e+08 | S28: =N28*(1+P28) -> 2.8049861e+08
A29: South Korea | B29: KOR | C29: =Corridor_Evidence!N29/Corridor_Evidence!N56 -> 0.0041551247 | D29: =C29*Egypt_Total_YOY!O5 -> 1.2300374e+08 | E29: =Corridor_Evidence!O29/Corridor_Evidence!O56 -> 0.0041551247 | F29: =E29*Egypt_Total_YOY!P5 -> 1.3083241e+08 | G29: =Corridor_Evidence!P29/Corridor_Evidence!P56 -> 0.0041551247 | H29: =G29*Egypt_Total_YOY!Q5 -> 1.1772632e+08 | I29: =Corridor_Evidence!Q29/Corridor_Evidence!Q56 -> 0.0041551247 | J29: =I29*Egypt_Total_YOY!R5 -> 81158310 | K29: =Corridor_Evidence!R29/Corridor_Evidence!R56 -> 0.0041551247 | L29: =K29*Egypt_Total_YOY!S5 -> 1.2282175e+08 | M29: =Corridor_Evidence!S29/Corridor_Evidence!S56 -> 0.0041551247 | N29: =M29*Egypt_Total_YOY!T5 -> 1.7243767e+08 | O29: C | P29: 0.22 | Q29: =N29*(1-P29) -> 1.3450139e+08 | R29: =N29 -> 1.7243767e+08 | S29: =N29*(1+P29) -> 2.1037396e+08
A30: Singapore | B30: SGP | C30: =Corridor_Evidence!N30/Corridor_Evidence!N56 -> 0.0055401662 | D30: =C30*Egypt_Total_YOY!O5 -> 1.6400499e+08 | E30: =Corridor_Evidence!O30/Corridor_Evidence!O56 -> 0.0055401662 | F30: =E30*Egypt_Total_YOY!P5 -> 1.7444321e+08 | G30: =Corridor_Evidence!P30/Corridor_Evidence!P56 -> 0.0055401662 | H30: =G30*Egypt_Total_YOY!Q5 -> 1.5696842e+08 | I30: =Corridor_Evidence!Q30/Corridor_Evidence!Q56 -> 0.0055401662 | J30: =I30*Egypt_Total_YOY!R5 -> 1.0821108e+08 | K30: =Corridor_Evidence!R30/Corridor_Evidence!R56 -> 0.0055401662 | L30: =K30*Egypt_Total_YOY!S5 -> 1.6376233e+08 | M30: =Corridor_Evidence!S30/Corridor_Evidence!S56 -> 0.0055401662 | N30: =M30*Egypt_Total_YOY!T5 -> 2.299169e+08 | O30: C | P30: 0.22 | Q30: =N30*(1-P30) -> 1.7933518e+08 | R30: =N30 -> 2.299169e+08 | S30: =N30*(1+P30) -> 2.8049861e+08
A31: Malaysia | B31: MYS | C31: =Corridor_Evidence!N31/Corridor_Evidence!N56 -> 0.0055401662 | D31: =C31*Egypt_Total_YOY!O5 -> 1.6400499e+08 | E31: =Corridor_Evidence!O31/Corridor_Evidence!O56 -> 0.0055401662 | F31: =E31*Egypt_Total_YOY!P5 -> 1.7444321e+08 | G31: =Corridor_Evidence!P31/Corridor_Evidence!P56 -> 0.0055401662 | H31: =G31*Egypt_Total_YOY!Q5 -> 1.5696842e+08 | I31: =Corridor_Evidence!Q31/Corridor_Evidence!Q56 -> 0.0055401662 | J31: =I31*Egypt_Total_YOY!R5 -> 1.0821108e+08 | K31: =Corridor_Evidence!R31/Corridor_Evidence!R56 -> 0.0055401662 | L31: =K31*Egypt_Total_YOY!S5 -> 1.6376233e+08 | M31: =Corridor_Evidence!S31/Corridor_Evidence!S56 -> 0.0055401662 | N31: =M31*Egypt_Total_YOY!T5 -> 2.299169e+08 | O31: C | P31: 0.22 | Q31: =N31*(1-P31) -> 1.7933518e+08 | R31: =N31 -> 2.299169e+08 | S31: =N31*(1+P31) -> 2.8049861e+08
A32: Thailand | B32: THA | C32: =Corridor_Evidence!N32/Corridor_Evidence!N56 -> 0.0027700831 | D32: =C32*Egypt_Total_YOY!O5 -> 82002493 | E32: =Corridor_Evidence!O32/Corridor_Evidence!O56 -> 0.0027700831 | F32: =E32*Egypt_Total_YOY!P5 -> 87221607 | G32: =Corridor_Evidence!P32/Corridor_Evidence!P56 -> 0.0027700831 | H32: =G32*Egypt_Total_YOY!Q5 -> 78484211 | I32: =Corridor_Evidence!Q32/Corridor_Evidence!Q56 -> 0.0027700831 | J32: =I32*Egypt_Total_YOY!R5 -> 54105540 | K32: =Corridor_Evidence!R32/Corridor_Evidence!R56 -> 0.0027700831 | L32: =K32*Egypt_Total_YOY!S5 -> 81881163 | M32: =Corridor_Evidence!S32/Corridor_Evidence!S56 -> 0.0027700831 | N32: =M32*Egypt_Total_YOY!T5 -> 1.1495845e+08 | O32: C | P32: 0.22 | Q32: =N32*(1-P32) -> 89667590 | R32: =N32 -> 1.1495845e+08 | S32: =N32*(1+P32) -> 1.4024931e+08
A33: China | B33: CHN | C33: =Corridor_Evidence!N33/Corridor_Evidence!N56 -> 0.0041551247 | D33: =C33*Egypt_Total_YOY!O5 -> 1.2300374e+08 | E33: =Corridor_Evidence!O33/Corridor_Evidence!O56 -> 0.0041551247 | F33: =E33*Egypt_Total_YOY!P5 -> 1.3083241e+08 | G33: =Corridor_Evidence!P33/Corridor_Evidence!P56 -> 0.0041551247 | H33: =G33*Egypt_Total_YOY!Q5 -> 1.1772632e+08 | I33: =Corridor_Evidence!Q33/Corridor_Evidence!Q56 -> 0.0041551247 | J33: =I33*Egypt_Total_YOY!R5 -> 81158310 | K33: =Corridor_Evidence!R33/Corridor_Evidence!R56 -> 0.0041551247 | L33: =K33*Egypt_Total_YOY!S5 -> 1.2282175e+08 | M33: =Corridor_Evidence!S33/Corridor_Evidence!S56 -> 0.0041551247 | N33: =M33*Egypt_Total_YOY!T5 -> 1.7243767e+08 | O33: C | P33: 0.22 | Q33: =N33*(1-P33) -> 1.3450139e+08 | R33: =N33 -> 1.7243767e+08 | S33: =N33*(1+P33) -> 2.1037396e+08
A34: India | B34: IND | C34: =Corridor_Evidence!N34/Corridor_Evidence!N56 -> 0.0069252078 | D34: =C34*Egypt_Total_YOY!O5 -> 2.0500623e+08 | E34: =Corridor_Evidence!O34/Corridor_Evidence!O56 -> 0.0069252078 | F34: =E34*Egypt_Total_YOY!P5 -> 2.1805402e+08 | G34: =Corridor_Evidence!P34/Corridor_Evidence!P56 -> 0.0069252078 | H34: =G34*Egypt_Total_YOY!Q5 -> 1.9621053e+08 | I34: =Corridor_Evidence!Q34/Corridor_Evidence!Q56 -> 0.0069252078 | J34: =I34*Egypt_Total_YOY!R5 -> 1.3526385e+08 | K34: =Corridor_Evidence!R34/Corridor_Evidence!R56 -> 0.0069252078 | L34: =K34*Egypt_Total_YOY!S5 -> 2.0470291e+08 | M34: =Corridor_Evidence!S34/Corridor_Evidence!S56 -> 0.0069252078 | N34: =M34*Egypt_Total_YOY!T5 -> 2.8739612e+08 | O34: C | P34: 0.22 | Q34: =N34*(1-P34) -> 2.2416898e+08 | R34: =N34 -> 2.8739612e+08 | S34: =N34*(1+P34) -> 3.5062327e+08
A35: Pakistan | B35: PAK | C35: =Corridor_Evidence!N35/Corridor_Evidence!N56 -> 0.0041551247 | D35: =C35*Egypt_Total_YOY!O5 -> 1.2300374e+08 | E35: =Corridor_Evidence!O35/Corridor_Evidence!O56 -> 0.0041551247 | F35: =E35*Egypt_Total_YOY!P5 -> 1.3083241e+08 | G35: =Corridor_Evidence!P35/Corridor_Evidence!P56 -> 0.0041551247 | H35: =G35*Egypt_Total_YOY!Q5 -> 1.1772632e+08 | I35: =Corridor_Evidence!Q35/Corridor_Evidence!Q56 -> 0.0041551247 | J35: =I35*Egypt_Total_YOY!R5 -> 81158310 | K35: =Corridor_Evidence!R35/Corridor_Evidence!R56 -> 0.0041551247 | L35: =K35*Egypt_Total_YOY!S5 -> 1.2282175e+08 | M35: =Corridor_Evidence!S35/Corridor_Evidence!S56 -> 0.0041551247 | N35: =M35*Egypt_Total_YOY!T5 -> 1.7243767e+08 | O35: C | P35: 0.22 | Q35: =N35*(1-P35) -> 1.3450139e+08 | R35: =N35 -> 1.7243767e+08 | S35: =N35*(1+P35) -> 2.1037396e+08
A36: Bangladesh | B36: BGD | C36: =Corridor_Evidence!N36/Corridor_Evidence!N56 -> 0.0027700831 | D36: =C36*Egypt_Total_YOY!O5 -> 82002493 | E36: =Corridor_Evidence!O36/Corridor_Evidence!O56 -> 0.0027700831 | F36: =E36*Egypt_Total_YOY!P5 -> 87221607 | G36: =Corridor_Evidence!P36/Corridor_Evidence!P56 -> 0.0027700831 | H36: =G36*Egypt_Total_YOY!Q5 -> 78484211 | I36: =Corridor_Evidence!Q36/Corridor_Evidence!Q56 -> 0.0027700831 | J36: =I36*Egypt_Total_YOY!R5 -> 54105540 | K36: =Corridor_Evidence!R36/Corridor_Evidence!R56 -> 0.0027700831 | L36: =K36*Egypt_Total_YOY!S5 -> 81881163 | M36: =Corridor_Evidence!S36/Corridor_Evidence!S56 -> 0.0027700831 | N36: =M36*Egypt_Total_YOY!T5 -> 1.1495845e+08 | O36: C | P36: 0.22 | Q36: =N36*(1-P36) -> 89667590 | R36: =N36 -> 1.1495845e+08 | S36: =N36*(1+P36) -> 1.4024931e+08
A37: Turkey | B37: TUR | C37: =Corridor_Evidence!N37/Corridor_Evidence!N56 -> 0.0055401662 | D37: =C37*Egypt_Total_YOY!O5 -> 1.6400499e+08 | E37: =Corridor_Evidence!O37/Corridor_Evidence!O56 -> 0.0055401662 | F37: =E37*Egypt_Total_YOY!P5 -> 1.7444321e+08 | G37: =Corridor_Evidence!P37/Corridor_Evidence!P56 -> 0.0055401662 | H37: =G37*Egypt_Total_YOY!Q5 -> 1.5696842e+08 | I37: =Corridor_Evidence!Q37/Corridor_Evidence!Q56 -> 0.0055401662 | J37: =I37*Egypt_Total_YOY!R5 -> 1.0821108e+08 | K37: =Corridor_Evidence!R37/Corridor_Evidence!R56 -> 0.0055401662 | L37: =K37*Egypt_Total_YOY!S5 -> 1.6376233e+08 | M37: =Corridor_Evidence!S37/Corridor_Evidence!S56 -> 0.0055401662 | N37: =M37*Egypt_Total_YOY!T5 -> 2.299169e+08 | O37: C | P37: 0.22 | Q37: =N37*(1-P37) -> 1.7933518e+08 | R37: =N37 -> 2.299169e+08 | S37: =N37*(1+P37) -> 2.8049861e+08
A38: Libya | B38: LBY | C38: =Corridor_Evidence!N38/Corridor_Evidence!N56 -> 0.0041551247 | D38: =C38*Egypt_Total_YOY!O5 -> 1.2300374e+08 | E38: =Corridor_Evidence!O38/Corridor_Evidence!O56 -> 0.0041551247 | F38: =E38*Egypt_Total_YOY!P5 -> 1.3083241e+08 | G38: =Corridor_Evidence!P38/Corridor_Evidence!P56 -> 0.0041551247 | H38: =G38*Egypt_Total_YOY!Q5 -> 1.1772632e+08 | I38: =Corridor_Evidence!Q38/Corridor_Evidence!Q56 -> 0.0041551247 | J38: =I38*Egypt_Total_YOY!R5 -> 81158310 | K38: =Corridor_Evidence!R38/Corridor_Evidence!R56 -> 0.0041551247 | L38: =K38*Egypt_Total_YOY!S5 -> 1.2282175e+08 | M38: =Corridor_Evidence!S38/Corridor_Evidence!S56 -> 0.0041551247 | N38: =M38*Egypt_Total_YOY!T5 -> 1.7243767e+08 | O38: C | P38: 0.22 | Q38: =N38*(1-P38) -> 1.3450139e+08 | R38: =N38 -> 1.7243767e+08 | S38: =N38*(1+P38) -> 2.1037396e+08
A39: Algeria | B39: DZA | C39: =Corridor_Evidence!N39/Corridor_Evidence!N56 -> 0.0027700831 | D39: =C39*Egypt_Total_YOY!O5 -> 82002493 | E39: =Corridor_Evidence!O39/Corridor_Evidence!O56 -> 0.0027700831 | F39: =E39*Egypt_Total_YOY!P5 -> 87221607 | G39: =Corridor_Evidence!P39/Corridor_Evidence!P56 -> 0.0027700831 | H39: =G39*Egypt_Total_YOY!Q5 -> 78484211 | I39: =Corridor_Evidence!Q39/Corridor_Evidence!Q56 -> 0.0027700831 | J39: =I39*Egypt_Total_YOY!R5 -> 54105540 | K39: =Corridor_Evidence!R39/Corridor_Evidence!R56 -> 0.0027700831 | L39: =K39*Egypt_Total_YOY!S5 -> 81881163 | M39: =Corridor_Evidence!S39/Corridor_Evidence!S56 -> 0.0027700831 | N39: =M39*Egypt_Total_YOY!T5 -> 1.1495845e+08 | O39: C | P39: 0.22 | Q39: =N39*(1-P39) -> 89667590 | R39: =N39 -> 1.1495845e+08 | S39: =N39*(1+P39) -> 1.4024931e+08
A40: Morocco | B40: MAR | C40: =Corridor_Evidence!N40/Corridor_Evidence!N56 -> 0.0027700831 | D40: =C40*Egypt_Total_YOY!O5 -> 82002493 | E40: =Corridor_Evidence!O40/Corridor_Evidence!O56 -> 0.0027700831 | F40: =E40*Egypt_Total_YOY!P5 -> 87221607 | G40: =Corridor_Evidence!P40/Corridor_Evidence!P56 -> 0.0027700831 | H40: =G40*Egypt_Total_YOY!Q5 -> 78484211 | I40: =Corridor_Evidence!Q40/Corridor_Evidence!Q56 -> 0.0027700831 | J40: =I40*Egypt_Total_YOY!R5 -> 54105540 | K40: =Corridor_Evidence!R40/Corridor_Evidence!R56 -> 0.0027700831 | L40: =K40*Egypt_Total_YOY!S5 -> 81881163 | M40: =Corridor_Evidence!S40/Corridor_Evidence!S56 -> 0.0027700831 | N40: =M40*Egypt_Total_YOY!T5 -> 1.1495845e+08 | O40: C | P40: 0.22 | Q40: =N40*(1-P40) -> 89667590 | R40: =N40 -> 1.1495845e+08 | S40: =N40*(1+P40) -> 1.4024931e+08
A41: Tunisia | B41: TUN | C41: =Corridor_Evidence!N41/Corridor_Evidence!N56 -> 0.0027700831 | D41: =C41*Egypt_Total_YOY!O5 -> 82002493 | E41: =Corridor_Evidence!O41/Corridor_Evidence!O56 -> 0.0027700831 | F41: =E41*Egypt_Total_YOY!P5 -> 87221607 | G41: =Corridor_Evidence!P41/Corridor_Evidence!P56 -> 0.0027700831 | H41: =G41*Egypt_Total_YOY!Q5 -> 78484211 | I41: =Corridor_Evidence!Q41/Corridor_Evidence!Q56 -> 0.0027700831 | J41: =I41*Egypt_Total_YOY!R5 -> 54105540 | K41: =Corridor_Evidence!R41/Corridor_Evidence!R56 -> 0.0027700831 | L41: =K41*Egypt_Total_YOY!S5 -> 81881163 | M41: =Corridor_Evidence!S41/Corridor_Evidence!S56 -> 0.0027700831 | N41: =M41*Egypt_Total_YOY!T5 -> 1.1495845e+08 | O41: C | P41: 0.22 | Q41: =N41*(1-P41) -> 89667590 | R41: =N41 -> 1.1495845e+08 | S41: =N41*(1+P41) -> 1.4024931e+08
A42: Iraq | B42: IRQ | C42: =Corridor_Evidence!N42/Corridor_Evidence!N56 -> 0.0027700831 | D42: =C42*Egypt_Total_YOY!O5 -> 82002493 | E42: =Corridor_Evidence!O42/Corridor_Evidence!O56 -> 0.0027700831 | F42: =E42*Egypt_Total_YOY!P5 -> 87221607 | G42: =Corridor_Evidence!P42/Corridor_Evidence!P56 -> 0.0027700831 | H42: =G42*Egypt_Total_YOY!Q5 -> 78484211 | I42: =Corridor_Evidence!Q42/Corridor_Evidence!Q56 -> 0.0027700831 | J42: =I42*Egypt_Total_YOY!R5 -> 54105540 | K42: =Corridor_Evidence!R42/Corridor_Evidence!R56 -> 0.0027700831 | L42: =K42*Egypt_Total_YOY!S5 -> 81881163 | M42: =Corridor_Evidence!S42/Corridor_Evidence!S56 -> 0.0027700831 | N42: =M42*Egypt_Total_YOY!T5 -> 1.1495845e+08 | O42: C | P42: 0.22 | Q42: =N42*(1-P42) -> 89667590 | R42: =N42 -> 1.1495845e+08 | S42: =N42*(1+P42) -> 1.4024931e+08
A43: Lebanon | B43: LBN | C43: =Corridor_Evidence!N43/Corridor_Evidence!N56 -> 0.0027700831 | D43: =C43*Egypt_Total_YOY!O5 -> 82002493 | E43: =Corridor_Evidence!O43/Corridor_Evidence!O56 -> 0.0027700831 | F43: =E43*Egypt_Total_YOY!P5 -> 87221607 | G43: =Corridor_Evidence!P43/Corridor_Evidence!P56 -> 0.0027700831 | H43: =G43*Egypt_Total_YOY!Q5 -> 78484211 | I43: =Corridor_Evidence!Q43/Corridor_Evidence!Q56 -> 0.0027700831 | J43: =I43*Egypt_Total_YOY!R5 -> 54105540 | K43: =Corridor_Evidence!R43/Corridor_Evidence!R56 -> 0.0027700831 | L43: =K43*Egypt_Total_YOY!S5 -> 81881163 | M43: =Corridor_Evidence!S43/Corridor_Evidence!S56 -> 0.0027700831 | N43: =M43*Egypt_Total_YOY!T5 -> 1.1495845e+08 | O43: C | P43: 0.22 | Q43: =N43*(1-P43) -> 89667590 | R43: =N43 -> 1.1495845e+08 | S43: =N43*(1+P43) -> 1.4024931e+08
A44: South Africa | B44: ZAF | C44: =Corridor_Evidence!N44/Corridor_Evidence!N56 -> 0.0041551247 | D44: =C44*Egypt_Total_YOY!O5 -> 1.2300374e+08 | E44: =Corridor_Evidence!O44/Corridor_Evidence!O56 -> 0.0041551247 | F44: =E44*Egypt_Total_YOY!P5 -> 1.3083241e+08 | G44: =Corridor_Evidence!P44/Corridor_Evidence!P56 -> 0.0041551247 | H44: =G44*Egypt_Total_YOY!Q5 -> 1.1772632e+08 | I44: =Corridor_Evidence!Q44/Corridor_Evidence!Q56 -> 0.0041551247 | J44: =I44*Egypt_Total_YOY!R5 -> 81158310 | K44: =Corridor_Evidence!R44/Corridor_Evidence!R56 -> 0.0041551247 | L44: =K44*Egypt_Total_YOY!S5 -> 1.2282175e+08 | M44: =Corridor_Evidence!S44/Corridor_Evidence!S56 -> 0.0041551247 | N44: =M44*Egypt_Total_YOY!T5 -> 1.7243767e+08 | O44: C | P44: 0.22 | Q44: =N44*(1-P44) -> 1.3450139e+08 | R44: =N44 -> 1.7243767e+08 | S44: =N44*(1+P44) -> 2.1037396e+08
A45: Nigeria | B45: NGA | C45: =Corridor_Evidence!N45/Corridor_Evidence!N56 -> 0.0027700831 | D45: =C45*Egypt_Total_YOY!O5 -> 82002493 | E45: =Corridor_Evidence!O45/Corridor_Evidence!O56 -> 0.0027700831 | F45: =E45*Egypt_Total_YOY!P5 -> 87221607 | G45: =Corridor_Evidence!P45/Corridor_Evidence!P56 -> 0.0027700831 | H45: =G45*Egypt_Total_YOY!Q5 -> 78484211 | I45: =Corridor_Evidence!Q45/Corridor_Evidence!Q56 -> 0.0027700831 | J45: =I45*Egypt_Total_YOY!R5 -> 54105540 | K45: =Corridor_Evidence!R45/Corridor_Evidence!R56 -> 0.0027700831 | L45: =K45*Egypt_Total_YOY!S5 -> 81881163 | M45: =Corridor_Evidence!S45/Corridor_Evidence!S56 -> 0.0027700831 | N45: =M45*Egypt_Total_YOY!T5 -> 1.1495845e+08 | O45: C | P45: 0.22 | Q45: =N45*(1-P45) -> 89667590 | R45: =N45 -> 1.1495845e+08 | S45: =N45*(1+P45) -> 1.4024931e+08
A46: Kenya | B46: KEN | C46: =Corridor_Evidence!N46/Corridor_Evidence!N56 -> 0.0027700831 | D46: =C46*Egypt_Total_YOY!O5 -> 82002493 | E46: =Corridor_Evidence!O46/Corridor_Evidence!O56 -> 0.0027700831 | F46: =E46*Egypt_Total_YOY!P5 -> 87221607 | G46: =Corridor_Evidence!P46/Corridor_Evidence!P56 -> 0.0027700831 | H46: =G46*Egypt_Total_YOY!Q5 -> 78484211 | I46: =Corridor_Evidence!Q46/Corridor_Evidence!Q56 -> 0.0027700831 | J46: =I46*Egypt_Total_YOY!R5 -> 54105540 | K46: =Corridor_Evidence!R46/Corridor_Evidence!R56 -> 0.0027700831 | L46: =K46*Egypt_Total_YOY!S5 -> 81881163 | M46: =Corridor_Evidence!S46/Corridor_Evidence!S56 -> 0.0027700831 | N46: =M46*Egypt_Total_YOY!T5 -> 1.1495845e+08 | O46: C | P46: 0.22 | Q46: =N46*(1-P46) -> 89667590 | R46: =N46 -> 1.1495845e+08 | S46: =N46*(1+P46) -> 1.4024931e+08
A47: Russia | B47: RUS | C47: =Corridor_Evidence!N47/Corridor_Evidence!N56 -> 0.0027700831 | D47: =C47*Egypt_Total_YOY!O5 -> 82002493 | E47: =Corridor_Evidence!O47/Corridor_Evidence!O56 -> 0.0027700831 | F47: =E47*Egypt_Total_YOY!P5 -> 87221607 | G47: =Corridor_Evidence!P47/Corridor_Evidence!P56 -> 0.0027700831 | H47: =G47*Egypt_Total_YOY!Q5 -> 78484211 | I47: =Corridor_Evidence!Q47/Corridor_Evidence!Q56 -> 0.0027700831 | J47: =I47*Egypt_Total_YOY!R5 -> 54105540 | K47: =Corridor_Evidence!R47/Corridor_Evidence!R56 -> 0.0027700831 | L47: =K47*Egypt_Total_YOY!S5 -> 81881163 | M47: =Corridor_Evidence!S47/Corridor_Evidence!S56 -> 0.0027700831 | N47: =M47*Egypt_Total_YOY!T5 -> 1.1495845e+08 | O47: C | P47: 0.22 | Q47: =N47*(1-P47) -> 89667590 | R47: =N47 -> 1.1495845e+08 | S47: =N47*(1+P47) -> 1.4024931e+08
A48: Poland | B48: POL | C48: =Corridor_Evidence!N48/Corridor_Evidence!N56 -> 0.0027700831 | D48: =C48*Egypt_Total_YOY!O5 -> 82002493 | E48: =Corridor_Evidence!O48/Corridor_Evidence!O56 -> 0.0027700831 | F48: =E48*Egypt_Total_YOY!P5 -> 87221607 | G48: =Corridor_Evidence!P48/Corridor_Evidence!P56 -> 0.0027700831 | H48: =G48*Egypt_Total_YOY!Q5 -> 78484211 | I48: =Corridor_Evidence!Q48/Corridor_Evidence!Q56 -> 0.0027700831 | J48: =I48*Egypt_Total_YOY!R5 -> 54105540 | K48: =Corridor_Evidence!R48/Corridor_Evidence!R56 -> 0.0027700831 | L48: =K48*Egypt_Total_YOY!S5 -> 81881163 | M48: =Corridor_Evidence!S48/Corridor_Evidence!S56 -> 0.0027700831 | N48: =M48*Egypt_Total_YOY!T5 -> 1.1495845e+08 | O48: C | P48: 0.22 | Q48: =N48*(1-P48) -> 89667590 | R48: =N48 -> 1.1495845e+08 | S48: =N48*(1+P48) -> 1.4024931e+08
A49: Czech Republic | B49: CZE | C49: =Corridor_Evidence!N49/Corridor_Evidence!N56 -> 0.0013850416 | D49: =C49*Egypt_Total_YOY!O5 -> 41001247 | E49: =Corridor_Evidence!O49/Corridor_Evidence!O56 -> 0.0013850416 | F49: =E49*Egypt_Total_YOY!P5 -> 43610803 | G49: =Corridor_Evidence!P49/Corridor_Evidence!P56 -> 0.0013850416 | H49: =G49*Egypt_Total_YOY!Q5 -> 39242105 | I49: =Corridor_Evidence!Q49/Corridor_Evidence!Q56 -> 0.0013850416 | J49: =I49*Egypt_Total_YOY!R5 -> 27052770 | K49: =Corridor_Evidence!R49/Corridor_Evidence!R56 -> 0.0013850416 | L49: =K49*Egypt_Total_YOY!S5 -> 40940582 | M49: =Corridor_Evidence!S49/Corridor_Evidence!S56 -> 0.0013850416 | N49: =M49*Egypt_Total_YOY!T5 -> 57479224 | O49: C | P49: 0.22 | Q49: =N49*(1-P49) -> 44833795 | R49: =N49 -> 57479224 | S49: =N49*(1+P49) -> 70124654
A50: Romania | B50: ROU | C50: =Corridor_Evidence!N50/Corridor_Evidence!N56 -> 0.0013850416 | D50: =C50*Egypt_Total_YOY!O5 -> 41001247 | E50: =Corridor_Evidence!O50/Corridor_Evidence!O56 -> 0.0013850416 | F50: =E50*Egypt_Total_YOY!P5 -> 43610803 | G50: =Corridor_Evidence!P50/Corridor_Evidence!P56 -> 0.0013850416 | H50: =G50*Egypt_Total_YOY!Q5 -> 39242105 | I50: =Corridor_Evidence!Q50/Corridor_Evidence!Q56 -> 0.0013850416 | J50: =I50*Egypt_Total_YOY!R5 -> 27052770 | K50: =Corridor_Evidence!R50/Corridor_Evidence!R56 -> 0.0013850416 | L50: =K50*Egypt_Total_YOY!S5 -> 40940582 | M50: =Corridor_Evidence!S50/Corridor_Evidence!S56 -> 0.0013850416 | N50: =M50*Egypt_Total_YOY!T5 -> 57479224 | O50: C | P50: 0.22 | Q50: =N50*(1-P50) -> 44833795 | R50: =N50 -> 57479224 | S50: =N50*(1+P50) -> 70124654
A51: Ukraine | B51: UKR | C51: =Corridor_Evidence!N51/Corridor_Evidence!N56 -> 0.0013850416 | D51: =C51*Egypt_Total_YOY!O5 -> 41001247 | E51: =Corridor_Evidence!O51/Corridor_Evidence!O56 -> 0.0013850416 | F51: =E51*Egypt_Total_YOY!P5 -> 43610803 | G51: =Corridor_Evidence!P51/Corridor_Evidence!P56 -> 0.0013850416 | H51: =G51*Egypt_Total_YOY!Q5 -> 39242105 | I51: =Corridor_Evidence!Q51/Corridor_Evidence!Q56 -> 0.0013850416 | J51: =I51*Egypt_Total_YOY!R5 -> 27052770 | K51: =Corridor_Evidence!R51/Corridor_Evidence!R56 -> 0.0013850416 | L51: =K51*Egypt_Total_YOY!S5 -> 40940582 | M51: =Corridor_Evidence!S51/Corridor_Evidence!S56 -> 0.0013850416 | N51: =M51*Egypt_Total_YOY!T5 -> 57479224 | O51: C | P51: 0.22 | Q51: =N51*(1-P51) -> 44833795 | R51: =N51 -> 57479224 | S51: =N51*(1+P51) -> 70124654
A52: Brazil | B52: BRA | C52: =Corridor_Evidence!N52/Corridor_Evidence!N56 -> 0.0027700831 | D52: =C52*Egypt_Total_YOY!O5 -> 82002493 | E52: =Corridor_Evidence!O52/Corridor_Evidence!O56 -> 0.0027700831 | F52: =E52*Egypt_Total_YOY!P5 -> 87221607 | G52: =Corridor_Evidence!P52/Corridor_Evidence!P56 -> 0.0027700831 | H52: =G52*Egypt_Total_YOY!Q5 -> 78484211 | I52: =Corridor_Evidence!Q52/Corridor_Evidence!Q56 -> 0.0027700831 | J52: =I52*Egypt_Total_YOY!R5 -> 54105540 | K52: =Corridor_Evidence!R52/Corridor_Evidence!R56 -> 0.0027700831 | L52: =K52*Egypt_Total_YOY!S5 -> 81881163 | M52: =Corridor_Evidence!S52/Corridor_Evidence!S56 -> 0.0027700831 | N52: =M52*Egypt_Total_YOY!T5 -> 1.1495845e+08 | O52: C | P52: 0.22 | Q52: =N52*(1-P52) -> 89667590 | R52: =N52 -> 1.1495845e+08 | S52: =N52*(1+P52) -> 1.4024931e+08
A53: Mexico | B53: MEX | C53: =Corridor_Evidence!N53/Corridor_Evidence!N56 -> 0.0027700831 | D53: =C53*Egypt_Total_YOY!O5 -> 82002493 | E53: =Corridor_Evidence!O53/Corridor_Evidence!O56 -> 0.0027700831 | F53: =E53*Egypt_Total_YOY!P5 -> 87221607 | G53: =Corridor_Evidence!P53/Corridor_Evidence!P56 -> 0.0027700831 | H53: =G53*Egypt_Total_YOY!Q5 -> 78484211 | I53: =Corridor_Evidence!Q53/Corridor_Evidence!Q56 -> 0.0027700831 | J53: =I53*Egypt_Total_YOY!R5 -> 54105540 | K53: =Corridor_Evidence!R53/Corridor_Evidence!R56 -> 0.0027700831 | L53: =K53*Egypt_Total_YOY!S5 -> 81881163 | M53: =Corridor_Evidence!S53/Corridor_Evidence!S56 -> 0.0027700831 | N53: =M53*Egypt_Total_YOY!T5 -> 1.1495845e+08 | O53: C | P53: 0.22 | Q53: =N53*(1-P53) -> 89667590 | R53: =N53 -> 1.1495845e+08 | S53: =N53*(1+P53) -> 1.4024931e+08
A54: Chile | B54: CHL | C54: =Corridor_Evidence!N54/Corridor_Evidence!N56 -> 0.0013850416 | D54: =C54*Egypt_Total_YOY!O5 -> 41001247 | E54: =Corridor_Evidence!O54/Corridor_Evidence!O56 -> 0.0013850416 | F54: =E54*Egypt_Total_YOY!P5 -> 43610803 | G54: =Corridor_Evidence!P54/Corridor_Evidence!P56 -> 0.0013850416 | H54: =G54*Egypt_Total_YOY!Q5 -> 39242105 | I54: =Corridor_Evidence!Q54/Corridor_Evidence!Q56 -> 0.0013850416 | J54: =I54*Egypt_Total_YOY!R5 -> 27052770 | K54: =Corridor_Evidence!R54/Corridor_Evidence!R56 -> 0.0013850416 | L54: =K54*Egypt_Total_YOY!S5 -> 40940582 | M54: =Corridor_Evidence!S54/Corridor_Evidence!S56 -> 0.0013850416 | N54: =M54*Egypt_Total_YOY!T5 -> 57479224 | O54: C | P54: 0.22 | Q54: =N54*(1-P54) -> 44833795 | R54: =N54 -> 57479224 | S54: =N54*(1+P54) -> 70124654
A55: Other Countries (Residual) | B55: OTHR | C55: =Corridor_Evidence!N55/Corridor_Evidence!N56 -> 0.024930748 | D55: =C55*Egypt_Total_YOY!O5 -> 7.3802244e+08 | E55: =Corridor_Evidence!O55/Corridor_Evidence!O56 -> 0.024930748 | F55: =E55*Egypt_Total_YOY!P5 -> 7.8499446e+08 | G55: =Corridor_Evidence!P55/Corridor_Evidence!P56 -> 0.024930748 | H55: =G55*Egypt_Total_YOY!Q5 -> 7.0635789e+08 | I55: =Corridor_Evidence!Q55/Corridor_Evidence!Q56 -> 0.024930748 | J55: =I55*Egypt_Total_YOY!R5 -> 4.8694986e+08 | K55: =Corridor_Evidence!R55/Corridor_Evidence!R56 -> 0.024930748 | L55: =K55*Egypt_Total_YOY!S5 -> 7.3693047e+08 | M55: =Corridor_Evidence!S55/Corridor_Evidence!S56 -> 0.024930748 | N55: =M55*Egypt_Total_YOY!T5 -> 1.034626e+09 | O55: C | P55: 0.25 | Q55: =N55*(1-P55) -> 7.7596953e+08 | R55: =N55 -> 1.034626e+09 | S55: =N55*(1+P55) -> 1.2932825e+09
A56: TOTAL | C56: =SUM(C2:C55) -> 1 | D56: =SUM(D2:D55) -> 29602900000 | E56: =SUM(E2:E55) -> 1 | F56: =SUM(F2:F55) -> 3.1487e+10 | G56: =SUM(G2:G55) -> 1 | H56: =SUM(H2:H55) -> 2.83328e+10 | I56: =SUM(I2:I55) -> 1 | J56: =SUM(J2:J55) -> 1.95321e+10 | ... N56: =SUM(N2:N55) -> 4.15e+10 | Q56: =SUM(Q2:Q55) -> 3.5472729e+10 | R56: =SUM(R2:R55) -> 4.15e+10 | S56: =SUM(S2:S55) -> 4.7527271e+10

Sheet Disclosure_Tracker
A1: Source Country | B1: ISO3 | C1: Has Public Outbound Remittance Disclosure? | D1: Latest Year Found | E1: Data Granularity | F1: Directly Usable for Egypt Mapping? | G1: Action
A2: Saudi Arabia | B2: SAU | C2: Likely / Partial | D2: TBD | E2: Aggregate or regional | F2: Partially | G2: Capture official publication URL and update score inputs
A3: United Arab Emirates | B3: ARE | C3: Likely / Partial | D3: TBD | E3: Aggregate or regional | F3: Partially | G3: Capture official publication URL and update score inputs
A4: Kuwait | B4: KWT | C4: Likely / Partial | D4: TBD | E4: Aggregate or regional | F4: Partially | G4: Capture official publication URL and update score inputs
A5: Qatar | B5: QAT | C5: Likely / Partial | D5: TBD | E5: Aggregate or regional | F5: Partially | G5: Capture official publication URL and update score inputs
A6: Oman | B6: OMN | C6: Likely / Partial | D6: TBD | E6: Aggregate or regional | F6: Partially | G6: Capture official publication URL and update score inputs
A7: Bahrain | B7: BHR | C7: Likely / Partial | D7: TBD | E7: Aggregate or regional | F7: Partially | G7: Capture official publication URL and update score inputs
A8: Jordan | B8: JOR | C8: Limited | D8: TBD | E8: Country aggregate | F8: Partially | G8: Collect indicator proxy and document assumption
A9: United States | B9: USA | C9: Limited | D9: TBD | E9: Country aggregate | F9: Partially | G9: Collect indicator proxy and document assumption
A10: Italy | B10: ITA | C10: Limited | D10: TBD | E10: Country aggregate | F10: Partially | G10: Collect indicator proxy and document assumption
A11: United Kingdom | B11: GBR | C11: Limited | D11: TBD | E11: Country aggregate | F11: Partially | G11: Collect indicator proxy and document assumption
A12: Germany | B12: DEU | C12: Limited | D12: TBD | E12: Country aggregate | F12: Partially | G12: Collect indicator proxy and document assumption
... A55: Other Countries (Residual) | B55: OTHR | C55: No | D55: N/A | E55: Residual bucket | F55: No | G55: Balancing residual only

Sheet YOY_Growth_Justification
A1: Topic | B1: Explicit Justification | C1: How It Affects 2024-2025 YoY | D1: Evidence Strength | E1: Citation
A2: FX unification and informal-to-formal channel shift | B2: In March 2024, exchange-rate adjustment/unification reduced the spread between official and parallel rates, making formal banking/MTO channels materially more attractive than informal channels. | C2: Large one-off formalization effect: flows previously routed outside official statistics were recaptured in recorded remittances, causing a sharp YoY step-up in 2024 and persistence into 2025. | D2: High | E2: IMF Article IV / EFF documentation; CBE remittance releases
A3: Low-base rebound from 2023 | B3: 2023 formal inflows were depressed versus prior trend due to FX market distortions and channel displacement. | C3: When market conditions normalized, YoY growth mechanically appeared very high because the comparison base was unusually weak. | D3: High | E3: World Bank series + CBE annual updates
A4: Confidence and liquidity normalization in official channels | B4: Post-reform macro package and external support improved confidence in the formal financial system and availability of FX through official rails. | C4: Higher confidence supports sustained use of official channels in 2025, limiting reversion to informal routing. | D4: Medium-High | E4: IMF program documents; CBE policy communications
A5: Rate/instrument attractiveness for receivers | B5: Higher domestic rates and formal FX product availability increased the incentive to receive and hold funds via official channels. | C5: Supports both volume retention and timing acceleration of transfers in formal data. | D5: Medium | E5: CBE policy-rate context + banking product transmission (market practice)
A6: Observed scale in official data | B6: CBE reported approximately USD 29.6bn for 2024 and USD 41.5bn for 2025. | C6: Confirms that the growth is not a modeling artifact; it is anchored in official realized totals. | D6: High | E6: CBE official releases
A8: Reference URLs
A9: 1) CBE 2025 annual remittances release (USD 41.5bn): https://www.cbe.org.eg/en/news-publications/news/2026/02/23/11/17/remittances-from-egyptians-working-abroad-record-usd-41,-d-,5-billion-during-2025
A10: 2) IMF Egypt Article IV / EFF context (FX reforms and normalization): https://www.imf.org/-/media/files/publications/cr/2024/english/1egyea2024002-print-pdf.pdf
A11: 3) World Bank/KNOMAD remittance context for rebound narrative: https://blogs.worldbank.org/en/peoplemove/in-2024--remittance-flows-to-low--and-middle-income-countries-ar
A12: 4) World Bank indicator series (Egypt remittances): https://data.worldbank.org/indicator/BX.TRF.PWKR.CD.DT?locations=EG

Sheet Proj_Assumptions_26_31
A1: Input | B1: Value | C1: Unit | D1: Notes
A2: Anchor Year (Official) | B2: 2025 | C2: Year | D2: CBE official total = USD 41.5bn
A3: Anchor Total | B3: 41500000000 | C3: USD | D3: From CBE release
A4: Base Growth 2026 | B4: 0.085 | C4: % | D4: Normalization after exceptional rebound
A5: Base Growth 2027 | B5: 0.075 | C5: %
A6: Base Growth 2028 | B6: 0.065 | C6: %
A7: Base Growth 2029 | B7: 0.06 | C7: %
A8: Base Growth 2030 | B8: 0.055 | C8: %
A9: Base Growth 2031 | B9: 0.05 | C9: %
A10: Low Growth 2026 | B10: 0.055 | C10: % | D10: Conservative case
A11: Low Growth 2027 | B11: 0.045 | C11: %
A12: Low Growth 2028 | B12: 0.04 | C12: %
A13: Low Growth 2029 | B13: 0.035 | C13: %
A14: Low Growth 2030 | B14: 0.03 | C14: %
A15: Low Growth 2031 | B15: 0.03 | C15: %
A16: High Growth 2026 | B16: 0.12 | C16: % | D16: Upside case
A17: High Growth 2027 | B17: 0.1 | C17: %
A18: High Growth 2028 | B18: 0.09 | C18: %
A19: High Growth 2029 | B19: 0.08 | C19: %
A20: High Growth 2030 | B20: 0.07 | C20: %
A21: High Growth 2031 | B21: 0.065 | C21: %
A22: Country Share Basis | B22: 2025 reconciled share | C22: Text | D22: Shares sourced from Reconciled_Country_Flows column M

Sheet Total_Projection_26_31
A1: Scenario | B1: 2025 Anchor (USD) | C1: 2026 (USD) | D1: 2027 (USD) | E1: 2028 (USD) | F1: 2029 (USD) | G1: 2030 (USD) | H1: 2031 (USD) | I1: 2025-2031 CAGR
A2: Low | B2: =Proj_Assumptions_26_31!B3 -> 41500000000 | C2: =B2*(1+Proj_Assumptions_26_31!B10) -> 43782500000 | D2: =C2*(1+Proj_Assumptions_26_31!B11) -> 45752712500 | E2: =D2*(1+Proj_Assumptions_26_31!B12) -> 47582821000 | F2: =E2*(1+Proj_Assumptions_26_31!B13) -> 49248219735 | G2: =F2*(1+Proj_Assumptions_26_31!B14) -> 5.0725666e+10 | H2: =G2*(1+Proj_Assumptions_26_31!B15) -> 5.2247436e+10 | I2: =(H2/B2)^(1/6)-1 -> 0.039129039
A3: Base | B3: =Proj_Assumptions_26_31!B3 -> 41500000000 | C3: =B3*(1+Proj_Assumptions_26_31!B4) -> 45027500000 | D3: =C3*(1+Proj_Assumptions_26_31!B5) -> 48404562500 | E3: =D3*(1+Proj_Assumptions_26_31!B6) -> 5.1550859e+10 | F3: =E3*(1+Proj_Assumptions_26_31!B7) -> 5.4643911e+10 | G3: =F3*(1+Proj_Assumptions_26_31!B8) -> 5.7649326e+10 | H3: =G3*(1+Proj_Assumptions_26_31!B9) -> 6.0531792e+10 | I3: =(H3/B3)^(1/6)-1 -> 0.064933704
A4: High | B4: =Proj_Assumptions_26_31!B3 -> 41500000000 | C4: =B4*(1+Proj_Assumptions_26_31!B16) -> 4.648e+10 | D4: =C4*(1+Proj_Assumptions_26_31!B17) -> 5.1128e+10 | E4: =D4*(1+Proj_Assumptions_26_31!B18) -> 5.572952e+10 | F4: =E4*(1+Proj_Assumptions_26_31!B19) -> 6.0187882e+10 | G4: =F4*(1+Proj_Assumptions_26_31!B20) -> 6.4401033e+10 | H4: =G4*(1+Proj_Assumptions_26_31!B21) -> 6.85871e+10 | I4: =(H4/B4)^(1/6)-1 -> 0.087340901
A6: YoY Growth (%) by Scenario
A7: Scenario | B7: 2026 | C7: 2027 | D7: 2028 | E7: 2029 | F7: 2030 | G7: 2031
A8: Low | B8: =C2/B2-1 -> 0.055 | C8: =D2/C2-1 -> 0.045 | D8: =E2/D2-1 -> 0.04 | E8: =F2/E2-1 -> 0.035 | F8: =G2/F2-1 -> 0.03 | G8: =H2/G2-1 -> 0.03
A9: Base | B9: =C3/B3-1 -> 0.085 | C9: =D3/C3-1 -> 0.075 | D9: =E3/D3-1 -> 0.065 | E9: =F3/E3-1 -> 0.06 | F9: =G3/F3-1 -> 0.055 | G9: =H3/G3-1 -> 0.05
A10: High | B10: =C4/B4-1 -> 0.12 | C10: =D4/C4-1 -> 0.1 | D10: =E4/D4-1 -> 0.09 | E10: =F4/E4-1 -> 0.08 | F10: =G4/F4-1 -> 0.07 | G10: =H4/G4-1 -> 0.065

Sheet Country_Projection_26_31
A1: Source Country | B1: ISO3 | C1: 2025 Share (Reconciled) | D1: 2026 Base (USD) | E1: 2027 Base (USD) | F1: 2028 Base (USD) | G1: 2029 Base (USD) | H1: 2030 Base (USD) | I1: 2031 Base (USD) | J1: 2026 Low (USD) | K1: 2027 Low (USD) | L1: 2028 Low (USD) | M1: 2029 Low (USD) | N1: 2030 Low (USD) | O1: 2031 Low (USD) | P1: 2026 High (USD) | Q1: 2027 High (USD) | R1: 2028 High (USD) | S1: 2029 High (USD) | T1: 2030 High (USD) | U1: 2031 High (USD)
A2: =Reconciled_Country_Flows!A2 -> Saudi Arabia | B2: =Reconciled_Country_Flows!B2 -> SAU | C2: =Reconciled_Country_Flows!M2 -> 0.13157895 | D2: =C2*Total_Projection_26_31!D3 -> 6.3690214e+09 | E2: =C2*Total_Projection_26_31!E3 -> 6.7830078e+09 | F2: =C2*Total_Projection_26_31!F3 -> 7.1899882e+09 | G2: =C2*Total_Projection_26_31!G3 -> 7.5854376e+09 | H2: =C2*Total_Projection_26_31!H3 -> 7.9647095e+09 | I2: =C2*Total_Projection_26_31!I3 -> 0.0085439085 | J2: =C2*Total_Projection_26_31!D2 -> 6.0200937e+09 | K2: =C2*Total_Projection_26_31!E2 -> 6.2608975e+09 | L2: =C2*Total_Projection_26_31!F2 -> 6.4800289e+09 | M2: =C2*Total_Projection_26_31!G2 -> 6.6744298e+09 | N2: =C2*Total_Projection_26_31!H2 -> 6.8746627e+09 | O2: =C2*Total_Projection_26_31!I2 -> 0.0051485577 | P2: =C2*Total_Projection_26_31!D4 -> 6.7273684e+09 | Q2: =C2*Total_Projection_26_31!E4 -> 7.3328316e+09 | R2: =C2*Total_Projection_26_31!F4 -> 7.9194581e+09 | S2: =C2*Total_Projection_26_31!G4 -> 8.4738202e+09 | T2: =C2*Total_Projection_26_31!H4 -> 9.0246185e+09 | U2: =C2*Total_Projection_26_31!I4 -> 0.011492224
A3: =Reconciled_Country_Flows!A3 -> United Arab Emirates | B3: =Reconciled_Country_Flows!B3 -> ARE | C3: =Reconciled_Country_Flows!M3 -> 0.12188366 | D3: =C3*Total_Projection_26_31!D3 -> 5.8997251e+09 | E3: =C3*Total_Projection_26_31!E3 -> 6.2832072e+09 | F3: =C3*Total_Projection_26_31!F3 -> 6.6601996e+09 | G3: =C3*Total_Projection_26_31!G3 -> 7.0265106e+09 | H3: =C3*Total_Projection_26_31!H3 -> 7.3778361e+09 | I3: =C3*Total_Projection_26_31!I3 -> 0.0079143573 | J3: =C3*Total_Projection_26_31!D2 -> 5.5765079e+09 | K3: =C3*Total_Projection_26_31!E2 -> 5.7995682e+09 | L3: =C3*Total_Projection_26_31!F2 -> 6.0025531e+09 | M3: =C3*Total_Projection_26_31!G2 -> 6.1826297e+09 | N3: =C3*Total_Projection_26_31!H2 -> 6.3681086e+09 | O3: =C3*Total_Projection_26_31!I2 -> 0.0047691903 | P3: =C3*Total_Projection_26_31!D4 -> 6.2316676e+09 | Q3: =C3*Total_Projection_26_31!E4 -> 6.7925177e+09 | R3: =C3*Total_Projection_26_31!F4 -> 7.3359191e+09 | S3: =C3*Total_Projection_26_31!G4 -> 7.8494334e+09 | T3: =C3*Total_Projection_26_31!H4 -> 8.3596466e+09 | U3: =C3*Total_Projection_26_31!I4 -> 0.010645428
A4: =Reconciled_Country_Flows!A4 -> Kuwait | B4: =Reconciled_Country_Flows!B4 -> KWT | C4: =Reconciled_Country_Flows!M4 -> 0.099722992 | D4: =C4*Total_Projection_26_31!D3 -> 4.8270478e+09 | E4: =C4*Total_Projection_26_31!E3 -> 5.1408059e+09 | F4: =C4*Total_Projection_26_31!F3 -> 5.4492542e+09 | G4: =C4*Total_Projection_26_31!G3 -> 5.7489632e+09 | H4: =C4*Total_Projection_26_31!H3 -> 6.0364114e+09 | I4: =C4*Total_Projection_26_31!I3 -> 0.0064753833 | J4: =C4*Total_Projection_26_31!D2 -> 4.5625974e+09 | K4: =C4*Total_Projection_26_31!E2 -> 4.7451013e+09 | L4: =C4*Total_Projection_26_31!F2 -> 4.9111798e+09 | M4: =C4*Total_Projection_26_31!G2 -> 5.0585152e+09 | N4: =C4*Total_Projection_26_31!H2 -> 5.2102707e+09 | O4: =C4*Total_Projection_26_31!I2 -> 0.0039020648 | P4: =C4*Total_Projection_26_31!D4 -> 5.0986371e+09 | Q4: =C4*Total_Projection_26_31!E4 -> 5.5575145e+09 | R4: =C4*Total_Projection_26_31!F4 -> 6.0021156e+09 | S4: =C4*Total_Projection_26_31!G4 -> 6.4222637e+09 | T4: =C4*Total_Projection_26_31!H4 -> 6.8397109e+09 | U4: =C4*Total_Projection_26_31!I4 -> 0.0087098959
A5: =Reconciled_Country_Flows!A5 -> Qatar | B5: =Reconciled_Country_Flows!B5 -> QAT | C5: =Reconciled_Country_Flows!M5 -> 0.08033241 | D5: =C5*Total_Projection_26_31!D3 -> 3.8884552e+09 | E5: =C5*Total_Projection_26_31!E3 -> 4.1412047e+09 | F5: =C5*Total_Projection_26_31!F3 -> 4.389677e+09 | G5: =C5*Total_Projection_26_31!G3 -> 4.6311093e+09 | H5: =C5*Total_Projection_26_31!H3 -> 4.8626647e+09 | I5: =C5*Total_Projection_26_31!I3 -> 0.005216281 | J5: =C5*Total_Projection_26_31!D2 -> 3.6754257e+09 | K5: =C5*Total_Projection_26_31!E2 -> 3.8224427e+09 | L5: =C5*Total_Projection_26_31!F2 -> 3.9562282e+09 | M5: =C5*Total_Projection_26_31!G2 -> 4.074915e+09 | N5: =C5*Total_Projection_26_31!H2 -> 4.1971625e+09 | O5: =C5*Total_Projection_26_31!I2 -> 0.00314333 | P5: =C5*Total_Projection_26_31!D4 -> 4.1072355e+09 | Q5: =C5*Total_Projection_26_31!E4 -> 4.4768866e+09 | R5: =C5*Total_Projection_26_31!F4 -> 4.8350376e+09 | S5: =C5*Total_Projection_26_31!G4 -> 5.1734902e+09 | T5: =C5*Total_Projection_26_31!H4 -> 5.5097671e+09 | U5: =C5*Total_Projection_26_31!I4 -> 0.007016305
A6: =Reconciled_Country_Flows!A6 -> Oman | B6: =Reconciled_Country_Flows!B6 -> OMN | C6: =Reconciled_Country_Flows!M6 -> 0.063711911 | D6: =C6*Total_Projection_26_31!D3 -> 3.0839472e+09 | E6: =C6*Total_Projection_26_31!E3 -> 3.2844038e+09 | F6: =C6*Total_Projection_26_31!F3 -> 3.481468e+09 | G6: =C6*Total_Projection_26_31!G3 -> 3.6729487e+09 | H6: =C6*Total_Projection_26_31!H3 -> 3.8565962e+09 | I6: =C6*Total_Projection_26_31!I3 -> 0.0041370504 | J6: =C6*Total_Projection_26_31!D2 -> 2.9149928e+09 | K6: =C6*Total_Projection_26_31!E2 -> 3.0315925e+09 | L6: =C6*Total_Projection_26_31!F2 -> 3.1376982e+09 | M6: =C6*Total_Projection_26_31!G2 -> 3.2318292e+09 | N6: =C6*Total_Projection_26_31!H2 -> 3.328784e+09 | O6: =C6*Total_Projection_26_31!I2 -> 0.0024929858 | P6: =C6*Total_Projection_26_31!D4 -> 3.2574626e+09 | Q6: =C6*Total_Projection_26_31!E4 -> 3.5506342e+09 | R6: =C6*Total_Projection_26_31!F4 -> 3.834685e+09 | S6: =C6*Total_Projection_26_31!G4 -> 4.1031129e+09 | T6: =C6*Total_Projection_26_31!H4 -> 4.3698153e+09 | U6: =C6*Total_Projection_26_31!I4 -> 0.0055646557
A7: =Reconciled_Country_Flows!A7 -> Bahrain | B7: =Reconciled_Country_Flows!B7 -> BHR | C7: =Reconciled_Country_Flows!M7 -> 0.04432133 | D7: =C7*Total_Projection_26_31!D3 -> 2.1453546e+09 | E7: =C7*Total_Projection_26_31!E3 -> 2.2848026e+09 | F7: =C7*Total_Projection_26_31!F3 -> 2.4218908e+09 | G7: =C7*Total_Projection_26_31!G3 -> 2.5550948e+09 | H7: =C7*Total_Projection_26_31!H3 -> 2.6828495e+09 | I7: =C7*Total_Projection_26_31!I3 -> 0.0028779481 | J7: =C7*Total_Projection_26_31!D2 -> 2.0278211e+09 | K7: =C7*Total_Projection_26_31!E2 -> 2.1089339e+09 | L7: =C7*Total_Projection_26_31!F2 -> 2.1827466e+09 | M7: =C7*Total_Projection_26_31!G2 -> 2.248229e+09 | N7: =C7*Total_Projection_26_31!H2 -> 2.3156758e+09 | O7: =C7*Total_Projection_26_31!I2 -> 0.001734251 | P7: =C7*Total_Projection_26_31!D4 -> 2.2660609e+09 | Q7: =C7*Total_Projection_26_31!E4 -> 2.4700064e+09 | R7: =C7*Total_Projection_26_31!F4 -> 2.6676069e+09 | S7: =C7*Total_Projection_26_31!G4 -> 2.8543394e+09 | T7: =C7*Total_Projection_26_31!H4 -> 3.0398715e+09 | U7: =C7*Total_Projection_26_31!I4 -> 0.0038710648
A8: =Reconciled_Country_Flows!A8 -> Jordan | B8: =Reconciled_Country_Flows!B8 -> JOR | C8: =Reconciled_Country_Flows!M8 -> 0.052631579 | D8: =C8*Total_Projection_26_31!D3 -> 2.5476086e+09 | E8: =C8*Total_Projection_26_31!E3 -> 2.7132031e+09 | F8: =C8*Total_Projection_26_31!F3 -> 2.8759953e+09 | G8: =C8*Total_Projection_26_31!G3 -> 3.034175e+09 | H8: =C8*Total_Projection_26_31!H3 -> 3.1858838e+09 | I8: =C8*Total_Projection_26_31!I3 -> 0.0034175634 | J8: =C8*Total_Projection_26_31!D2 -> 2.4080375e+09 | K8: =C8*Total_Projection_26_31!E2 -> 2.504359e+09 | L8: =C8*Total_Projection_26_31!F2 -> 2.5920116e+09 | M8: =C8*Total_Projection_26_31!G2 -> 2.6697719e+09 | N8: =C8*Total_Projection_26_31!H2 -> 2.7498651e+09 | O8: =C8*Total_Projection_26_31!I2 -> 0.0020594231 | P8: =C8*Total_Projection_26_31!D4 -> 2.6909474e+09 | Q8: =C8*Total_Projection_26_31!E4 -> 2.9331326e+09 | R8: =C8*Total_Projection_26_31!F4 -> 3.1677832e+09 | S8: =C8*Total_Projection_26_31!G4 -> 3.3895281e+09 | T8: =C8*Total_Projection_26_31!H4 -> 3.6098474e+09 | U8: =C8*Total_Projection_26_31!I4 -> 0.0045968895
A9: =Reconciled_Country_Flows!A9 -> United States | B9: =Reconciled_Country_Flows!B9 -> USA | C9: =Reconciled_Country_Flows!M9 -> 0.060941828 | D9: =C9*Total_Projection_26_31!D3 -> 2.9498625e+09 | E9: =C9*Total_Projection_26_31!E3 -> 3.1416036e+09 | F9: =C9*Total_Projection_26_31!F3 -> 3.3300998e+09 | G9: =C9*Total_Projection_26_31!G3 -> 3.5132553e+09 | H9: =C9*Total_Projection_26_31!H3 -> 3.6889181e+09 | I9: =C9*Total_Projection_26_31!I3 -> 0.0039571787 | J9: =C9*Total_Projection_26_31!D2 -> 2.7882539e+09 | K9: =C9*Total_Projection_26_31!E2 -> 2.8997841e+09 | L9: =C9*Total_Projection_26_31!F2 -> 3.0012765e+09 | M9: =C9*Total_Projection_26_31!G2 -> 3.0913148e+09 | N9: =C9*Total_Projection_26_31!H2 -> 3.1840543e+09 | O9: =C9*Total_Projection_26_31!I2 -> 0.0023845952 | P9: =C9*Total_Projection_26_31!D4 -> 3.1158338e+09 | Q9: =C9*Total_Projection_26_31!E4 -> 3.3962588e+09 | R9: =C9*Total_Projection_26_31!F4 -> 3.6679595e+09 | S9: =C9*Total_Projection_26_31!G4 -> 3.9247167e+09 | T9: =C9*Total_Projection_26_31!H4 -> 4.1798233e+09 | U9: =C9*Total_Projection_26_31!I4 -> 0.0053227142
A10: =Reconciled_Country_Flows!A10 -> Italy | B10: =Reconciled_Country_Flows!B10 -> ITA | C10: =Reconciled_Country_Flows!M10 -> 0.033240997 | D10: =C10*Total_Projection_26_31!D3 -> 1.6090159e+09 | E10: =C10*Total_Projection_26_31!E3 -> 1.713602e+09 | F10: =C10*Total_Projection_26_31!F3 -> 1.8164181e+09 | G10: =C10*Total_Projection_26_31!G3 -> 1.9163211e+09 | H10: =C10*Total_Projection_26_31!H3 -> 2.0121371e+09 | I10: =C10*Total_Projection_26_31!I3 -> 0.0021584611 | J10: =C10*Total_Projection_26_31!D2 -> 1.5208658e+09 | K10: =C10*Total_Projection_26_31!E2 -> 1.5817004e+09 | L10: =C10*Total_Projection_26_31!F2 -> 1.6370599e+09 | M10: =C10*Total_Projection_26_31!G2 -> 1.6861717e+09 | N10: =C10*Total_Projection_26_31!H2 -> 1.7367569e+09 | O10: =C10*Total_Projection_26_31!I2 -> 0.0013006883 | P10: =C10*Total_Projection_26_31!D4 -> 1.6995457e+09 | Q10: =C10*Total_Projection_26_31!E4 -> 1.8525048e+09 | R10: =C10*Total_Projection_26_31!F4 -> 2.0007052e+09 | S10: =C10*Total_Projection_26_31!G4 -> 2.1407546e+09 | T10: =C10*Total_Projection_26_31!H4 -> 2.2799036e+09 | U10: =C10*Total_Projection_26_31!I4 -> 0.0029032986
A11: =Reconciled_Country_Flows!A11 -> United Kingdom | B11: =Reconciled_Country_Flows!B11 -> GBR | C11: =Reconciled_Country_Flows!M11 -> 0.03601108 | D11: =C11*Total_Projection_26_31!D3 -> 1.7431006e+09 | E11: =C11*Total_Projection_26_31!E3 -> 1.8564021e+09 | F11: =C11*Total_Projection_26_31!F3 -> 1.9677863e+09 | G11: =C11*Total_Projection_26_31!G3 -> 2.0760145e+09 | H11: =C11*Total_Projection_26_31!H3 -> 2.1798152e+09 | I11: =C11*Total_Projection_26_31!I3 -> 0.0023383328 | J11: =C11*Total_Projection_26_31!D2 -> 1.6476046e+09 | K11: =C11*Total_Projection_26_31!E2 -> 1.7135088e+09 | L11: =C11*Total_Projection_26_31!F2 -> 1.7734816e+09 | M11: =C11*Total_Projection_26_31!G2 -> 1.826686e+09 | N11: =C11*Total_Projection_26_31!H2 -> 1.8814866e+09 | O11: =C11*Total_Projection_26_31!I2 -> 0.001409079 | P11: =C11*Total_Projection_26_31!D4 -> 1.8411745e+09 | Q11: =C11*Total_Projection_26_31!E4 -> 2.0068802e+09 | R11: =C11*Total_Projection_26_31!F4 -> 2.1674306e+09 | S11: =C11*Total_Projection_26_31!G4 -> 2.3191508e+09 | T11: =C11*Total_Projection_26_31!H4 -> 2.4698956e+09 | U11: =C11*Total_Projection_26_31!I4 -> 0.0031452402
A12: =Reconciled_Country_Flows!A12 -> Germany | B12: =Reconciled_Country_Flows!B12 -> DEU | C12: =Reconciled_Country_Flows!M12 -> 0.026315789 | D12: =C12*Total_Projection_26_31!D3 -> 1.2738043e+09 | E12: =C12*Total_Projection_26_31!E3 -> 1.3566016e+09 | F12: =C12*Total_Projection_26_31!F3 -> 1.4379976e+09 | G12: =C12*Total_Projection_26_31!G3 -> 1.5170875e+09 | H12: =C12*Total_Projection_26_31!H3 -> 1.5929419e+09 | I12: =C12*Total_Projection_26_31!I3 -> 0.0017087817 | J12: =C12*Total_Projection_26_31!D2 -> 1.2040187e+09 | K12: =C12*Total_Projection_26_31!E2 -> 1.2521795e+09 | L12: =C12*Total_Projection_26_31!F2 -> 1.2960058e+09 | M12: =C12*Total_Projection_26_31!G2 -> 1.334886e+09 | N12: =C12*Total_Projection_26_31!H2 -> 1.3749325e+09 | O12: =C12*Total_Projection_26_31!I2 -> 0.0010297115 | P12: =C12*Total_Projection_26_31!D4 -> 1.3454737e+09 | Q12: =C12*Total_Projection_26_31!E4 -> 1.4665663e+09 | R12: =C12*Total_Projection_26_31!F4 -> 1.5838916e+09 | S12: =C12*Total_Projection_26_31!G4 -> 1.694764e+09 | T12: =C12*Total_Projection_26_31!H4 -> 1.8049237e+09 | U12: =C12*Total_Projection_26_31!I4 -> 0.0022984448
A13: =Reconciled_Country_Flows!A13 -> France | B13: =Reconciled_Country_Flows!B13 -> FRA | C13: =Reconciled_Country_Flows!M13 -> 0.020775623 | D13: =C13*Total_Projection_26_31!D3 -> 1.005635e+09 | E13: =C13*Total_Projection_26_31!E3 -> 1.0710012e+09 | F13: =C13*Total_Projection_26_31!F3 -> 1.1352613e+09 | G13: =C13*Total_Projection_26_31!G3 -> 1.1977007e+09 | H13: =C13*Total_Projection_26_31!H3 -> 1.2575857e+09 | I13: =C13*Total_Projection_26_31!I3 -> 0.0013490382 | J13: =C13*Total_Projection_26_31!D2 -> 9.5054112e+08 | K13: =C13*Total_Projection_26_31!E2 -> 9.8856276e+08 | L13: =C13*Total_Projection_26_31!F2 -> 1.0231625e+09 | M13: =C13*Total_Projection_26_31!G2 -> 1.0538573e+09 | N13: =C13*Total_Projection_26_31!H2 -> 1.0854731e+09 | O13: =C13*Total_Projection_26_31!I2 -> 0.00081293017 | P13: =C13*Total_Projection_26_31!D4 -> 1.0622161e+09 | Q13: =C13*Total_Projection_26_31!E4 -> 1.1578155e+09 | R13: =C13*Total_Projection_26_31!F4 -> 1.2504408e+09 | S13: =C13*Total_Projection_26_31!G4 -> 1.3379716e+09 | T13: =C13*Total_Projection_26_31!H4 -> 1.4249398e+09 | U13: =C13*Total_Projection_26_31!I4 -> 0.0018145616
A14: =Reconciled_Country_Flows!A14 -> Canada | B14: =Reconciled_Country_Flows!B14 -> CAN | C14: =Reconciled_Country_Flows!M14 -> 0.019390582 | D14: =C14*Total_Projection_26_31!D3 -> 9.3859262e+08 | E14: =C14*Total_Projection_26_31!E3 -> 9.9960115e+08 | F14: =C14*Total_Projection_26_31!F3 -> 1.0595772e+09 | G14: =C14*Total_Projection_26_31!G3 -> 1.117854e+09 | H14: =C14*Total_Projection_26_31!H3 -> 1.1737467e+09 | I14: =C14*Total_Projection_26_31!I3 -> 0.0012591023 | J14: =C14*Total_Projection_26_31!D2 -> 8.8717171e+08 | K14: =C14*Total_Projection_26_31!E2 -> 9.2265858e+08 | L14: =C14*Total_Projection_26_31!F2 -> 9.5495163e+08 | M14: =C14*Total_Projection_26_31!G2 -> 9.8360018e+08 | N14: =C14*Total_Projection_26_31!H2 -> 1.0131082e+09 | O14: =C14*Total_Projection_26_31!I2 -> 0.00075873482 | P14: =C14*Total_Projection_26_31!D4 -> 9.9140166e+08 | Q14: =C14*Total_Projection_26_31!E4 -> 1.0806278e+09 | R14: =C14*Total_Projection_26_31!F4 -> 1.167078e+09 | S14: =C14*Total_Projection_26_31!G4 -> 1.2487735e+09 | T14: =C14*Total_Projection_26_31!H4 -> 1.3299438e+09 | U14: =C14*Total_Projection_26_31!I4 -> 0.0016935909
A15: =Reconciled_Country_Flows!A15 -> Greece | B15: =Reconciled_Country_Flows!B15 -> GRC | C15: =Reconciled_Country_Flows!M15 -> 0.013850416 | D15: =C15*Total_Projection_26_31!D3 -> 6.704233e+08 | E15: =C15*Total_Projection_26_31!E3 -> 7.1400082e+08 | F15: =C15*Total_Projection_26_31!F3 -> 7.5684087e+08 | G15: =C15*Total_Projection_26_31!G3 -> 7.9846711e+08 | H15: =C15*Total_Projection_26_31!H3 -> 8.3839047e+08 | I15: =C15*Total_Projection_26_31!I3 -> 0.00089935879 | J15: =C15*Total_Projection_26_31!D2 -> 6.3369408e+08 | K15: =C15*Total_Projection_26_31!E2 -> 6.5904184e+08 | L15: =C15*Total_Projection_26_31!F2 -> 6.8210831e+08 | M15: =C15*Total_Projection_26_31!G2 -> 7.0257156e+08 | N15: =C15*Total_Projection_26_31!H2 -> 7.236487e+08 | O15: =C15*Total_Projection_26_31!I2 -> 0.00054195344 | P15: =C15*Total_Projection_26_31!D4 -> 7.0814404e+08 | Q15: =C15*Total_Projection_26_31!E4 -> 7.7187701e+08 | R15: =C15*Total_Projection_26_31!F4 -> 8.3362717e+08 | S15: =C15*Total_Projection_26_31!G4 -> 8.9198107e+08 | T15: =C15*Total_Projection_26_31!H4 -> 9.4995984e+08 | U15: =C15*Total_Projection_26_31!I4 -> 0.0012097078
A16: =Reconciled_Country_Flows!A16 -> Spain | B16: =Reconciled_Country_Flows!B16 -> ESP | C16: =Reconciled_Country_Flows!M16 -> 0.011080332 | D16: =C16*Total_Projection_26_31!D3 -> 5.3633864e+08 | E16: =C16*Total_Projection_26_31!E3 -> 5.7120065e+08 | F16: =C16*Total_Projection_26_31!F3 -> 6.0547269e+08 | G16: =C16*Total_Projection_26_31!G3 -> 6.3877369e+08 | H16: =C16*Total_Projection_26_31!H3 -> 6.7071238e+08 | I16: =C16*Total_Projection_26_31!I3 -> 0.00071948703 | J16: =C16*Total_Projection_26_31!D2 -> 5.0695526e+08 | K16: =C16*Total_Projection_26_31!E2 -> 5.2723347e+08 | L16: =C16*Total_Projection_26_31!F2 -> 5.4568665e+08 | M16: =C16*Total_Projection_26_31!G2 -> 5.6205724e+08 | N16: =C16*Total_Projection_26_31!H2 -> 5.7891896e+08 | O16: =C16*Total_Projection_26_31!I2 -> 0.00043356276 | P16: =C16*Total_Projection_26_31!D4 -> 5.6651524e+08 | Q16: =C16*Total_Projection_26_31!E4 -> 6.1750161e+08 | R16: =C16*Total_Projection_26_31!F4 -> 6.6690174e+08 | S16: =C16*Total_Projection_26_31!G4 -> 7.1358486e+08 | T16: =C16*Total_Projection_26_31!H4 -> 7.5996787e+08 | U16: =C16*Total_Projection_26_31!I4 -> 0.00096776621
A17: =Reconciled_Country_Flows!A17 -> Netherlands | B17: =Reconciled_Country_Flows!B17 -> NLD | C17: =Reconciled_Country_Flows!M17 -> 0.0096952909 | D17: =C17*Total_Projection_26_31!D3 -> 4.6929631e+08 | E17: =C17*Total_Projection_26_31!E3 -> 4.9980057e+08 | F17: =C17*Total_Projection_26_31!F3 -> 5.2978861e+08 | G17: =C17*Total_Projection_26_31!G3 -> 5.5892698e+08 | H17: =C17*Total_Projection_26_31!H3 -> 5.8687333e+08 | I17: =C17*Total_Projection_26_31!I3 -> 0.00062955115 | J17: =C17*Total_Projection_26_31!D2 -> 4.4358586e+08 | K17: =C17*Total_Projection_26_31!E2 -> 4.6132929e+08 | L17: =C17*Total_Projection_26_31!F2 -> 4.7747581e+08 | M17: =C17*Total_Projection_26_31!G2 -> 4.9180009e+08 | N17: =C17*Total_Projection_26_31!H2 -> 5.0655409e+08 | O17: =C17*Total_Projection_26_31!I2 -> 0.00037936741 | P17: =C17*Total_Projection_26_31!D4 -> 4.9570083e+08 | Q17: =C17*Total_Projection_26_31!E4 -> 5.4031391e+08 | R17: =C17*Total_Projection_26_31!F4 -> 5.8353902e+08 | S17: =C17*Total_Projection_26_31!G4 -> 6.2438675e+08 | T17: =C17*Total_Projection_26_31!H4 -> 6.6497189e+08 | U17: =C17*Total_Projection_26_31!I4 -> 0.00084679544
A18: =Reconciled_Country_Flows!A18 -> Belgium | B18: =Reconciled_Country_Flows!B18 -> BEL | C18: =Reconciled_Country_Flows!M18 -> 0.0083102493 | D18: =C18*Total_Projection_26_31!D3 -> 4.0225398e+08 | E18: =C18*Total_Projection_26_31!E3 -> 4.2840049e+08 | F18: =C18*Total_Projection_26_31!F3 -> 4.5410452e+08 | G18: =C18*Total_Projection_26_31!G3 -> 4.7908027e+08 | H18: =C18*Total_Projection_26_31!H3 -> 5.0303428e+08 | I18: =C18*Total_Projection_26_31!I3 -> 0.00053961527 | J18: =C18*Total_Projection_26_31!D2 -> 3.8021645e+08 | K18: =C18*Total_Projection_26_31!E2 -> 3.9542511e+08 | L18: =C18*Total_Projection_26_31!F2 -> 4.0926498e+08 | M18: =C18*Total_Projection_26_31!G2 -> 4.2154293e+08 | N18: =C18*Total_Projection_26_31!H2 -> 4.3418922e+08 | O18: =C18*Total_Projection_26_31!I2 -> 0.00032517207 | P18: =C18*Total_Projection_26_31!D4 -> 4.2488643e+08 | Q18: =C18*Total_Projection_26_31!E4 -> 4.631262e+08 | R18: =C18*Total_Projection_26_31!F4 -> 5.001763e+08 | S18: =C18*Total_Projection_26_31!G4 -> 5.3518864e+08 | T18: =C18*Total_Projection_26_31!H4 -> 5.699759e+08 | U18: =C18*Total_Projection_26_31!I4 -> 0.00072582466
A19: =Reconciled_Country_Flows!A19 -> Switzerland | B19: =Reconciled_Country_Flows!B19 -> CHE | C19: =Reconciled_Country_Flows!M19 -> 0.0096952909 | D19: =C19*Total_Projection_26_31!D3 -> 4.6929631e+08 | E19: =C19*Total_Projection_26_31!E3 -> 4.9980057e+08 | F19: =C19*Total_Projection_26_31!F3 -> 5.2978861e+08 | G19: =C19*Total_Projection_26_31!G3 -> 5.5892698e+08 | H19: =C19*Total_Projection_26_31!H3 -> 5.8687333e+08 | I19: =C19*Total_Projection_26_31!I3 -> 0.00062955115 | J19: =C19*Total_Projection_26_31!D2 -> 4.4358586e+08 | K19: =C19*Total_Projection_26_31!E2 -> 4.6132929e+08 | L19: =C19*Total_Projection_26_31!F2 -> 4.7747581e+08 | M19: =C19*Total_Projection_26_31!G2 -> 4.9180009e+08 | N19: =C19*Total_Projection_26_31!H2 -> 5.0655409e+08 | O19: =C19*Total_Projection_26_31!I2 -> 0.00037936741 | P19: =C19*Total_Projection_26_31!D4 -> 4.9570083e+08 | Q19: =C19*Total_Projection_26_31!E4 -> 5.4031391e+08 | R19: =C19*Total_Projection_26_31!F4 -> 5.8353902e+08 | S19: =C19*Total_Projection_26_31!G4 -> 6.2438675e+08 | T19: =C19*Total_Projection_26_31!H4 -> 6.6497189e+08 | U19: =C19*Total_Projection_26_31!I4 -> 0.00084679544
A20: =Reconciled_Country_Flows!A20 -> Austria | B20: =Reconciled_Country_Flows!B20 -> AUT | C20: =Reconciled_Country_Flows!M20 -> 0.0069252078 | D20: =C20*Total_Projection_26_31!D3 -> 3.3521165e+08 | E20: =C20*Total_Projection_26_31!E3 -> 3.5700041e+08 | F20: =C20*Total_Projection_26_31!F3 -> 3.7842043e+08 | G20: =C20*Total_Projection_26_31!G3 -> 3.9923356e+08 | H20: =C20*Total_Projection_26_31!H3 -> 4.1919524e+08 | I20: =C20*Total_Projection_26_31!I3 -> 0.00044967939 | J20: =C20*Total_Projection_26_31!D2 -> 3.1684704e+08 | K20: =C20*Total_Projection_26_31!E2 -> 3.2952092e+08 | L20: =C20*Total_Projection_26_31!F2 -> 3.4105415e+08 | M20: =C20*Total_Projection_26_31!G2 -> 3.5128578e+08 | N20: =C20*Total_Projection_26_31!H2 -> 3.6182435e+08 | O20: =C20*Total_Projection_26_31!I2 -> 0.00027097672 | P20: =C20*Total_Projection_26_31!D4 -> 3.5407202e+08 | Q20: =C20*Total_Projection_26_31!E4 -> 3.859385e+08 | R20: =C20*Total_Projection_26_31!F4 -> 4.1681358e+08 | S20: =C20*Total_Projection_26_31!G4 -> 4.4599054e+08 | T20: =C20*Total_Projection_26_31!H4 -> 4.7497992e+08 | U20: =C20*Total_Projection_26_31!I4 -> 0.00060485388
A21: =Reconciled_Country_Flows!A21 -> Sweden | B21: =Reconciled_Country_Flows!B21 -> SWE | C21: =Reconciled_Country_Flows!M21 -> 0.0055401662 | D21: =C21*Total_Projection_26_31!D3 -> 2.6816932e+08 | E21: =C21*Total_Projection_26_31!E3 -> 2.8560033e+08 | F21: =C21*Total_Projection_26_31!F3 -> 3.0273635e+08 | G21: =C21*Total_Projection_26_31!G3 -> 3.1938685e+08 | H21: =C21*Total_Projection_26_31!H3 -> 3.3535619e+08 | I21: =C21*Total_Projection_26_31!I3 -> 0.00035974351 | J21: =C21*Total_Projection_26_31!D2 -> 2.5347763e+08 | K21: =C21*Total_Projection_26_31!E2 -> 2.6361674e+08 | L21: =C21*Total_Projection_26_31!F2 -> 2.7284332e+08 | M21: =C21*Total_Projection_26_31!G2 -> 2.8102862e+08 | N21: =C21*Total_Projection_26_31!H2 -> 2.8945948e+08 | O21: =C21*Total_Projection_26_31!I2 -> 0.00021678138 | P21: =C21*Total_Projection_26_31!D4 -> 2.8325762e+08 | Q21: =C21*Total_Projection_26_31!E4 -> 3.087508e+08 | R21: =C21*Total_Projection_26_31!F4 -> 3.3345087e+08 | S21: =C21*Total_Projection_26_31!G4 -> 3.5679243e+08 | T21: =C21*Total_Projection_26_31!H4 -> 3.7998394e+08 | U21: =C21*Total_Projection_26_31!I4 -> 0.00048388311
A22: =Reconciled_Country_Flows!A22 -> Norway | B22: =Reconciled_Country_Flows!B22 -> NOR | C22: =Reconciled_Country_Flows!M22 -> 0.0041551247 | D22: =C22*Total_Projection_26_31!D3 -> 2.0112699e+08 | E22: =C22*Total_Projection_26_31!E3 -> 2.1420025e+08 | F22: =C22*Total_Projection_26_31!F3 -> 2.2705226e+08 | G22: =C22*Total_Projection_26_31!G3 -> 2.3954013e+08 | H22: =C22*Total_Projection_26_31!H3 -> 2.5151714e+08 | I22: =C22*Total_Projection_26_31!I3 -> 0.00026980764 | J22: =C22*Total_Projection_26_31!D2 -> 1.9010822e+08 | K22: =C22*Total_Projection_26_31!E2 -> 1.9771255e+08 | L22: =C22*Total_Projection_26_31!F2 -> 2.0463249e+08 | M22: =C22*Total_Projection_26_31!G2 -> 2.1077147e+08 | N22: =C22*Total_Projection_26_31!H2 -> 2.1709461e+08 | O22: =C22*Total_Projection_26_31!I2 -> 0.00016258603 | P22: =C22*Total_Projection_26_31!D4 -> 2.1244321e+08 | Q22: =C22*Total_Projection_26_31!E4 -> 2.315631e+08 | R22: =C22*Total_Projection_26_31!F4 -> 2.5008815e+08 | S22: =C22*Total_Projection_26_31!G4 -> 2.6759432e+08 | T22: =C22*Total_Projection_26_31!H4 -> 2.8498795e+08 | U22: =C22*Total_Projection_26_31!I4 -> 0.00036291233
A23: =Reconciled_Country_Flows!A23 -> Denmark | B23: =Reconciled_Country_Flows!B23 -> DNK | C23: =Reconciled_Country_Flows!M23 -> 0.0041551247 | D23: =C23*Total_Projection_26_31!D3 -> 2.0112699e+08 | E23: =C23*Total_Projection_26_31!E3 -> 2.1420025e+08 | F23: =C23*Total_Projection_26_31!F3 -> 2.2705226e+08 | G23: =C23*Total_Projection_26_31!G3 -> 2.3954013e+08 | H23: =C23*Total_Projection_26_31!H3 -> 2.5151714e+08 | I23: =C23*Total_Projection_26_31!I3 -> 0.00026980764 | J23: =C23*Total_Projection_26_31!D2 -> 1.9010822e+08 | K23: =C23*Total_Projection_26_31!E2 -> 1.9771255e+08 | L23: =C23*Total_Projection_26_31!F2 -> 2.0463249e+08 | M23: =C23*Total_Projection_26_31!G2 -> 2.1077147e+08 | N23: =C23*Total_Projection_26_31!H2 -> 2.1709461e+08 | O23: =C23*Total_Projection_26_31!I2 -> 0.00016258603 | P23: =C23*Total_Projection_26_31!D4 -> 2.1244321e+08 | Q23: =C23*Total_Projection_26_31!E4 -> 2.315631e+08 | R23: =C23*Total_Projection_26_31!F4 -> 2.5008815e+08 | S23: =C23*Total_Projection_26_31!G4 -> 2.6759432e+08 | T23: =C23*Total_Projection_26_31!H4 -> 2.8498795e+08 | U23: =C23*Total_Projection_26_31!I4 -> 0.00036291233
A24: =Reconciled_Country_Flows!A24 -> Ireland | B24: =Reconciled_Country_Flows!B24 -> IRL | C24: =Reconciled_Country_Flows!M24 -> 0.0041551247 | D24: =C24*Total_Projection_26_31!D3 -> 2.0112699e+08 | E24: =C24*Total_Projection_26_31!E3 -> 2.1420025e+08 | F24: =C24*Total_Projection_26_31!F3 -> 2.2705226e+08 | G24: =C24*Total_Projection_26_31!G3 -> 2.3954013e+08 | H24: =C24*Total_Projection_26_31!H3 -> 2.5151714e+08 | I24: =C24*Total_Projection_26_31!I3 -> 0.00026980764 | J24: =C24*Total_Projection_26_31!D2 -> 1.9010822e+08 | K24: =C24*Total_Projection_26_31!E2 -> 1.9771255e+08 | L24: =C24*Total_Projection_26_31!F2 -> 2.0463249e+08 | M24: =C24*Total_Projection_26_31!G2 -> 2.1077147e+08 | N24: =C24*Total_Projection_26_31!H2 -> 2.1709461e+08 | O24: =C24*Total_Projection_26_31!I2 -> 0.00016258603 | P24: =C24*Total_Projection_26_31!D4 -> 2.1244321e+08 | Q24: =C24*Total_Projection_26_31!E4 -> 2.315631e+08 | R24: =C24*Total_Projection_26_31!F4 -> 2.5008815e+08 | S24: =C24*Total_Projection_26_31!G4 -> 2.6759432e+08 | T24: =C24*Total_Projection_26_31!H4 -> 2.8498795e+08 | U24: =C24*Total_Projection_26_31!I4 -> 0.00036291233
A25: =Reconciled_Country_Flows!A25 -> Portugal | B25: =Reconciled_Country_Flows!B25 -> PRT | C25: =Reconciled_Country_Flows!M25 -> 0.0055401662 | D25: =C25*Total_Projection_26_31!D3 -> 2.6816932e+08 | E25: =C25*Total_Projection_26_31!E3 -> 2.8560033e+08 | F25: =C25*Total_Projection_26_31!F3 -> 3.0273635e+08 | G25: =C25*Total_Projection_26_31!G3 -> 3.1938685e+08 | H25: =C25*Total_Projection_26_31!H3 -> 3.3535619e+08 | I25: =C25*Total_Projection_26_31!I3 -> 0.00035974351 | J25: =C25*Total_Projection_26_31!D2 -> 2.5347763e+08 | K25: =C25*Total_Projection_26_31!E2 -> 2.6361674e+08 | L25: =C25*Total_Projection_26_31!F2 -> 2.7284332e+08 | M25: =C25*Total_Projection_26_31!G2 -> 2.8102862e+08 | N25: =C25*Total_Projection_26_31!H2 -> 2.8945948e+08 | O25: =C25*Total_Projection_26_31!I2 -> 0.00021678138 | P25: =C25*Total_Projection_26_31!D4 -> 2.8325762e+08 | Q25: =C25*Total_Projection_26_31!E4 -> 3.087508e+08 | R25: =C25*Total_Projection_26_31!F4 -> 3.3345087e+08 | S25: =C25*Total_Projection_26_31!G4 -> 3.5679243e+08 | T25: =C25*Total_Projection_26_31!H4 -> 3.7998394e+08 | U25: =C25*Total_Projection_26_31!I4 -> 0.00048388311
A26: =Reconciled_Country_Flows!A26 -> Australia | B26: =Reconciled_Country_Flows!B26 -> AUS | C26: =Reconciled_Country_Flows!M26 -> 0.0069252078 | D26: =C26*Total_Projection_26_31!D3 -> 3.3521165e+08 | E26: =C26*Total_Projection_26_31!E3 -> 3.5700041e+08 | F26: =C26*Total_Projection_26_31!F3 -> 3.7842043e+08 | G26: =C26*Total_Projection_26_31!G3 -> 3.9923356e+08 | H26: =C26*Total_Projection_26_31!H3 -> 4.1919524e+08 | I26: =C26*Total_Projection_26_31!I3 -> 0.00044967939 | J26: =C26*Total_Projection_26_31!D2 -> 3.1684704e+08 | K26: =C26*Total_Projection_26_31!E2 -> 3.2952092e+08 | L26: =C26*Total_Projection_26_31!F2 -> 3.4105415e+08 | M26: =C26*Total_Projection_26_31!G2 -> 3.5128578e+08 | N26: =C26*Total_Projection_26_31!H2 -> 3.6182435e+08 | O26: =C26*Total_Projection_26_31!I2 -> 0.00027097672 | P26: =C26*Total_Projection_26_31!D4 -> 3.5407202e+08 | Q26: =C26*Total_Projection_26_31!E4 -> 3.859385e+08 | R26: =C26*Total_Projection_26_31!F4 -> 4.1681358e+08 | S26: =C26*Total_Projection_26_31!G4 -> 4.4599054e+08 | T26: =C26*Total_Projection_26_31!H4 -> 4.7497992e+08 | U26: =C26*Total_Projection_26_31!I4 -> 0.00060485388
A27: =Reconciled_Country_Flows!A27 -> New Zealand | B27: =Reconciled_Country_Flows!B27 -> NZL | C27: =Reconciled_Country_Flows!M27 -> 0.0027700831 | D27: =C27*Total_Projection_26_31!D3 -> 1.3408466e+08 | E27: =C27*Total_Projection_26_31!E3 -> 1.4280016e+08 | F27: =C27*Total_Projection_26_31!F3 -> 1.5136817e+08 | G27: =C27*Total_Projection_26_31!G3 -> 1.5969342e+08 | H27: =C27*Total_Projection_26_31!H3 -> 1.6767809e+08 | I27: =C27*Total_Projection_26_31!I3 -> 0.00017987176 | J27: =C27*Total_Projection_26_31!D2 -> 1.2673882e+08 | K27: =C27*Total_Projection_26_31!E2 -> 1.3180837e+08 | L27: =C27*Total_Projection_26_31!F2 -> 1.3642166e+08 | M27: =C27*Total_Projection_26_31!G2 -> 1.4051431e+08 | N27: =C27*Total_Projection_26_31!H2 -> 1.4472974e+08 | O27: =C27*Total_Projection_26_31!I2 -> 0.00010839069 | P27: =C27*Total_Projection_26_31!D4 -> 1.4162881e+08 | Q27: =C27*Total_Projection_26_31!E4 -> 1.543754e+08 | R27: =C27*Total_Projection_26_31!F4 -> 1.6672543e+08 | S27: =C27*Total_Projection_26_31!G4 -> 1.7839621e+08 | T27: =C27*Total_Projection_26_31!H4 -> 1.8999197e+08 | U27: =C27*Total_Projection_26_31!I4 -> 0.00024194155
A28: =Reconciled_Country_Flows!A28 -> Japan | B28: =Reconciled_Country_Flows!B28 -> JPN | C28: =Reconciled_Country_Flows!M28 -> 0.0055401662 | D28: =C28*Total_Projection_26_31!D3 -> 2.6816932e+08 | E28: =C28*Total_Projection_26_31!E3 -> 2.8560033e+08 | F28: =C28*Total_Projection_26_31!F3 -> 3.0273635e+08 | G28: =C28*Total_Projection_26_31!G3 -> 3.1938685e+08 | H28: =C28*Total_Projection_26_31!H3 -> 3.3535619e+08 | I28: =C28*Total_Projection_26_31!I3 -> 0.00035974351 | J28: =C28*Total_Projection_26_31!D2 -> 2.5347763e+08 | K28: =C28*Total_Projection_26_31!E2 -> 2.6361674e+08 | L28: =C28*Total_Projection_26_31!F2 -> 2.7284332e+08 | M28: =C28*Total_Projection_26_31!G2 -> 2.8102862e+08 | N28: =C28*Total_Projection_26_31!H2 -> 2.8945948e+08 | O28: =C28*Total_Projection_26_31!I2 -> 0.00021678138 | P28: =C28*Total_Projection_26_31!D4 -> 2.8325762e+08 | Q28: =C28*Total_Projection_26_31!E4 -> 3.087508e+08 | R28: =C28*Total_Projection_26_31!F4 -> 3.3345087e+08 | S28: =C28*Total_Projection_26_31!G4 -> 3.5679243e+08 | T28: =C28*Total_Projection_26_31!H4 -> 3.7998394e+08 | U28: =C28*Total_Projection_26_31!I4 -> 0.00048388311
A29: =Reconciled_Country_Flows!A29 -> South Korea | B29: =Reconciled_Country_Flows!B29 -> KOR | C29: =Reconciled_Country_Flows!M29 -> 0.0041551247 | D29: =C29*Total_Projection_26_31!D3 -> 2.0112699e+08 | E29: =C29*Total_Projection_26_31!E3 -> 2.1420025e+08 | F29: =C29*Total_Projection_26_31!F3 -> 2.2705226e+08 | G29: =C29*Total_Projection_26_31!G3 -> 2.3954013e+08 | H29: =C29*Total_Projection_26_31!H3 -> 2.5151714e+08 | I29: =C29*Total_Projection_26_31!I3 -> 0.00026980764 | J29: =C29*Total_Projection_26_31!D2 -> 1.9010822e+08 | K29: =C29*Total_Projection_26_31!E2 -> 1.9771255e+08 | L29: =C29*Total_Projection_26_31!F2 -> 2.0463249e+08 | M29: =C29*Total_Projection_26_31!G2 -> 2.1077147e+08 | N29: =C29*Total_Projection_26_31!H2 -> 2.1709461e+08 | O29: =C29*Total_Projection_26_31!I2 -> 0.00016258603 | P29: =C29*Total_Projection_26_31!D4 -> 2.1244321e+08 | Q29: =C29*Total_Projection_26_31!E4 -> 2.315631e+08 | R29: =C29*Total_Projection_26_31!F4 -> 2.5008815e+08 | S29: =C29*Total_Projection_26_31!G4 -> 2.6759432e+08 | T29: =C29*Total_Projection_26_31!H4 -> 2.8498795e+08 | U29: =C29*Total_Projection_26_31!I4 -> 0.00036291233
A30: =Reconciled_Country_Flows!A30 -> Singapore | B30: =Reconciled_Country_Flows!B30 -> SGP | C30: =Reconciled_Country_Flows!M30 -> 0.0055401662 | D30: =C30*Total_Projection_26_31!D3 -> 2.6816932e+08 | E30: =C30*Total_Projection_26_31!E3 -> 2.8560033e+08 | F30: =C30*Total_Projection_26_31!F3 -> 3.0273635e+08 | G30: =C30*Total_Projection_26_31!G3 -> 3.1938685e+08 | H30: =C30*Total_Projection_26_31!H3 -> 3.3535619e+08 | I30: =C30*Total_Projection_26_31!I3 -> 0.00035974351 | J30: =C30*Total_Projection_26_31!D2 -> 2.5347763e+08 | K30: =C30*Total_Projection_26_31!E2 -> 2.6361674e+08 | L30: =C30*Total_Projection_26_31!F2 -> 2.7284332e+08 | M30: =C30*Total_Projection_26_31!G2 -> 2.8102862e+08 | N30: =C30*Total_Projection_26_31!H2 -> 2.8945948e+08 | O30: =C30*Total_Projection_26_31!I2 -> 0.00021678138 | P30: =C30*Total_Projection_26_31!D4 -> 2.8325762e+08 | Q30: =C30*Total_Projection_26_31!E4 -> 3.087508e+08 | R30: =C30*Total_Projection_26_31!F4 -> 3.3345087e+08 | S30: =C30*Total_Projection_26_31!G4 -> 3.5679243e+08 | T30: =C30*Total_Projection_26_31!H4 -> 3.7998394e+08 | U30: =C30*Total_Projection_26_31!I4 -> 0.00048388311
A31: =Reconciled_Country_Flows!A31 -> Malaysia | B31: =Reconciled_Country_Flows!B31 -> MYS | C31: =Reconciled_Country_Flows!M31 -> 0.0055401662 | D31: =C31*Total_Projection_26_31!D3 -> 2.6816932e+08 | E31: =C31*Total_Projection_26_31!E3 -> 2.8560033e+08 | F31: =C31*Total_Projection_26_31!F3 -> 3.0273635e+08 | G31: =C31*Total_Projection_26_31!G3 -> 3.1938685e+08 | H31: =C31*Total_Projection_26_31!H3 -> 3.3535619e+08 | I31: =C31*Total_Projection_26_31!I3 -> 0.00035974351 | J31: =C31*Total_Projection_26_31!D2 -> 2.5347763e+08 | K31: =C31*Total_Projection_26_31!E2 -> 2.6361674e+08 | L31: =C31*Total_Projection_26_31!F2 -> 2.7284332e+08 | M31: =C31*Total_Projection_26_31!G2 -> 2.8102862e+08 | N31: =C31*Total_Projection_26_31!H2 -> 2.8945948e+08 | O31: =C31*Total_Projection_26_31!I2 -> 0.00021678138 | P31: =C31*Total_Projection_26_31!D4 -> 2.8325762e+08 | Q31: =C31*Total_Projection_26_31!E4 -> 3.087508e+08 | R31: =C31*Total_Projection_26_31!F4 -> 3.3345087e+08 | S31: =C31*Total_Projection_26_31!G4 -> 3.5679243e+08 | T31: =C31*Total_Projection_26_31!H4 -> 3.7998394e+08 | U31: =C31*Total_Projection_26_31!I4 -> 0.00048388311
A32: =Reconciled_Country_Flows!A32 -> Thailand | B32: =Reconciled_Country_Flows!B32 -> THA | C32: =Reconciled_Country_Flows!M32 -> 0.0027700831 | D32: =C32*Total_Projection_26_31!D3 -> 1.3408466e+08 | E32: =C32*Total_Projection_26_31!E3 -> 1.4280016e+08 | F32: =C32*Total_Projection_26_31!F3 -> 1.5136817e+08 | G32: =C32*Total_Projection_26_31!G3 -> 1.5969342e+08 | H32: =C32*Total_Projection_26_31!H3 -> 1.6767809e+08 | I32: =C32*Total_Projection_26_31!I3 -> 0.00017987176 | J32: =C32*Total_Projection_26_31!D2 -> 1.2673882e+08 | K32: =C32*Total_Projection_26_31!E2 -> 1.3180837e+08 | L32: =C32*Total_Projection_26_31!F2 -> 1.3642166e+08 | M32: =C32*Total_Projection_26_31!G2 -> 1.4051431e+08 | N32: =C32*Total_Projection_26_31!H2 -> 1.4472974e+08 | O32: =C32*Total_Projection_26_31!I2 -> 0.00010839069 | P32: =C32*Total_Projection_26_31!D4 -> 1.4162881e+08 | Q32: =C32*Total_Projection_26_31!E4 -> 1.543754e+08 | R32: =C32*Total_Projection_26_31!F4 -> 1.6672543e+08 | S32: =C32*Total_Projection_26_31!G4 -> 1.7839621e+08 | T32: =C32*Total_Projection_26_31!H4 -> 1.8999197e+08 | U32: =C32*Total_Projection_26_31!I4 -> 0.00024194155
A33: =Reconciled_Country_Flows!A33 -> China | B33: =Reconciled_Country_Flows!B33 -> CHN | C33: =Reconciled_Country_Flows!M33 -> 0.0041551247 | D33: =C33*Total_Projection_26_31!D3 -> 2.0112699e+08 | E33: =C33*Total_Projection_26_31!E3 -> 2.1420025e+08 | F33: =C33*Total_Projection_26_31!F3 -> 2.2705226e+08 | G33: =C33*Total_Projection_26_31!G3 -> 2.3954013e+08 | H33: =C33*Total_Projection_26_31!H3 -> 2.5151714e+08 | I33: =C33*Total_Projection_26_31!I3 -> 0.00026980764 | J33: =C33*Total_Projection_26_31!D2 -> 1.9010822e+08 | K33: =C33*Total_Projection_26_31!E2 -> 1.9771255e+08 | L33: =C33*Total_Projection_26_31!F2 -> 2.0463249e+08 | M33: =C33*Total_Projection_26_31!G2 -> 2.1077147e+08 | N33: =C33*Total_Projection_26_31!H2 -> 2.1709461e+08 | O33: =C33*Total_Projection_26_31!I2 -> 0.00016258603 | P33: =C33*Total_Projection_26_31!D4 -> 2.1244321e+08 | Q33: =C33*Total_Projection_26_31!E4 -> 2.315631e+08 | R33: =C33*Total_Projection_26_31!F4 -> 2.5008815e+08 | S33: =C33*Total_Projection_26_31!G4 -> 2.6759432e+08 | T33: =C33*Total_Projection_26_31!H4 -> 2.8498795e+08 | U33: =C33*Total_Projection_26_31!I4 -> 0.00036291233
A34: =Reconciled_Country_Flows!A34 -> India | B34: =Reconciled_Country_Flows!B34 -> IND | C34: =Reconciled_Country_Flows!M34 -> 0.0069252078 | D34: =C34*Total_Projection_26_31!D3 -> 3.3521165e+08 | E34: =C34*Total_Projection_26_31!E3 -> 3.5700041e+08 | F34: =C34*Total_Projection_26_31!F3 -> 3.7842043e+08 | G34: =C34*Total_Projection_26_31!G3 -> 3.9923356e+08 | H34: =C34*Total_Projection_26_31!H3 -> 4.1919524e+08 | I34: =C34*Total_Projection_26_31!I3 -> 0.00044967939 | J34: =C34*Total_Projection_26_31!D2 -> 3.1684704e+08 | K34: =C34*Total_Projection_26_31!E2 -> 3.2952092e+08 | L34: =C34*Total_Projection_26_31!F2 -> 3.4105415e+08 | M34: =C34*Total_Projection_26_31!G2 -> 3.5128578e+08 | N34: =C34*Total_Projection_26_31!H2 -> 3.6182435e+08 | O34: =C34*Total_Projection_26_31!I2 -> 0.00027097672 | P34: =C34*Total_Projection_26_31!D4 -> 3.5407202e+08 | Q34: =C34*Total_Projection_26_31!E4 -> 3.859385e+08 | R34: =C34*Total_Projection_26_31!F4 -> 4.1681358e+08 | S34: =C34*Total_Projection_26_31!G4 -> 4.4599054e+08 | T34: =C34*Total_Projection_26_31!H4 -> 4.7497992e+08 | U34: =C34*Total_Projection_26_31!I4 -> 0.00060485388
A35: =Reconciled_Country_Flows!A35 -> Pakistan | B35: =Reconciled_Country_Flows!B35 -> PAK | C35: =Reconciled_Country_Flows!M35 -> 0.0041551247 | D35: =C35*Total_Projection_26_31!D3 -> 2.0112699e+08 | E35: =C35*Total_Projection_26_31!E3 -> 2.1420025e+08 | F35: =C35*Total_Projection_26_31!F3 -> 2.2705226e+08 | G35: =C35*Total_Projection_26_31!G3 -> 2.3954013e+08 | H35: =C35*Total_Projection_26_31!H3 -> 2.5151714e+08 | I35: =C35*Total_Projection_26_31!I3 -> 0.00026980764 | J35: =C35*Total_Projection_26_31!D2 -> 1.9010822e+08 | K35: =C35*Total_Projection_26_31!E2 -> 1.9771255e+08 | L35: =C35*Total_Projection_26_31!F2 -> 2.0463249e+08 | M35: =C35*Total_Projection_26_31!G2 -> 2.1077147e+08 | N35: =C35*Total_Projection_26_31!H2 -> 2.1709461e+08 | O35: =C35*Total_Projection_26_31!I2 -> 0.00016258603 | P35: =C35*Total_Projection_26_31!D4 -> 2.1244321e+08 | Q35: =C35*Total_Projection_26_31!E4 -> 2.315631e+08 | R35: =C35*Total_Projection_26_31!F4 -> 2.5008815e+08 | S35: =C35*Total_Projection_26_31!G4 -> 2.6759432e+08 | T35: =C35*Total_Projection_26_31!H4 -> 2.8498795e+08 | U35: =C35*Total_Projection_26_31!I4 -> 0.00036291233
A36: =Reconciled_Country_Flows!A36 -> Bangladesh | B36: =Reconciled_Country_Flows!B36 -> BGD | C36: =Reconciled_Country_Flows!M36 -> 0.0027700831 | D36: =C36*Total_Projection_26_31!D3 -> 1.3408466e+08 | E36: =C36*Total_Projection_26_31!E3 -> 1.4280016e+08 | F36: =C36*Total_Projection_26_31!F3 -> 1.5136817e+08 | G36: =C36*Total_Projection_26_31!G3 -> 1.5969342e+08 | H36: =C36*Total_Projection_26_31!H3 -> 1.6767809e+08 | I36: =C36*Total_Projection_26_31!I3 -> 0.00017987176 | J36: =C36*Total_Projection_26_31!D2 -> 1.2673882e+08 | K36: =C36*Total_Projection_26_31!E2 -> 1.3180837e+08 | L36: =C36*Total_Projection_26_31!F2 -> 1.3642166e+08 | M36: =C36*Total_Projection_26_31!G2 -> 1.4051431e+08 | N36: =C36*Total_Projection_26_31!H2 -> 1.4472974e+08 | O36: =C36*Total_Projection_26_31!I2 -> 0.00010839069 | P36: =C36*Total_Projection_26_31!D4 -> 1.4162881e+08 | Q36: =C36*Total_Projection_26_31!E4 -> 1.543754e+08 | R36: =C36*Total_Projection_26_31!F4 -> 1.6672543e+08 | S36: =C36*Total_Projection_26_31!G4 -> 1.7839621e+08 | T36: =C36*Total_Projection_26_31!H4 -> 1.8999197e+08 | U36: =C36*Total_Projection_26_31!I4 -> 0.00024194155
A37: =Reconciled_Country_Flows!A37 -> Turkey | B37: =Reconciled_Country_Flows!B37 -> TUR | C37: =Reconciled_Country_Flows!M37 -> 0.0055401662 | D37: =C37*Total_Projection_26_31!D3 -> 2.6816932e+08 | E37: =C37*Total_Projection_26_31!E3 -> 2.8560033e+08 | F37: =C37*Total_Projection_26_31!F3 -> 3.0273635e+08 | G37: =C37*Total_Projection_26_31!G3 -> 3.1938685e+08 | H37: =C37*Total_Projection_26_31!H3 -> 3.3535619e+08 | I37: =C37*Total_Projection_26_31!I3 -> 0.00035974351 | J37: =C37*Total_Projection_26_31!D2 -> 2.5347763e+08 | K37: =C37*Total_Projection_26_31!E2 -> 2.6361674e+08 | L37: =C37*Total_Projection_26_31!F2 -> 2.7284332e+08 | M37: =C37*Total_Projection_26_31!G2 -> 2.8102862e+08 | N37: =C37*Total_Projection_26_31!H2 -> 2.8945948e+08 | O37: =C37*Total_Projection_26_31!I2 -> 0.00021678138 | P37: =C37*Total_Projection_26_31!D4 -> 2.8325762e+08 | Q37: =C37*Total_Projection_26_31!E4 -> 3.087508e+08 | R37: =C37*Total_Projection_26_31!F4 -> 3.3345087e+08 | S37: =C37*Total_Projection_26_31!G4 -> 3.5679243e+08 | T37: =C37*Total_Projection_26_31!H4 -> 3.7998394e+08 | U37: =C37*Total_Projection_26_31!I4 -> 0.00048388311
A38: =Reconciled_Country_Flows!A38 -> Libya | B38: =Reconciled_Country_Flows!B38 -> LBY | C38: =Reconciled_Country_Flows!M38 -> 0.0041551247 | D38: =C38*Total_Projection_26_31!D3 -> 2.0112699e+08 | E38: =C38*Total_Projection_26_31!E3 -> 2.1420025e+08 | F38: =C38*Total_Projection_26_31!F3 -> 2.2705226e+08 | G38: =C38*Total_Projection_26_31!G3 -> 2.3954013e+08 | H38: =C38*Total_Projection_26_31!H3 -> 2.5151714e+08 | I38: =C38*Total_Projection_26_31!I3 -> 0.00026980764 | J38: =C38*Total_Projection_26_31!D2 -> 1.9010822e+08 | K38: =C38*Total_Projection_26_31!E2 -> 1.9771255e+08 | L38: =C38*Total_Projection_26_31!F2 -> 2.0463249e+08 | M38: =C38*Total_Projection_26_31!G2 -> 2.1077147e+08 | N38: =C38*Total_Projection_26_31!H2 -> 2.1709461e+08 | O38: =C38*Total_Projection_26_31!I2 -> 0.00016258603 | P38: =C38*Total_Projection_26_31!D4 -> 2.1244321e+08 | Q38: =C38*Total_Projection_26_31!E4 -> 2.315631e+08 | R38: =C38*Total_Projection_26_31!F4 -> 2.5008815e+08 | S38: =C38*Total_Projection_26_31!G4 -> 2.6759432e+08 | T38: =C38*Total_Projection_26_31!H4 -> 2.8498795e+08 | U38: =C38*Total_Projection_26_31!I4 -> 0.00036291233
A39: =Reconciled_Country_Flows!A39 -> Algeria | B39: =Reconciled_Country_Flows!B39 -> DZA | C39: =Reconciled_Country_Flows!M39 -> 0.0027700831 | D39: =C39*Total_Projection_26_31!D3 -> 1.3408466e+08 | E39: =C39*Total_Projection_26_31!E3 -> 1.4280016e+08 | F39: =C39*Total_Projection_26_31!F3 -> 1.5136817e+08 | G39: =C39*Total_Projection_26_31!G3 -> 1.5969342e+08 | H39: =C39*Total_Projection_26_31!H3 -> 1.6767809e+08 | I39: =C39*Total_Projection_26_31!I3 -> 0.00017987176 | J39: =C39*Total_Projection_26_31!D2 -> 1.2673882e+08 | K39: =C39*Total_Projection_26_31!E2 -> 1.3180837e+08 | L39: =C39*Total_Projection_26_31!F2 -> 1.3642166e+08 | M39: =C39*Total_Projection_26_31!G2 -> 1.4051431e+08 | N39: =C39*Total_Projection_26_31!H2 -> 1.4472974e+08 | O39: =C39*Total_Projection_26_31!I2 -> 0.00010839069 | P39: =C39*Total_Projection_26_31!D4 -> 1.4162881e+08 | Q39: =C39*Total_Projection_26_31!E4 -> 1.543754e+08 | R39: =C39*Total_Projection_26_31!F4 -> 1.6672543e+08 | S39: =C39*Total_Projection_26_31!G4 -> 1.7839621e+08 | T39: =C39*Total_Projection_26_31!H4 -> 1.8999197e+08 | U39: =C39*Total_Projection_26_31!I4 -> 0.00024194155
A40: =Reconciled_Country_Flows!A40 -> Morocco | B40: =Reconciled_Country_Flows!B40 -> MAR | C40: =Reconciled_Country_Flows!M40 -> 0.0027700831 | D40: =C40*Total_Projection_26_31!D3 -> 1.3408466e+08 | E40: =C40*Total_Projection_26_31!E3 -> 1.4280016e+08 | F40: =C40*Total_Projection_26_31!F3 -> 1.5136817e+08 | G40: =C40*Total_Projection_26_31!G3 -> 1.5969342e+08 | H40: =C40*Total_Projection_26_31!H3 -> 1.6767809e+08 | I40: =C40*Total_Projection_26_31!I3 -> 0.00017987176 | J40: =C40*Total_Projection_26_31!D2 -> 1.2673882e+08 | K40: =C40*Total_Projection_26_31!E2 -> 1.3180837e+08 | L40: =C40*Total_Projection_26_31!F2 -> 1.3642166e+08 | M40: =C40*Total_Projection_26_31!G2 -> 1.4051431e+08 | N40: =C40*Total_Projection_26_31!H2 -> 1.4472974e+08 | O40: =C40*Total_Projection_26_31!I2 -> 0.00010839069 | P40: =C40*Total_Projection_26_31!D4 -> 1.4162881e+08 | Q40: =C40*Total_Projection_26_31!E4 -> 1.543754e+08 | R40: =C40*Total_Projection_26_31!F4 -> 1.6672543e+08 | S40: =C40*Total_Projection_26_31!G4 -> 1.7839621e+08 | T40: =C40*Total_Projection_26_31!H4 -> 1.8999197e+08 | U40: =C40*Total_Projection_26_31!I4 -> 0.00024194155
A41: =Reconciled_Country_Flows!A41 -> Tunisia | B41: =Reconciled_Country_Flows!B41 -> TUN | C41: =Reconciled_Country_Flows!M41 -> 0.0027700831 | D41: =C41*Total_Projection_26_31!D3 -> 1.3408466e+08 | E41: =C41*Total_Projection_26_31!E3 -> 1.4280016e+08 | F41: =C41*Total_Projection_26_31!F3 -> 1.5136817e+08 | G41: =C41*Total_Projection_26_31!G3 -> 1.5969342e+08 | H41: =C41*Total_Projection_26_31!H3 -> 1.6767809e+08 | I41: =C41*Total_Projection_26_31!I3 -> 0.00017987176 | J41: =C41*Total_Projection_26_31!D2 -> 1.2673882e+08 | K41: =C41*Total_Projection_26_31!E2 -> 1.3180837e+08 | L41: =C41*Total_Projection_26_31!F2 -> 1.3642166e+08 | M41: =C41*Total_Projection_26_31!G2 -> 1.4051431e+08 | N41: =C41*Total_Projection_26_31!H2 -> 1.4472974e+08 | O41: =C41*Total_Projection_26_31!I2 -> 0.00010839069 | P41: =C41*Total_Projection_26_31!D4 -> 1.4162881e+08 | Q41: =C41*Total_Projection_26_31!E4 -> 1.543754e+08 | R41: =C41*Total_Projection_26_31!F4 -> 1.6672543e+08 | S41: =C41*Total_Projection_26_31!G4 -> 1.7839621e+08 | T41: =C41*Total_Projection_26_31!H4 -> 1.8999197e+08 | U41: =C41*Total_Projection_26_31!I4 -> 0.00024194155
A42: =Reconciled_Country_Flows!A42 -> Iraq | B42: =Reconciled_Country_Flows!B42 -> IRQ | C42: =Reconciled_Country_Flows!M42 -> 0.0027700831 | D42: =C42*Total_Projection_26_31!D3 -> 1.3408466e+08 | E42: =C42*Total_Projection_26_31!E3 -> 1.4280016e+08 | F42: =C42*Total_Projection_26_31!F3 -> 1.5136817e+08 | G42: =C42*Total_Projection_26_31!G3 -> 1.5969342e+08 | H42: =C42*Total_Projection_26_31!H3 -> 1.6767809e+08 | I42: =C42*Total_Projection_26_31!I3 -> 0.00017987176 | J42: =C42*Total_Projection_26_31!D2 -> 1.2673882e+08 | K42: =C42*Total_Projection_26_31!E2 -> 1.3180837e+08 | L42: =C42*Total_Projection_26_31!F2 -> 1.3642166e+08 | M42: =C42*Total_Projection_26_31!G2 -> 1.4051431e+08 | N42: =C42*Total_Projection_26_31!H2 -> 1.4472974e+08 | O42: =C42*Total_Projection_26_31!I2 -> 0.00010839069 | P42: =C42*Total_Projection_26_31!D4 -> 1.4162881e+08 | Q42: =C42*Total_Projection_26_31!E4 -> 1.543754e+08 | R42: =C42*Total_Projection_26_31!F4 -> 1.6672543e+08 | S42: =C42*Total_Projection_26_31!G4 -> 1.7839621e+08 | T42: =C42*Total_Projection_26_31!H4 -> 1.8999197e+08 | U42: =C42*Total_Projection_26_31!I4 -> 0.00024194155
A43: =Reconciled_Country_Flows!A43 -> Lebanon | B43: =Reconciled_Country_Flows!B43 -> LBN | C43: =Reconciled_Country_Flows!M43 -> 0.0027700831 | D43: =C43*Total_Projection_26_31!D3 -> 1.3408466e+08 | E43: =C43*Total_Projection_26_31!E3 -> 1.4280016e+08 | F43: =C43*Total_Projection_26_31!F3 -> 1.5136817e+08 | G43: =C43*Total_Projection_26_31!G3 -> 1.5969342e+08 | H43: =C43*Total_Projection_26_31!H3 -> 1.6767809e+08 | I43: =C43*Total_Projection_26_31!I3 -> 0.00017987176 | J43: =C43*Total_Projection_26_31!D2 -> 1.2673882e+08 | K43: =C43*Total_Projection_26_31!E2 -> 1.3180837e+08 | L43: =C43*Total_Projection_26_31!F2 -> 1.3642166e+08 | M43: =C43*Total_Projection_26_31!G2 -> 1.4051431e+08 | N43: =C43*Total_Projection_26_31!H2 -> 1.4472974e+08 | O43: =C43*Total_Projection_26_31!I2 -> 0.00010839069 | P43: =C43*Total_Projection_26_31!D4 -> 1.4162881e+08 | Q43: =C43*Total_Projection_26_31!E4 -> 1.543754e+08 | R43: =C43*Total_Projection_26_31!F4 -> 1.6672543e+08 | S43: =C43*Total_Projection_26_31!G4 -> 1.7839621e+08 | T43: =C43*Total_Projection_26_31!H4 -> 1.8999197e+08 | U43: =C43*Total_Projection_26_31!I4 -> 0.00024194155
A44: =Reconciled_Country_Flows!A44 -> South Africa | B44: =Reconciled_Country_Flows!B44 -> ZAF | C44: =Reconciled_Country_Flows!M44 -> 0.0041551247 | D44: =C44*Total_Projection_26_31!D3 -> 2.0112699e+08 | E44: =C44*Total_Projection_26_31!E3 -> 2.1420025e+08 | F44: =C44*Total_Projection_26_31!F3 -> 2.2705226e+08 | G44: =C44*Total_Projection_26_31!G3 -> 2.3954013e+08 | H44: =C44*Total_Projection_26_31!H3 -> 2.5151714e+08 | I44: =C44*Total_Projection_26_31!I3 -> 0.00026980764 | J44: =C44*Total_Projection_26_31!D2 -> 1.9010822e+08 | K44: =C44*Total_Projection_26_31!E2 -> 1.9771255e+08 | L44: =C44*Total_Projection_26_31!F2 -> 2.0463249e+08 | M44: =C44*Total_Projection_26_31!G2 -> 2.1077147e+08 | N44: =C44*Total_Projection_26_31!H2 -> 2.1709461e+08 | O44: =C44*Total_Projection_26_31!I2 -> 0.00016258603 | P44: =C44*Total_Projection_26_31!D4 -> 2.1244321e+08 | Q44: =C44*Total_Projection_26_31!E4 -> 2.315631e+08 | R44: =C44*Total_Projection_26_31!F4 -> 2.5008815e+08 | S44: =C44*Total_Projection_26_31!G4 -> 2.6759432e+08 | T44: =C44*Total_Projection_26_31!H4 -> 2.8498795e+08 | U44: =C44*Total_Projection_26_31!I4 -> 0.00036291233
A45: =Reconciled_Country_Flows!A45 -> Nigeria | B45: =Reconciled_Country_Flows!B45 -> NGA | C45: =Reconciled_Country_Flows!M45 -> 0.0027700831 | D45: =C45*Total_Projection_26_31!D3 -> 1.3408466e+08 | E45: =C45*Total_Projection_26_31!E3 -> 1.4280016e+08 | F45: =C45*Total_Projection_26_31!F3 -> 1.5136817e+08 | G45: =C45*Total_Projection_26_31!G3 -> 1.5969342e+08 | H45: =C45*Total_Projection_26_31!H3 -> 1.6767809e+08 | I45: =C45*Total_Projection_26_31!I3 -> 0.00017987176 | J45: =C45*Total_Projection_26_31!D2 -> 1.2673882e+08 | K45: =C45*Total_Projection_26_31!E2 -> 1.3180837e+08 | L45: =C45*Total_Projection_26_31!F2 -> 1.3642166e+08 | M45: =C45*Total_Projection_26_31!G2 -> 1.4051431e+08 | N45: =C45*Total_Projection_26_31!H2 -> 1.4472974e+08 | O45: =C45*Total_Projection_26_31!I2 -> 0.00010839069 | P45: =C45*Total_Projection_26_31!D4 -> 1.4162881e+08 | Q45: =C45*Total_Projection_26_31!E4 -> 1.543754e+08 | R45: =C45*Total_Projection_26_31!F4 -> 1.6672543e+08 | S45: =C45*Total_Projection_26_31!G4 -> 1.7839621e+08 | T45: =C45*Total_Projection_26_31!H4 -> 1.8999197e+08 | U45: =C45*Total_Projection_26_31!I4 -> 0.00024194155
A46: =Reconciled_Country_Flows!A46 -> Kenya | B46: =Reconciled_Country_Flows!B46 -> KEN | C46: =Reconciled_Country_Flows!M46 -> 0.0027700831 | D46: =C46*Total_Projection_26_31!D3 -> 1.3408466e+08 | E46: =C46*Total_Projection_26_31!E3 -> 1.4280016e+08 | F46: =C46*Total_Projection_26_31!F3 -> 1.5136817e+08 | G46: =C46*Total_Projection_26_31!G3 -> 1.5969342e+08 | H46: =C46*Total_Projection_26_31!H3 -> 1.6767809e+08 | I46: =C46*Total_Projection_26_31!I3 -> 0.00017987176 | J46: =C46*Total_Projection_26_31!D2 -> 1.2673882e+08 | K46: =C46*Total_Projection_26_31!E2 -> 1.3180837e+08 | L46: =C46*Total_Projection_26_31!F2 -> 1.3642166e+08 | M46: =C46*Total_Projection_26_31!G2 -> 1.4051431e+08 | N46: =C46*Total_Projection_26_31!H2 -> 1.4472974e+08 | O46: =C46*Total_Projection_26_31!I2 -> 0.00010839069 | P46: =C46*Total_Projection_26_31!D4 -> 1.4162881e+08 | Q46: =C46*Total_Projection_26_31!E4 -> 1.543754e+08 | R46: =C46*Total_Projection_26_31!F4 -> 1.6672543e+08 | S46: =C46*Total_Projection_26_31!G4 -> 1.7839621e+08 | T46: =C46*Total_Projection_26_31!H4 -> 1.8999197e+08 | U46: =C46*Total_Projection_26_31!I4 -> 0.00024194155
A47: =Reconciled_Country_Flows!A47 -> Russia | B47: =Reconciled_Country_Flows!B47 -> RUS | C47: =Reconciled_Country_Flows!M47 -> 0.0027700831 | D47: =C47*Total_Projection_26_31!D3 -> 1.3408466e+08 | E47: =C47*Total_Projection_26_31!E3 -> 1.4280016e+08 | F47: =C47*Total_Projection_26_31!F3 -> 1.5136817e+08 | G47: =C47*Total_Projection_26_31!G3 -> 1.5969342e+08 | H47: =C47*Total_Projection_26_31!H3 -> 1.6767809e+08 | I47: =C47*Total_Projection_26_31!I3 -> 0.00017987176 | J47: =C47*Total_Projection_26_31!D2 -> 1.2673882e+08 | K47: =C47*Total_Projection_26_31!E2 -> 1.3180837e+08 | L47: =C47*Total_Projection_26_31!F2 -> 1.3642166e+08 | M47: =C47*Total_Projection_26_31!G2 -> 1.4051431e+08 | N47: =C47*Total_Projection_26_31!H2 -> 1.4472974e+08 | O47: =C47*Total_Projection_26_31!I2 -> 0.00010839069 | P47: =C47*Total_Projection_26_31!D4 -> 1.4162881e+08 | Q47: =C47*Total_Projection_26_31!E4 -> 1.543754e+08 | R47: =C47*Total_Projection_26_31!F4 -> 1.6672543e+08 | S47: =C47*Total_Projection_26_31!G4 -> 1.7839621e+08 | T47: =C47*Total_Projection_26_31!H4 -> 1.8999197e+08 | U47: =C47*Total_Projection_26_31!I4 -> 0.00024194155
A48: =Reconciled_Country_Flows!A48 -> Poland | B48: =Reconciled_Country_Flows!B48 -> POL | C48: =Reconciled_Country_Flows!M48 -> 0.0027700831 | D48: =C48*Total_Projection_26_31!D3 -> 1.3408466e+08 | E48: =C48*Total_Projection_26_31!E3 -> 1.4280016e+08 | F48: =C48*Total_Projection_26_31!F3 -> 1.5136817e+08 | G48: =C48*Total_Projection_26_31!G3 -> 1.5969342e+08 | H48: =C48*Total_Projection_26_31!H3 -> 1.6767809e+08 | I48: =C48*Total_Projection_26_31!I3 -> 0.00017987176 | J48: =C48*Total_Projection_26_31!D2 -> 1.2673882e+08 | K48: =C48*Total_Projection_26_31!E2 -> 1.3180837e+08 | L48: =C48*Total_Projection_26_31!F2 -> 1.3642166e+08 | M48: =C48*Total_Projection_26_31!G2 -> 1.4051431e+08 | N48: =C48*Total_Projection_26_31!H2 -> 1.4472974e+08 | O48: =C48*Total_Projection_26_31!I2 -> 0.00010839069 | P48: =C48*Total_Projection_26_31!D4 -> 1.4162881e+08 | Q48: =C48*Total_Projection_26_31!E4 -> 1.543754e+08 | R48: =C48*Total_Projection_26_31!F4 -> 1.6672543e+08 | S48: =C48*Total_Projection_26_31!G4 -> 1.7839621e+08 | T48: =C48*Total_Projection_26_31!H4 -> 1.8999197e+08 | U48: =C48*Total_Projection_26_31!I4 -> 0.00024194155
A49: =Reconciled_Country_Flows!A49 -> Czech Republic | B49: =Reconciled_Country_Flows!B49 -> CZE | C49: =Reconciled_Country_Flows!M49 -> 0.0013850416 | D49: =C49*Total_Projection_26_31!D3 -> 67042330 | E49: =C49*Total_Projection_26_31!E3 -> 71400082 | F49: =C49*Total_Projection_26_31!F3 -> 75684087 | G49: =C49*Total_Projection_26_31!G3 -> 79846711 | H49: =C49*Total_Projection_26_31!H3 -> 83839047 | I49: =C49*Total_Projection_26_31!I3 -> 8.9935879e-05 | J49: =C49*Total_Projection_26_31!D2 -> 63369408 | K49: =C49*Total_Projection_26_31!E2 -> 65904184 | L49: =C49*Total_Projection_26_31!F2 -> 68210831 | M49: =C49*Total_Projection_26_31!G2 -> 70257156 | N49: =C49*Total_Projection_26_31!H2 -> 72364870 | O49: =C49*Total_Projection_26_31!I2 -> 5.4195344e-05 | P49: =C49*Total_Projection_26_31!D4 -> 70814404 | Q49: =C49*Total_Projection_26_31!E4 -> 77187701 | R49: =C49*Total_Projection_26_31!F4 -> 83362717 | S49: =C49*Total_Projection_26_31!G4 -> 89198107 | T49: =C49*Total_Projection_26_31!H4 -> 94995984 | U49: =C49*Total_Projection_26_31!I4 -> 0.00012097078
A50: =Reconciled_Country_Flows!A50 -> Romania | B50: =Reconciled_Country_Flows!B50 -> ROU | C50: =Reconciled_Country_Flows!M50 -> 0.0013850416 | D50: =C50*Total_Projection_26_31!D3 -> 67042330 | E50: =C50*Total_Projection_26_31!E3 -> 71400082 | F50: =C50*Total_Projection_26_31!F3 -> 75684087 | G50: =C50*Total_Projection_26_31!G3 -> 79846711 | H50: =C50*Total_Projection_26_31!H3 -> 83839047 | I50: =C50*Total_Projection_26_31!I3 -> 8.9935879e-05 | J50: =C50*Total_Projection_26_31!D2 -> 63369408 | K50: =C50*Total_Projection_26_31!E2 -> 65904184 | L50: =C50*Total_Projection_26_31!F2 -> 68210831 | M50: =C50*Total_Projection_26_31!G2 -> 70257156 | N50: =C50*Total_Projection_26_31!H2 -> 72364870 | O50: =C50*Total_Projection_26_31!I2 -> 5.4195344e-05 | P50: =C50*Total_Projection_26_31!D4 -> 70814404 | Q50: =C50*Total_Projection_26_31!E4 -> 77187701 | R50: =C50*Total_Projection_26_31!F4 -> 83362717 | S50: =C50*Total_Projection_26_31!G4 -> 89198107 | T50: =C50*Total_Projection_26_31!H4 -> 94995984 | U50: =C50*Total_Projection_26_31!I4 -> 0.00012097078
A51: =Reconciled_Country_Flows!A51 -> Ukraine | B51: =Reconciled_Country_Flows!B51 -> UKR | C51: =Reconciled_Country_Flows!M51 -> 0.0013850416 | D51: =C51*Total_Projection_26_31!D3 -> 67042330 | E51: =C51*Total_Projection_26_31!E3 -> 71400082 | F51: =C51*Total_Projection_26_31!F3 -> 75684087 | G51: =C51*Total_Projection_26_31!G3 -> 79846711 | H51: =C51*Total_Projection_26_31!H3 -> 83839047 | I51: =C51*Total_Projection_26_31!I3 -> 8.9935879e-05 | J51: =C51*Total_Projection_26_31!D2 -> 63369408 | K51: =C51*Total_Projection_26_31!E2 -> 65904184 | L51: =C51*Total_Projection_26_31!F2 -> 68210831 | M51: =C51*Total_Projection_26_31!G2 -> 70257156 | N51: =C51*Total_Projection_26_31!H2 -> 72364870 | O51: =C51*Total_Projection_26_31!I2 -> 5.4195344e-05 | P51: =C51*Total_Projection_26_31!D4 -> 70814404 | Q51: =C51*Total_Projection_26_31!E4 -> 77187701 | R51: =C51*Total_Projection_26_31!F4 -> 83362717 | S51: =C51*Total_Projection_26_31!G4 -> 89198107 | T51: =C51*Total_Projection_26_31!H4 -> 94995984 | U51: =C51*Total_Projection_26_31!I4 -> 0.00012097078
A52: =Reconciled_Country_Flows!A52 -> Brazil | B52: =Reconciled_Country_Flows!B52 -> BRA | C52: =Reconciled_Country_Flows!M52 -> 0.0027700831 | D52: =C52*Total_Projection_26_31!D3 -> 1.3408466e+08 | E52: =C52*Total_Projection_26_31!E3 -> 1.4280016e+08 | F52: =C52*Total_Projection_26_31!F3 -> 1.5136817e+08 | G52: =C52*Total_Projection_26_31!G3 -> 1.5969342e+08 | H52: =C52*Total_Projection_26_31!H3 -> 1.6767809e+08 | I52: =C52*Total_Projection_26_31!I3 -> 0.00017987176 | J52: =C52*Total_Projection_26_31!D2 -> 1.2673882e+08 | K52: =C52*Total_Projection_26_31!E2 -> 1.3180837e+08 | L52: =C52*Total_Projection_26_31!F2 -> 1.3642166e+08 | M52: =C52*Total_Projection_26_31!G2 -> 1.4051431e+08 | N52: =C52*Total_Projection_26_31!H2 -> 1.4472974e+08 | O52: =C52*Total_Projection_26_31!I2 -> 0.00010839069 | P52: =C52*Total_Projection_26_31!D4 -> 1.4162881e+08 | Q52: =C52*Total_Projection_26_31!E4 -> 1.543754e+08 | R52: =C52*Total_Projection_26_31!F4 -> 1.6672543e+08 | S52: =C52*Total_Projection_26_31!G4 -> 1.7839621e+08 | T52: =C52*Total_Projection_26_31!H4 -> 1.8999197e+08 | U52: =C52*Total_Projection_26_31!I4 -> 0.00024194155
A53: =Reconciled_Country_Flows!A53 -> Mexico | B53: =Reconciled_Country_Flows!B53 -> MEX | C53: =Reconciled_Country_Flows!M53 -> 0.0027700831 | D53: =C53*Total_Projection_26_31!D3 -> 1.3408466e+08 | E53: =C53*Total_Projection_26_31!E3 -> 1.4280016e+08 | F53: =C53*Total_Projection_26_31!F3 -> 1.5136817e+08 | G53: =C53*Total_Projection_26_31!G3 -> 1.5969342e+08 | H53: =C53*Total_Projection_26_31!H3 -> 1.6767809e+08 | I53: =C53*Total_Projection_26_31!I3 -> 0.00017987176 | J53: =C53*Total_Projection_26_31!D2 -> 1.2673882e+08 | K53: =C53*Total_Projection_26_31!E2 -> 1.3180837e+08 | L53: =C53*Total_Projection_26_31!F2 -> 1.3642166e+08 | M53: =C53*Total_Projection_26_31!G2 -> 1.4051431e+08 | N53: =C53*Total_Projection_26_31!H2 -> 1.4472974e+08 | O53: =C53*Total_Projection_26_31!I2 -> 0.00010839069 | P53: =C53*Total_Projection_26_31!D4 -> 1.4162881e+08 | Q53: =C53*Total_Projection_26_31!E4 -> 1.543754e+08 | R53: =C53*Total_Projection_26_31!F4 -> 1.6672543e+08 | S53: =C53*Total_Projection_26_31!G4 -> 1.7839621e+08 | T53: =C53*Total_Projection_26_31!H4 -> 1.8999197e+08 | U53: =C53*Total_Projection_26_31!I4 -> 0.00024194155
A54: =Reconciled_Country_Flows!A54 -> Chile | B54: =Reconciled_Country_Flows!B54 -> CHL | C54: =Reconciled_Country_Flows!M54 -> 0.0013850416 | D54: =C54*Total_Projection_26_31!D3 -> 67042330 | E54: =C54*Total_Projection_26_31!E3 -> 71400082 | F54: =C54*Total_Projection_26_31!F3 -> 75684087 | G54: =C54*Total_Projection_26_31!G3 -> 79846711 | H54: =C54*Total_Projection_26_31!H3 -> 83839047 | I54: =C54*Total_Projection_26_31!I3 -> 8.9935879e-05 | J54: =C54*Total_Projection_26_31!D2 -> 63369408 | K54: =C54*Total_Projection_26_31!E2 -> 65904184 | L54: =C54*Total_Projection_26_31!F2 -> 68210831 | M54: =C54*Total_Projection_26_31!G2 -> 70257156 | N54: =C54*Total_Projection_26_31!H2 -> 72364870 | O54: =C54*Total_Projection_26_31!I2 -> 5.4195344e-05 | P54: =C54*Total_Projection_26_31!D4 -> 70814404 | Q54: =C54*Total_Projection_26_31!E4 -> 77187701 | R54: =C54*Total_Projection_26_31!F4 -> 83362717 | S54: =C54*Total_Projection_26_31!G4 -> 89198107 | T54: =C54*Total_Projection_26_31!H4 -> 94995984 | U54: =C54*Total_Projection_26_31!I4 -> 0.00012097078
A55: =Reconciled_Country_Flows!A55 -> Other Countries (Residual) | B55: =Reconciled_Country_Flows!B55 -> OTHR | C55: =Reconciled_Country_Flows!M55 -> 0.024930748 | D55: =C55*Total_Projection_26_31!D3 -> 1.2067619e+09 | E55: =C55*Total_Projection_26_31!E3 -> 1.2852015e+09 | F55: =C55*Total_Projection_26_31!F3 -> 1.3623136e+09 | G55: =C55*Total_Projection_26_31!G3 -> 1.4372408e+09 | H55: =C55*Total_Projection_26_31!H3 -> 1.5091028e+09 | I55: =C55*Total_Projection_26_31!I3 -> 0.0016188458 | J55: =C55*Total_Projection_26_31!D2 -> 1.1406493e+09 | K55: =C55*Total_Projection_26_31!E2 -> 1.1862753e+09 | L55: =C55*Total_Projection_26_31!F2 -> 1.227795e+09 | M55: =C55*Total_Projection_26_31!G2 -> 1.2646288e+09 | N55: =C55*Total_Projection_26_31!H2 -> 1.3025677e+09 | O55: =C55*Total_Projection_26_31!I2 -> 0.0009755162 | P55: =C55*Total_Projection_26_31!D4 -> 1.2746593e+09 | Q55: =C55*Total_Projection_26_31!E4 -> 1.3893786e+09 | R55: =C55*Total_Projection_26_31!F4 -> 1.5005289e+09 | S55: =C55*Total_Projection_26_31!G4 -> 1.6055659e+09 | T55: =C55*Total_Projection_26_31!H4 -> 1.7099277e+09 | U55: =C55*Total_Projection_26_31!I4 -> 0.002177474
A56: TOTAL | B56: - | C56: =SUM(C2:C55) -> 1 | D56: =SUM(D2:D55) -> 4.8404562e+10 | E56: =SUM(E2:E55) -> 5.1550859e+10 | F56: =SUM(F2:F55) -> 5.4643911e+10 | G56: =SUM(G2:G55) -> 5.7649326e+10 | H56: =SUM(H2:H55) -> 6.0531792e+10 | I56: =SUM(I2:I55) -> 0.064933704 | J56: =SUM(J2:J55) -> 4.5752713e+10 | ... U56: =SUM(U2:U55) -> 0.087340901
A58: Notes:
A59: 1) Country projections use fixed 2025 reconciled shares as allocation basis.
A60: 2) Scenario totals are driven by Total_Projection_2026_2031 assumptions and then allocated by share.
A61: 3) Update shares in Reconciled_Country_Flows if corridor structure is expected to change materially.
